Package: AGDEX Version: 1.57.0 Command: /Library/Frameworks/R.framework/Resources/bin/R CMD check --install=check:AGDEX.install-out.txt --library=/Library/Frameworks/R.framework/Resources/library --no-vignettes --timings AGDEX_1.57.0.tar.gz StartedAt: 2025-07-07 19:02:17 -0400 (Mon, 07 Jul 2025) EndedAt: 2025-07-07 19:03:36 -0400 (Mon, 07 Jul 2025) EllapsedTime: 78.6 seconds RetCode: 0 Status: OK CheckDir: AGDEX.Rcheck Warnings: 0