Package: AGDEX Version: 1.57.0 Command: /Library/Frameworks/R.framework/Resources/bin/R CMD build --keep-empty-dirs --no-resave-data AGDEX StartedAt: 2025-07-04 15:55:06 -0400 (Fri, 04 Jul 2025) EndedAt: 2025-07-04 15:55:33 -0400 (Fri, 04 Jul 2025) EllapsedTime: 27.4 seconds RetCode: 0 Status: OK PackageFile: AGDEX_1.57.0.tar.gz PackageFileSize: 486.1 KiB