Package: AGDEX Version: 1.57.0 Command: /Library/Frameworks/R.framework/Resources/bin/R CMD INSTALL AGDEX StartedAt: 2025-10-10 15:12:00 -0400 (Fri, 10 Oct 2025) EndedAt: 2025-10-10 15:12:06 -0400 (Fri, 10 Oct 2025) EllapsedTime: 6.1 seconds RetCode: 0 Status: OK