Package: AGDEX Version: 1.57.0 Command: /Library/Frameworks/R.framework/Resources/bin/R CMD build --keep-empty-dirs --no-resave-data AGDEX StartedAt: 2025-10-10 15:38:03 -0400 (Fri, 10 Oct 2025) EndedAt: 2025-10-10 15:38:13 -0400 (Fri, 10 Oct 2025) EllapsedTime: 10.1 seconds RetCode: 0 Status: OK PackageFile: AGDEX_1.57.0.tar.gz PackageFileSize: 487.1 KiB