Package: ADAPT Version: 1.3.0 Command: F:\biocbuild\bbs-3.22-bioc\R\bin\R.exe CMD check --no-multiarch --install=check:ADAPT.install-out.txt --library=F:\biocbuild\bbs-3.22-bioc\R\library --no-vignettes --timings ADAPT_1.3.0.tar.gz StartedAt: 2025-07-14 23:11:28 -0400 (Mon, 14 Jul 2025) EndedAt: 2025-07-14 23:15:06 -0400 (Mon, 14 Jul 2025) EllapsedTime: 217.9 seconds RetCode: 0 Status: OK CheckDir: ADAPT.Rcheck Warnings: 0