Package: ADAPT Version: 1.3.0 Command: chmod a+r ADAPT -R && F:\biocbuild\bbs-3.22-bioc\R\bin\R.exe CMD build --keep-empty-dirs --no-resave-data ADAPT StartedAt: 2025-07-14 17:15:12 -0400 (Mon, 14 Jul 2025) EndedAt: 2025-07-14 17:18:21 -0400 (Mon, 14 Jul 2025) EllapsedTime: 188.4 seconds RetCode: 0 Status: OK PackageFile: ADAPT_1.3.0.tar.gz PackageFileSize: 361 KiB