Package: ADAPT Version: 1.3.0 Command: rm -rf ADAPT.buildbin-libdir && mkdir ADAPT.buildbin-libdir && F:\biocbuild\bbs-3.22-bioc\R\bin\R.exe CMD INSTALL --build --library=ADAPT.buildbin-libdir ADAPT_1.3.0.tar.gz StartedAt: 2025-07-15 08:21:48 -0400 (Tue, 15 Jul 2025) EndedAt: 2025-07-15 08:24:46 -0400 (Tue, 15 Jul 2025) EllapsedTime: 178.5 seconds RetCode: 0 Status: OK PackageFile: ADAPT_1.3.0.zip PackageFileSize: 1.019 MiB