Package: ACME Version: 2.65.0 Command: /home/biocbuild/R/R/bin/R CMD build --keep-empty-dirs --no-resave-data ACME StartedAt: 2025-07-24 22:22:02 -0000 (Thu, 24 Jul 2025) EndedAt: 2025-07-24 22:22:03 -0000 (Thu, 24 Jul 2025) EllapsedTime: 1.0 seconds RetCode: 1 Status: ERROR PackageFile: None PackageFileSize: NA