Package: ACME Version: 2.65.0 Command: F:\biocbuild\bbs-3.22-bioc\R\bin\R.exe CMD INSTALL ACME StartedAt: 2025-07-24 15:45:06 -0400 (Thu, 24 Jul 2025) EndedAt: 2025-07-24 15:45:08 -0400 (Thu, 24 Jul 2025) EllapsedTime: 2.4 seconds RetCode: 1 Status: ERROR