Package: ACME Version: 2.65.0 Command: chmod a+r ACME -R && F:\biocbuild\bbs-3.22-bioc\R\bin\R.exe CMD build --keep-empty-dirs --no-resave-data ACME StartedAt: 2025-07-24 17:25:56 -0400 (Thu, 24 Jul 2025) EndedAt: 2025-07-24 17:26:02 -0400 (Thu, 24 Jul 2025) EllapsedTime: 6.1 seconds RetCode: 1 Status: ERROR PackageFile: None PackageFileSize: NA