Package: ACE Version: 1.27.0 Command: /home/biocbuild/R/R/bin/R CMD check --install=check:ACE.install-out.txt --library=/home/biocbuild/R/R/site-library --no-vignettes --timings ACE_1.27.0.tar.gz StartedAt: 2025-07-01 04:24:08 -0000 (Tue, 01 Jul 2025) EndedAt: 2025-07-01 04:27:19 -0000 (Tue, 01 Jul 2025) EllapsedTime: 191.3 seconds RetCode: 0 Status: OK CheckDir: ACE.Rcheck Warnings: 0