Package: ACE Version: 1.27.0 Command: /home/biocbuild/R/R/bin/R CMD build --keep-empty-dirs --no-resave-data ACE StartedAt: 2025-06-30 21:35:24 -0000 (Mon, 30 Jun 2025) EndedAt: 2025-06-30 21:36:41 -0000 (Mon, 30 Jun 2025) EllapsedTime: 77.1 seconds RetCode: 0 Status: OK PackageFile: ACE_1.27.0.tar.gz PackageFileSize: 1.289 MiB