Package: ACE Version: 1.27.0 Command: rm -rf ACE.buildbin-libdir && mkdir ACE.buildbin-libdir && F:\biocbuild\bbs-3.22-bioc\R\bin\R.exe CMD INSTALL --build --library=ACE.buildbin-libdir ACE_1.27.0.tar.gz StartedAt: 2025-07-21 08:28:38 -0400 (Mon, 21 Jul 2025) EndedAt: 2025-07-21 08:29:18 -0400 (Mon, 21 Jul 2025) EllapsedTime: 39.8 seconds RetCode: 0 Status: OK PackageFile: ACE_1.27.0.zip PackageFileSize: 993.1 KiB