Package: ACE Version: 1.27.0 Command: /Library/Frameworks/R.framework/Resources/bin/R CMD INSTALL ACE StartedAt: 2025-07-14 15:11:03 -0400 (Mon, 14 Jul 2025) EndedAt: 2025-07-14 15:11:10 -0400 (Mon, 14 Jul 2025) EllapsedTime: 7.2 seconds RetCode: 0 Status: OK