Package: ACE Version: 1.27.0 Command: /Library/Frameworks/R.framework/Resources/bin/R CMD build --keep-empty-dirs --no-resave-data ACE StartedAt: 2025-07-14 15:34:11 -0400 (Mon, 14 Jul 2025) EndedAt: 2025-07-14 15:34:31 -0400 (Mon, 14 Jul 2025) EllapsedTime: 20.3 seconds RetCode: 0 Status: OK PackageFile: ACE_1.27.0.tar.gz PackageFileSize: 2.633 MiB