Package: ACE Version: 1.27.0 Command: rm -rf ACE.buildbin-libdir && mkdir ACE.buildbin-libdir && /Users/biocbuild/BBS/utils/build-universal.sh ACE_1.27.0.tar.gz /Library/Frameworks/R.framework/Resources/bin/R ACE.buildbin-libdir StartedAt: 2025-07-14 22:09:53 -0400 (Mon, 14 Jul 2025) EndedAt: 2025-07-14 22:10:01 -0400 (Mon, 14 Jul 2025) EllapsedTime: 8.2 seconds RetCode: 0 Status: OK PackageFile: ACE_1.27.0.tgz PackageFileSize: 2.788 MiB