Package: ABSSeq Version: 1.63.0 Command: /home/biocbuild/R/R/bin/R CMD INSTALL ABSSeq StartedAt: 2025-07-14 20:12:01 -0000 (Mon, 14 Jul 2025) EndedAt: 2025-07-14 20:12:43 -0000 (Mon, 14 Jul 2025) EllapsedTime: 41.7 seconds RetCode: 0 Status: OK