Package: ABSSeq Version: 1.63.0 Command: F:\biocbuild\bbs-3.22-bioc\R\bin\R.exe CMD INSTALL ABSSeq StartedAt: 2025-07-16 15:24:41 -0400 (Wed, 16 Jul 2025) EndedAt: 2025-07-16 15:25:22 -0400 (Wed, 16 Jul 2025) EllapsedTime: 40.8 seconds RetCode: 0 Status: OK