Package: ABSSeq Version: 1.63.0 Command: F:\biocbuild\bbs-3.22-bioc\R\bin\R.exe CMD check --no-multiarch --install=check:ABSSeq.install-out.txt --library=F:\biocbuild\bbs-3.22-bioc\R\library --no-vignettes --timings ABSSeq_1.63.0.tar.gz StartedAt: 2025-07-17 23:07:14 -0400 (Thu, 17 Jul 2025) EndedAt: 2025-07-17 23:10:02 -0400 (Thu, 17 Jul 2025) EllapsedTime: 168.7 seconds RetCode: 0 Status: OK CheckDir: ABSSeq.Rcheck Warnings: 0