Package: ABSSeq Version: 1.63.0 Command: /home/biocbuild/bbs-3.22-bioc/R/bin/R CMD INSTALL ABSSeq StartedAt: 2025-07-14 15:03:20 -0400 (Mon, 14 Jul 2025) EndedAt: 2025-07-14 15:03:40 -0400 (Mon, 14 Jul 2025) EllapsedTime: 20.0 seconds RetCode: 0 Status: OK