Package: ABSSeq Version: 1.63.0 Command: /Library/Frameworks/R.framework/Resources/bin/R CMD INSTALL ABSSeq StartedAt: 2025-07-15 15:17:47 -0400 (Tue, 15 Jul 2025) EndedAt: 2025-07-15 15:18:23 -0400 (Tue, 15 Jul 2025) EllapsedTime: 35.4 seconds RetCode: 0 Status: OK