Package: ABSSeq Version: 1.63.0 Command: /Library/Frameworks/R.framework/Resources/bin/R CMD INSTALL ABSSeq StartedAt: 2025-07-14 15:02:33 -0400 (Mon, 14 Jul 2025) EndedAt: 2025-07-14 15:02:42 -0400 (Mon, 14 Jul 2025) EllapsedTime: 9.2 seconds RetCode: 0 Status: OK