Package: ABSSeq Version: 1.63.0 Command: /Library/Frameworks/R.framework/Resources/bin/R CMD check --install=check:ABSSeq.install-out.txt --library=/Library/Frameworks/R.framework/Resources/library --no-vignettes --timings ABSSeq_1.63.0.tar.gz StartedAt: 2025-07-14 17:58:23 -0400 (Mon, 14 Jul 2025) EndedAt: 2025-07-14 17:59:15 -0400 (Mon, 14 Jul 2025) EllapsedTime: 51.6 seconds RetCode: 0 Status: OK CheckDir: ABSSeq.Rcheck Warnings: 0