Package: ABSSeq Version: 1.63.0 Command: rm -rf ABSSeq.buildbin-libdir && mkdir ABSSeq.buildbin-libdir && /Users/biocbuild/BBS/utils/build-universal.sh ABSSeq_1.63.0.tar.gz /Library/Frameworks/R.framework/Resources/bin/R ABSSeq.buildbin-libdir StartedAt: 2025-07-14 22:09:53 -0400 (Mon, 14 Jul 2025) EndedAt: 2025-07-14 22:09:56 -0400 (Mon, 14 Jul 2025) EllapsedTime: 3.1 seconds RetCode: 0 Status: OK PackageFile: ABSSeq_1.63.0.tgz PackageFileSize: 1.314 MiB