Welcome to mirrors.dotsrc.org

All our mirrors of open source software are available via http, https, ftp and an onion service. More information about our mirrors including statistics and contact information is available on our mirror info pages.

For information about dotsrc.org and our other services please go to our website.

Index of /bioconductor/checkResults/devel/bioc-LATEST/

File Name  ↓ File Size  ↓ Date  ↓ 
--
-2025-04-09 15:56:22
-2025-10-04 16:08:03
-2025-10-04 16:08:03
-2025-10-04 16:08:03
-2025-10-04 16:08:03
-2025-10-04 16:08:03
-2025-10-04 16:08:03
-2025-10-04 16:08:02
-2025-10-04 16:08:02
-2025-10-04 16:08:02
-2025-10-04 16:08:02
-2025-10-04 16:08:02
-2025-10-04 16:08:02
-2025-10-04 16:08:02
-2025-10-04 16:08:02
-2025-10-04 16:08:02
-2025-10-04 16:08:02
-2025-10-04 16:08:02
-2025-10-04 16:08:02
-2025-10-04 16:08:02
-2025-10-04 16:08:02
-2025-10-04 16:08:02
-2025-10-04 16:08:02
-2025-10-04 16:08:02
-2025-10-04 16:08:02
-2025-10-04 16:08:02
-2025-10-04 16:08:02
-2025-10-04 16:08:02
-2025-10-04 16:08:02
-2025-10-04 16:08:02
-2025-10-04 16:08:01
-2025-10-04 16:08:01
-2025-10-04 16:08:01
-2025-10-04 16:08:01
-2025-10-04 16:08:01
-2025-10-04 16:08:01
-2025-10-04 16:08:01
-2025-10-04 16:08:01
-2025-10-04 16:08:01
-2025-10-04 16:08:01
-2025-10-04 16:08:01
-2025-10-04 16:08:01
-2025-10-04 16:08:01
-2025-10-04 16:08:01
-2025-10-04 16:08:00
-2025-10-04 16:08:00
-2025-10-04 16:08:00
-2025-10-04 16:08:00
-2025-10-04 16:08:00
-2025-10-04 16:08:00
-2025-10-04 16:08:00
-2025-10-04 16:08:00
-2025-04-09 15:56:21
-2025-10-04 16:08:00
-2025-10-04 16:08:00
-2025-10-04 16:08:00
-2025-10-04 16:08:00
-2025-10-04 16:08:00
-2025-10-04 16:08:00
-2025-10-04 16:08:00
-2025-10-04 16:08:00
-2025-10-04 16:08:00
-2025-10-04 16:08:00
-2025-10-04 16:07:59
-2025-10-04 16:07:59
-2025-10-04 16:07:59
-2025-10-04 16:07:59
-2025-10-04 16:07:59
-2025-10-04 16:07:59
-2025-10-04 16:07:59
-2025-10-04 16:07:59
-2025-10-04 16:07:59
-2025-10-04 16:07:59
-2025-10-04 16:07:59
-2025-10-04 16:07:59
-2025-10-04 16:07:59
-2025-10-04 16:07:59
-2025-10-04 16:07:59
-2025-10-04 16:07:59
-2025-10-04 16:07:59
-2025-10-04 16:07:59
-2025-10-04 16:07:58
-2025-10-04 16:07:58
-2025-10-04 16:07:58
-2025-10-04 16:07:59
-2025-10-04 16:07:58
-2025-10-04 16:07:58
-2025-10-04 16:07:58
-2025-10-04 16:07:58
-2025-10-04 16:07:58
-2025-10-04 16:07:58
-2025-10-04 16:07:58
-2025-10-04 16:07:58
-2025-10-04 16:07:58
-2025-10-04 16:07:58
-2025-10-04 16:07:58
-2025-10-04 16:08:00
-2025-10-04 16:08:00
-2025-10-04 16:08:00
-2025-10-04 16:08:00
-2025-10-04 16:07:59
-2025-10-04 16:07:58
-2025-10-04 16:07:57
-2025-10-04 16:07:57
-2025-10-04 16:07:57
-2025-10-04 16:07:57
-2025-10-04 16:07:57
-2025-04-09 15:56:20
-2025-10-04 16:07:57
-2025-10-04 16:07:57
-2025-10-04 16:07:57
-2025-10-04 16:07:57
-2025-10-04 16:07:57
-2025-10-04 16:07:57
-2025-10-04 16:07:57
-2025-10-04 16:07:57
-2025-10-04 16:07:57
-2025-10-04 16:07:57
-2025-10-04 16:07:57
-2025-04-09 15:56:20
-2025-10-04 16:07:57
-2025-10-04 16:07:57
-2025-10-04 16:07:57
-2025-10-04 16:07:57
-2025-10-04 16:07:56
-2025-10-04 16:07:56
-2025-10-04 16:07:56
-2025-10-04 16:07:56
-2025-10-04 16:07:56
-2025-04-09 15:56:20
-2025-10-04 16:07:56
-2025-10-04 16:07:56
-2025-10-04 16:07:56
-2025-10-04 16:07:56
-2025-10-04 16:07:56
-2025-10-04 16:07:56
-2025-10-04 16:07:56
-2025-10-04 16:07:56
-2025-10-04 16:07:56
-2025-10-04 16:07:56
-2025-10-04 16:07:56
-2025-10-04 16:07:56
-2025-10-04 16:07:56
-2025-10-04 16:07:55
-2025-10-04 16:07:55
-2025-10-04 16:07:55
-2025-10-04 16:07:55
-2025-10-04 16:07:55
-2025-10-04 16:07:55
-2025-10-04 16:07:55
-2025-10-04 16:07:55
-2025-10-04 16:07:55
-2025-10-04 16:07:55
-2025-10-04 16:07:55
-2025-10-04 16:07:55
-2025-10-04 16:07:55
-2025-10-04 16:07:55
-2025-10-04 16:07:55
-2025-10-04 16:07:55
-2025-10-04 16:07:54
-2025-10-04 16:07:55
-2025-10-04 16:07:54
-2025-10-04 16:07:54
-2025-10-04 16:07:54
-2025-10-04 16:07:54
-2025-10-04 16:07:54
-2025-10-04 16:07:54
-2025-10-04 16:07:54
-2025-10-04 16:07:54
-2025-10-04 16:07:54
-2025-10-04 16:07:54
-2025-10-04 16:07:54
-2025-10-04 16:07:54
-2025-10-04 16:07:54
-2025-10-04 16:07:54
-2025-10-04 16:07:54
-2025-10-04 16:07:54
-2025-10-04 16:07:54
-2025-10-04 16:07:54
-2025-10-04 16:07:53
-2025-10-04 16:07:53
-2025-10-04 16:07:53
-2025-10-04 16:07:53
-2025-10-04 16:07:53
-2025-10-04 16:07:53
-2025-10-04 16:07:53
-2025-10-04 16:07:53
-2025-10-04 16:07:53
-2025-10-04 16:07:53
-2025-10-04 16:07:53
-2025-10-04 16:07:53
-2025-10-04 16:07:53
-2025-10-04 16:07:53
-2025-10-04 16:07:53
-2025-10-04 16:07:53
-2025-10-04 16:07:53
-2025-10-04 16:07:53
-2025-10-04 16:07:53
-2025-10-04 16:07:52
-2025-10-04 16:07:52
-2025-10-04 16:07:52
-2025-10-04 16:07:52
-2025-10-04 16:07:52
-2025-10-04 16:07:52
-2025-10-04 16:07:52
-2025-10-04 16:07:52
-2025-10-04 16:07:52
-2025-10-04 16:07:52
-2025-10-04 16:07:52
-2025-10-04 16:07:52
-2025-10-04 16:07:52
-2025-10-04 16:07:52
-2025-10-04 16:07:52
-2025-10-04 16:07:52
-2025-10-04 16:07:52
-2025-10-04 16:07:52
-2025-10-04 16:07:52
-2025-10-04 16:07:52
-2025-10-04 16:07:52
-2025-10-04 16:07:51
-2025-10-04 16:07:51
-2025-10-04 16:07:51
-2025-10-04 16:07:51
-2025-10-04 16:07:51
-2025-10-04 16:07:51
-2025-10-04 16:07:51
-2025-10-04 16:07:51
-2025-10-04 16:07:51
-2025-10-04 16:07:51
-2025-10-04 16:07:51
-2025-10-04 16:07:51
-2025-10-04 16:07:50
-2025-10-04 16:07:50
-2025-10-04 16:07:50
-2025-10-04 16:07:50
-2025-10-04 16:07:50
-2025-10-04 16:07:50
-2025-10-04 16:07:50
-2025-10-04 16:07:50
-2025-10-04 16:07:50
-2025-10-04 16:07:50
-2025-10-04 16:07:52
-2025-10-04 16:07:51
-2025-10-04 16:07:52
-2025-10-04 16:07:51
-2025-10-04 16:07:51
-2025-10-04 16:07:51
-2025-10-04 16:07:51
-2025-10-04 16:07:51
-2025-10-04 16:07:51
-2025-10-04 16:07:51
-2025-10-04 16:07:51
-2025-10-04 16:07:51
-2025-10-04 16:07:51
-2025-10-04 16:07:51
-2025-10-04 16:07:51
-2025-10-04 16:07:51
-2025-10-04 16:07:50
-2025-10-04 16:07:50
-2025-10-04 16:07:50
-2025-10-04 16:07:50
-2025-10-04 16:07:50
-2025-10-04 16:07:50
-2025-10-04 16:07:50
-2025-10-04 16:07:50
-2025-10-04 16:07:50
-2025-10-04 16:07:50
-2025-10-04 16:07:50
-2025-10-04 16:07:50
-2025-10-04 16:07:50
-2025-10-04 16:07:50
-2025-10-04 16:07:50
-2025-10-04 16:07:50
-2025-10-04 16:07:50
-2025-10-04 16:07:49
-2025-10-04 16:07:49
-2025-10-04 16:07:49
-2025-10-04 16:07:49
-2025-10-04 16:07:49
-2025-10-04 16:07:49
-2025-10-04 16:07:49
-2025-10-04 16:07:49
-2025-10-04 16:07:56
-2025-10-04 16:07:56
-2025-10-04 16:07:56
-2025-10-04 16:07:49
-2025-10-04 16:07:49
-2025-10-04 16:07:48
-2025-10-04 16:07:48
-2025-10-04 16:07:48
-2025-10-04 16:07:48
-2025-10-04 16:07:48
-2025-10-04 16:07:48
-2025-10-04 16:07:48
-2025-10-04 16:07:48
-2025-10-04 16:07:48
-2025-10-04 16:07:48
-2025-10-04 16:07:48
-2025-10-04 16:07:47
-2025-10-04 16:07:47
-2025-10-04 16:07:47
-2025-10-04 16:07:47
-2025-10-04 16:07:47
-2025-10-04 16:07:47
-2025-10-04 16:07:47
-2025-10-04 16:07:47
-2025-10-04 16:07:47
-2025-10-04 16:07:47
-2025-10-04 16:07:47
-2025-10-04 16:07:46
-2025-10-04 16:07:46
-2025-10-04 16:07:46
-2025-10-04 16:07:46
-2025-10-04 16:07:46
-2025-10-04 16:07:46
-2025-10-04 16:07:46
-2025-10-04 16:07:46
-2025-10-04 16:07:46
-2025-10-04 16:07:46
-2025-10-04 16:07:46
-2025-10-04 16:07:46
-2025-10-04 16:07:46
-2025-10-04 16:07:46
-2025-10-04 16:07:46
-2025-10-04 16:07:45
-2025-10-04 16:07:45
-2025-10-04 16:07:45
-2025-10-04 16:07:45
-2025-10-04 16:07:45
-2025-10-04 16:07:45
-2025-10-04 16:07:45
-2025-10-04 16:07:45
-2025-10-04 16:07:45
-2025-10-04 16:07:44
-2025-10-04 16:07:44
-2025-10-04 16:07:44
-2025-10-04 16:07:44
-2025-10-04 16:07:44
-2025-10-04 16:07:44
-2025-10-04 16:07:44
-2025-10-04 16:07:43
-2025-10-04 16:07:49
-2025-10-04 16:07:49
-2025-10-04 16:07:49
-2025-10-04 16:07:48
-2025-10-04 16:07:48
-2025-10-04 16:07:48
-2025-10-04 16:07:46
-2025-10-04 16:07:46
-2025-10-04 16:07:46
-2025-10-04 16:07:45
-2025-10-04 16:07:45
-2025-10-04 16:07:45
-2025-10-04 16:07:43
-2025-10-04 16:07:43
-2025-10-04 16:07:43
-2025-10-04 16:07:43
-2025-10-04 16:07:43
-2025-10-04 16:07:43
-2025-10-04 16:07:43
-2025-10-04 16:07:43
-2025-10-04 16:07:43
-2025-10-04 16:07:43
-2025-10-04 16:07:43
-2025-10-04 16:07:43
-2025-10-04 16:07:43
-2025-10-04 16:07:43
-2025-10-04 16:07:43
-2025-10-04 16:07:43
-2025-10-04 16:07:43
-2025-10-04 16:07:43
-2025-10-04 16:07:42
-2025-10-04 16:07:42
-2025-10-04 16:07:42
-2025-10-04 16:07:42
-2025-10-04 16:07:42
-2025-10-04 16:07:42
-2025-10-04 16:07:42
-2025-10-04 16:07:42
-2025-10-04 16:07:42
-2025-10-04 16:07:42
-2025-10-04 16:07:42
-2025-10-04 16:07:42
-2025-10-04 16:07:42
-2025-10-04 16:07:42
-2025-10-04 16:07:42
-2025-10-04 16:07:42
-2025-10-04 16:07:42
-2025-10-04 16:07:42
-2025-10-04 16:07:42
-2025-10-04 16:07:42
-2025-10-04 16:07:41
-2025-10-04 16:07:41
-2025-10-04 16:07:41
-2025-10-04 16:07:41
-2025-10-04 16:07:41
-2025-10-04 16:07:41
-2025-10-04 16:07:41
-2025-10-04 16:07:41
-2025-10-04 16:07:41
-2025-10-04 16:07:41
-2025-10-04 16:07:41
-2025-10-04 16:07:41
-2025-10-04 16:07:41
-2025-10-04 16:07:41
-2025-10-04 16:07:41
-2025-10-04 16:07:41
-2025-10-04 16:07:41
-2025-10-04 16:07:41
-2025-10-04 16:07:41
-2025-10-04 16:07:41
-2025-10-04 16:07:41
-2025-10-04 16:07:41
-2025-10-04 16:07:40
-2025-10-04 16:07:40
-2025-10-04 16:07:40
-2025-10-04 16:07:40
-2025-10-04 16:07:40
-2025-10-04 16:07:40
-2025-10-04 16:07:40
-2025-10-04 16:07:40
-2025-10-04 16:07:40
-2025-10-04 16:07:40
-2025-10-04 16:07:40
-2025-10-04 16:07:40
-2025-10-04 16:07:40
-2025-10-04 16:07:40
-2025-10-04 16:07:40
-2025-10-04 16:07:40
-2025-10-04 16:07:40
-2025-10-04 16:07:40
-2025-04-09 15:56:15
-2025-10-04 16:07:40
-2025-10-04 16:07:40
-2025-10-04 16:07:39
-2025-10-04 16:07:39
-2025-10-04 16:07:40
-2025-10-04 16:07:40
-2025-10-04 16:07:39
-2025-10-04 16:07:39
-2025-10-04 16:07:39
-2025-04-09 15:56:14
-2025-10-04 16:07:39
-2025-10-04 16:07:39
-2025-10-04 16:07:39
-2025-10-04 16:07:39
-2025-10-04 16:07:39
-2025-10-04 16:07:39
-2025-10-04 16:07:39
-2025-10-04 16:07:39
-2025-10-04 16:07:39
-2025-10-04 16:07:42
-2025-10-04 16:07:42
-2025-10-04 16:07:39
-2025-10-04 16:07:39
-2025-10-04 16:07:39
-2025-10-04 16:07:39
-2025-10-04 16:07:38
-2025-10-04 16:07:38
-2025-10-04 16:07:38
-2025-10-04 16:07:38
-2025-10-04 16:07:38
-2025-10-04 16:07:38
-2025-10-04 16:07:38
-2025-10-04 16:07:38
-2025-10-04 16:07:38
-2025-10-04 16:07:38
-2025-10-04 16:07:38
-2025-10-04 16:07:38
-2025-10-04 16:07:38
-2025-10-04 16:07:38
-2025-10-04 16:07:38
-2025-10-04 16:07:38
-2025-10-04 16:07:38
-2025-10-04 16:07:38
-2025-10-04 16:07:38
-2025-10-04 16:07:38
-2025-10-04 16:07:38
-2025-10-04 16:07:38
-2025-10-04 16:07:37
-2025-10-04 16:07:37
-2025-10-04 16:07:38
-2025-10-04 16:07:37
-2025-10-04 16:07:37
-2025-10-04 16:07:37
-2025-10-04 16:07:37
-2025-10-04 16:07:37
-2025-10-04 16:07:37
-2025-10-04 16:07:37
-2025-10-04 16:07:37
-2025-10-04 16:07:37
-2025-10-04 16:07:37
-2025-10-04 16:07:37
-2025-10-04 16:07:37
-2025-10-04 16:07:37
-2025-10-04 16:07:37
-2025-04-09 15:55:52
-2025-10-04 16:07:37
-2025-10-04 16:07:37
-2025-10-04 16:07:37
-2025-10-04 16:07:37
-2025-10-04 16:07:37
-2025-10-04 16:07:37
-2025-10-04 16:07:36
-2025-10-04 16:07:36
-2025-10-04 16:07:36
-2025-10-04 16:07:36
-2025-10-04 16:07:36
-2025-10-04 16:07:36
-2025-10-04 16:07:36
-2025-10-04 16:07:36
-2025-10-04 16:07:36
-2025-10-04 16:07:36
-2025-10-04 16:07:36
-2025-10-04 16:07:36
-2025-10-04 16:07:36
-2025-10-04 16:07:36
-2025-10-04 16:07:36
-2025-10-04 16:07:36
-2025-10-04 16:07:36
-2025-10-04 16:07:36
-2025-10-04 16:07:35
-2025-10-04 16:07:35
-2025-10-04 16:07:35
-2025-10-04 16:07:35
-2025-10-04 16:07:35
-2025-10-04 16:07:35
-2025-10-04 16:07:35
-2025-10-04 16:07:35
-2025-10-04 16:07:35
-2025-10-04 16:07:35
-2025-10-04 16:07:35
-2025-10-04 16:07:34
-2025-10-04 16:07:34
-2025-10-04 16:07:35
-2025-10-04 16:07:35
-2025-10-04 16:07:34
-2025-10-04 16:07:34
-2025-10-04 16:07:34
-2025-10-04 16:07:34
-2025-10-04 16:07:34
-2025-10-04 16:07:34
-2025-10-04 16:07:34
-2025-10-04 16:07:34
-2025-10-04 16:07:34
-2025-10-04 16:07:34
-2025-10-04 16:07:34
-2025-10-04 16:07:34
-2025-10-04 16:07:34
-2025-10-04 16:07:34
-2025-10-04 16:07:34
-2025-10-04 16:07:34
-2025-10-04 16:07:34
-2025-10-04 16:07:34
-2025-10-04 16:07:33
-2025-10-04 16:07:33
-2025-10-04 16:07:33
-2025-10-04 16:07:33
-2025-10-04 16:07:33
-2025-10-04 16:07:33
-2025-10-04 16:07:33
-2025-10-04 16:07:33
-2025-10-04 16:07:33
-2025-10-04 16:07:33
-2025-10-04 16:07:33
-2025-10-04 16:07:33
-2025-10-04 16:07:33
-2025-10-04 16:07:33
-2025-10-04 16:07:33
-2025-10-04 16:07:33
-2025-10-04 16:07:33
-2025-10-04 16:07:33
-2025-10-04 16:07:33
-2025-10-04 16:07:33
-2025-10-04 16:07:33
-2025-10-04 16:07:33
-2025-10-04 16:07:33
-2025-10-04 16:07:33
-2025-10-04 16:07:33
-2025-10-04 16:07:33
-2025-10-04 16:07:33
-2025-10-04 16:07:32
-2025-10-04 16:07:32
-2025-10-04 16:07:32
-2025-10-04 16:07:32
-2025-10-04 16:07:32
-2025-10-04 16:07:32
-2025-10-04 16:07:32
-2025-10-04 16:07:32
-2025-10-04 16:07:32
-2025-10-04 16:07:32
-2025-10-04 16:07:32
-2025-10-04 16:07:32
-2025-10-04 16:07:32
-2025-10-04 16:07:32
-2025-10-04 16:07:32
-2025-10-04 16:07:32
-2025-10-04 16:07:32
-2025-10-04 16:07:32
-2025-10-04 16:07:32
-2025-10-04 16:07:32
-2025-10-04 16:07:32
-2025-10-04 16:07:32
-2025-10-04 16:07:31
-2025-10-04 16:07:31
-2025-10-04 16:07:31
-2025-10-04 16:07:31
-2025-10-04 16:07:32
-2025-10-04 16:07:32
-2025-10-04 16:07:31
-2025-10-04 16:07:31
-2025-10-04 16:07:31
-2025-10-04 16:07:31
-2025-10-04 16:07:31
-2025-10-04 16:07:31
-2025-10-04 16:07:31
-2025-10-04 16:07:31
-2025-10-04 16:07:31
-2025-10-04 16:07:31
-2025-10-04 16:07:30
-2025-10-04 16:07:30
-2025-10-04 16:07:30
-2025-10-04 16:07:30
-2025-10-04 16:07:30
-2025-10-04 16:07:30
-2025-10-04 16:07:30
-2025-10-04 16:07:30
-2025-10-04 16:07:30
-2025-10-04 16:07:30
-2025-10-04 16:07:30
-2025-10-04 16:07:30
-2025-10-04 16:07:30
-2025-10-04 16:07:30
-2025-10-04 16:07:30
-2025-10-04 16:07:30
-2025-10-04 16:07:30
-2025-10-04 16:07:29
-2025-10-04 16:07:30
-2025-10-04 16:07:30
-2025-10-04 16:07:30
-2025-10-04 16:07:31
-2025-10-04 16:07:31
-2025-10-04 16:07:29
-2025-10-04 16:07:29
-2025-10-04 16:07:29
-2025-10-04 16:07:29
-2025-10-04 16:07:29
-2025-10-04 16:06:20
-2025-10-04 16:07:29
-2025-10-04 16:07:29
-2025-10-04 16:07:29
-2025-10-04 16:07:29
-2025-10-04 16:07:29
-2025-10-04 16:07:29
-2025-10-04 16:07:29
-2025-10-04 16:07:29
-2025-10-04 16:07:29
-2025-10-04 16:07:29
-2025-10-04 16:07:29
-2025-10-04 16:07:29
-2025-10-04 16:07:29
-2025-10-04 16:07:29
-2025-10-04 16:07:29
-2025-10-04 16:07:28
-2025-10-04 16:07:28
-2025-10-04 16:07:28
-2025-10-04 16:07:28
-2025-10-04 16:07:28
-2025-10-04 16:07:28
-2025-10-04 16:07:28
-2025-10-04 16:07:28
-2025-10-04 16:07:28
-2025-10-04 16:07:28
-2025-10-04 16:07:28
-2025-10-04 16:07:28
-2025-10-04 16:07:28
-2025-10-04 16:07:28
-2025-10-04 16:07:28
-2025-10-04 16:07:28
-2025-10-04 16:07:28
-2025-10-04 16:07:28
-2025-10-04 16:07:28
-2025-10-04 16:07:27
-2025-10-04 16:07:27
-2025-10-04 16:07:27
-2025-10-04 16:07:27
-2025-10-04 16:07:27
-2025-10-04 16:07:27
-2025-10-04 16:07:27
-2025-10-04 16:07:27
-2025-10-04 16:07:27
-2025-10-04 16:07:27
-2025-10-04 16:07:27
-2025-10-04 16:07:26
-2025-10-04 16:07:26
-2025-10-04 16:07:26
-2025-10-04 16:07:26
-2025-10-04 16:07:26
-2025-10-04 16:07:26
-2025-10-04 16:06:16
-2025-10-04 16:07:26
-2025-10-04 16:07:26
-2025-10-04 16:07:26
-2025-10-04 16:07:26
-2025-10-04 16:07:26
-2025-10-04 16:07:26
-2025-10-04 16:07:26
-2025-10-04 16:07:27
-2025-10-04 16:07:27
-2025-10-04 16:07:27
-2025-10-04 16:07:27
-2025-10-04 16:07:27
-2025-10-04 16:07:27
-2025-10-04 16:07:27
-2025-10-04 16:07:27
-2025-10-04 16:07:27
-2025-10-04 16:07:27
-2025-10-04 16:07:27
-2025-04-09 15:56:11
-2025-10-04 16:07:27
-2025-10-04 16:07:26
-2025-10-04 16:07:26
-2025-10-04 16:07:26
-2025-10-04 16:07:26
-2025-10-04 16:07:26
-2025-10-04 16:07:26
-2025-10-04 16:07:26
-2025-10-04 16:07:26
-2025-10-04 16:07:26
-2025-10-04 16:07:26
-2025-10-04 16:07:26
-2025-10-04 16:07:26
-2025-10-04 16:07:26
-2025-10-04 16:07:26
-2025-10-04 16:07:25
-2025-10-04 16:07:25
-2025-10-04 16:07:25
-2025-10-04 16:07:25
-2025-10-04 16:07:25
-2025-10-04 16:07:25
-2025-10-04 16:07:25
-2025-10-04 16:07:25
-2025-10-04 16:07:25
-2025-10-04 16:07:25
-2025-10-04 16:07:25
-2025-10-04 16:07:24
-2025-10-04 16:07:24
-2025-10-04 16:07:24
-2025-10-04 16:07:24
-2025-10-04 16:07:24
-2025-10-04 16:07:24
-2025-10-04 16:07:24
-2025-10-04 16:07:24
-2025-10-04 16:07:24
-2025-10-04 16:07:24
-2025-10-04 16:07:24
-2025-10-04 16:07:24
-2025-10-04 16:07:23
-2025-10-04 16:07:23
-2025-10-04 16:07:23
-2025-10-04 16:07:23
-2025-10-04 16:07:23
-2025-10-04 16:07:23
-2025-10-04 16:07:23
-2025-10-04 16:07:23
-2025-10-04 16:07:23
-2025-10-04 16:07:23
-2025-10-04 16:07:23
-2025-10-04 16:07:23
-2025-10-04 16:07:23
-2025-10-04 16:07:23
-2025-10-04 16:07:23
-2025-10-04 16:07:23
-2025-10-04 16:07:23
-2025-10-04 16:07:22
-2025-10-04 16:07:22
-2025-04-09 15:56:09
-2025-10-04 16:07:22
-2025-10-04 16:07:22
-2025-10-04 16:07:22
-2025-10-04 16:07:22
-2025-10-04 16:07:22
-2025-10-04 16:07:22
-2025-10-04 16:07:22
-2025-10-04 16:07:22
-2025-10-04 16:07:22
-2025-10-04 16:07:22
-2025-10-04 16:07:22
-2025-10-04 16:07:22
-2025-10-04 16:07:22
-2025-10-04 16:07:22
-2025-10-04 16:07:22
-2025-10-04 16:07:22
-2025-10-04 16:07:22
-2025-04-09 15:56:09
-2025-10-04 16:07:22
-2025-10-04 16:07:22
-2025-10-04 16:07:21
-2025-10-04 16:07:21
-2025-10-04 16:07:21
-2025-10-04 16:07:21
-2025-04-09 15:56:08
-2025-10-04 16:07:21
-2025-10-04 16:07:21
-2025-10-04 16:07:21
-2025-10-04 16:07:21
-2025-10-04 16:07:21
-2025-10-04 16:07:21
-2025-10-04 16:07:21
-2025-10-04 16:07:21
-2025-10-04 16:07:20
-2025-10-04 16:07:20
-2025-10-04 16:07:20
-2025-10-04 16:07:20
-2025-10-04 16:07:21
-2025-10-04 16:07:20
-2025-10-04 16:07:20
-2025-10-04 16:07:20
-2025-10-04 16:07:20
-2025-10-04 16:07:20
-2025-10-04 16:07:20
-2025-10-04 16:07:20
-2025-10-04 16:07:20
-2025-10-04 16:07:24
-2025-10-04 16:07:22
-2025-10-04 16:07:20
-2025-10-04 16:07:20
-2025-10-04 16:07:20
-2025-10-04 16:07:20
-2025-10-04 16:07:20
-2025-10-04 16:07:20
-2025-10-04 16:07:20
-2025-10-04 16:07:20
-2025-10-04 16:07:20
-2025-10-04 16:07:20
-2025-10-04 16:07:20
-2025-10-04 16:07:20
-2025-10-04 16:07:20
-2025-10-04 16:07:19
-2025-10-04 16:07:19
-2025-10-04 16:07:19
-2025-10-04 16:07:19
-2025-10-04 16:07:19
-2025-10-04 16:07:19
-2025-10-04 16:07:19
-2025-10-04 16:07:19
-2025-10-04 16:07:19
-2025-10-04 16:07:19
-2025-10-04 16:07:19
-2025-10-04 16:07:19
-2025-10-04 16:07:19
-2025-10-04 16:07:19
-2025-10-04 16:07:19
-2025-10-04 16:07:19
-2025-10-04 16:07:19
-2025-10-04 16:07:19
-2025-10-04 16:07:19
-2025-10-04 16:07:19
-2025-10-04 16:07:19
-2025-10-04 16:07:19
-2025-10-04 16:07:19
-2025-10-04 16:07:19
-2025-10-04 16:07:19
-2025-10-04 16:07:19
-2025-10-04 16:07:19
-2025-10-04 16:07:19
-2025-10-04 16:07:19
-2025-10-04 16:07:19
-2025-10-04 16:07:19
-2025-10-04 16:07:19
-2025-10-04 16:07:19
-2025-10-04 16:07:18
-2025-10-04 16:07:18
-2025-10-04 16:07:18
-2025-10-04 16:07:18
-2025-10-04 16:07:18
-2025-10-04 16:07:18
-2025-10-04 16:07:18
-2025-10-04 16:07:18
-2025-10-04 16:07:18
-2025-10-04 16:07:18
-2025-10-04 16:07:18
-2025-10-04 16:07:18
-2025-10-04 16:07:18
-2025-10-04 16:07:18
-2025-10-04 16:07:18
-2025-10-04 16:07:18
-2025-10-04 16:07:18
-2025-10-04 16:07:18
-2025-10-04 16:07:18
-2025-10-04 16:07:18
-2025-10-04 16:07:18
-2025-10-04 16:07:18
-2025-10-04 16:07:18
-2025-04-09 15:56:07
-2025-10-04 16:07:18
-2025-10-04 16:07:18
-2025-10-04 16:07:18
-2025-10-04 16:07:17
-2025-10-04 16:07:17
-2025-10-04 16:07:17
-2025-10-04 16:07:17
-2025-10-04 16:07:17
-2025-10-04 16:07:17
-2025-10-04 16:07:17
-2025-10-04 16:07:17
-2025-10-04 16:07:17
-2025-10-04 16:07:17
-2025-10-04 16:07:17
-2025-10-04 16:07:17
-2025-10-04 16:07:17
-2025-10-04 16:07:17
-2025-10-04 16:07:17
-2025-10-04 16:07:17
-2025-10-04 16:07:17
-2025-10-04 16:07:17
-2025-10-04 16:07:17
-2025-10-04 16:07:17
-2025-10-04 16:07:17
-2025-10-04 16:07:17
-2025-10-04 16:07:16
-2025-10-04 16:07:16
-2025-10-04 16:07:16
-2025-10-04 16:07:16
-2025-10-04 16:07:16
-2025-10-04 16:07:16
-2025-10-04 16:07:16
-2025-10-04 16:07:16
-2025-10-04 16:07:16
-2025-10-04 16:07:16
-2025-10-04 16:07:16
-2025-10-04 16:07:16
-2025-10-04 16:07:16
-2025-10-04 16:07:16
-2025-10-04 16:07:15
-2025-10-04 16:07:15
-2025-10-04 16:07:15
-2025-10-04 16:07:15
-2025-10-04 16:07:15
-2025-10-04 16:07:15
-2025-10-04 16:07:15
-2025-10-04 16:07:15
-2025-10-04 16:07:15
-2025-10-04 16:07:15
-2025-10-04 16:07:15
-2025-10-04 16:07:15
-2025-10-04 16:07:15
-2025-10-04 16:07:15
-2025-10-04 16:07:15
-2025-10-04 16:07:15
-2025-10-04 16:07:15
-2025-10-04 16:07:14
-2025-10-04 16:07:14
-2025-10-04 16:07:14
-2025-10-04 16:07:14
-2025-10-04 16:07:14
-2025-10-04 16:07:14
-2025-10-04 16:07:14
-2025-10-04 16:07:14
-2025-10-04 16:07:14
-2025-10-04 16:07:14
-2025-10-04 16:07:14
-2025-10-04 16:07:14
-2025-10-04 16:07:14
-2025-10-04 16:07:14
-2025-10-04 16:07:14
-2025-10-04 16:07:14
-2025-10-04 16:07:13
-2025-10-04 16:07:13
-2025-10-04 16:07:13
-2025-04-09 15:56:06
-2025-10-04 16:07:13
-2025-10-04 16:07:13
-2025-10-04 16:07:13
-2025-10-04 16:07:13
-2025-10-04 16:07:13
-2025-10-04 16:07:13
-2025-10-04 16:07:13
-2025-10-04 16:07:16
-2025-10-04 16:07:13
-2025-10-04 16:07:13
-2025-10-04 16:07:13
-2025-10-04 16:07:13
-2025-10-04 16:07:13
-2025-10-04 16:07:13
-2025-10-04 16:07:13
-2025-10-04 16:07:13
-2025-10-04 16:07:13
-2025-10-04 16:07:13
-2025-10-04 16:07:13
-2025-10-04 16:07:13
-2025-10-04 16:07:13
-2025-10-04 16:07:12
-2025-10-04 16:07:12
-2025-10-04 16:07:12
-2025-10-04 16:07:12
-2025-10-04 16:07:12
-2025-10-04 16:07:12
-2025-04-09 15:56:05
-2025-10-04 16:07:12
-2025-10-04 16:07:12
-2025-10-04 16:07:12
-2025-10-04 16:07:12
-2025-10-04 16:07:12
-2025-10-04 16:07:12
-2025-10-04 16:07:12
-2025-10-04 16:07:12
-2025-10-04 16:07:12
-2025-10-04 16:07:12
-2025-10-04 16:07:12
-2025-10-04 16:07:12
-2025-10-04 16:07:12
-2025-10-04 16:07:12
-2025-10-04 16:07:12
-2025-10-04 16:07:12
-2025-10-04 16:07:12
-2025-10-04 16:07:12
-2025-10-04 16:07:11
-2025-10-04 16:07:11
-2025-10-04 16:07:11
-2025-10-04 16:07:11
-2025-10-04 16:07:11
-2025-10-04 16:07:11
-2025-10-04 16:07:11
-2025-10-04 16:07:11
-2025-10-04 16:07:11
-2025-10-04 16:07:11
-2025-10-04 16:07:11
-2025-10-04 16:07:11
-2025-10-04 16:07:11
-2025-10-04 16:07:11
-2025-10-04 16:07:11
-2025-10-04 16:07:11
-2025-10-04 16:07:11
-2025-10-04 16:07:11
-2025-10-04 16:07:11
-2025-10-04 16:07:11
-2025-10-04 16:07:11
-2025-04-09 15:56:05
-2025-10-04 16:07:11
-2025-10-04 16:07:10
-2025-10-04 16:07:10
-2025-10-04 16:07:10
-2025-10-04 16:07:10
-2025-10-04 16:07:10
-2025-10-04 16:07:10
-2025-10-04 16:07:10
-2025-10-04 16:07:10
-2025-10-04 16:07:10
-2025-10-04 16:07:10
-2025-10-04 16:07:10
-2025-10-04 16:07:10
-2025-10-04 16:07:10
-2025-10-04 16:07:10
-2025-10-04 16:07:10
-2025-10-04 16:07:10
-2025-10-04 16:07:10
-2025-10-04 16:07:10
-2025-10-04 16:07:10
-2025-10-04 16:07:09
-2025-10-04 16:07:09
-2025-10-04 16:07:09
-2025-10-04 16:07:09
-2025-04-09 15:56:04
-2025-10-04 16:07:09
-2025-10-04 16:07:09
-2025-10-04 16:07:09
-2025-10-04 16:07:09
-2025-10-04 16:07:09
-2025-10-04 16:07:09
-2025-10-04 16:07:09
-2025-10-04 16:07:09
-2025-10-04 16:07:09
-2025-10-04 16:07:09
-2025-10-04 16:07:09
-2025-10-04 16:07:08
-2025-10-04 16:07:08
-2025-10-04 16:07:08
-2025-10-04 16:07:08
-2025-10-04 16:07:08
-2025-10-04 16:07:08
-2025-10-04 16:07:08
-2025-10-04 16:07:08
-2025-10-04 16:07:08
-2025-10-04 16:07:08
-2025-10-04 16:07:08
-2025-10-04 16:07:08
-2025-10-04 16:07:08
-2025-10-04 16:07:08
-2025-10-04 16:07:08
-2025-10-04 16:07:08
-2025-10-04 16:07:08
-2025-10-04 16:07:08
-2025-10-04 16:07:08
-2025-10-04 16:07:07
-2025-10-04 16:07:07
-2025-10-04 16:07:07
-2025-10-04 16:07:07
-2025-10-04 16:07:07
-2025-10-04 16:07:07
-2025-10-04 16:07:07
-2025-10-04 16:07:07
-2025-10-04 16:07:12
-2025-10-04 16:07:07
-2025-10-04 16:07:07
-2025-10-04 16:07:07
-2025-10-04 16:07:07
-2025-10-04 16:07:06
-2025-10-04 16:07:06
-2025-10-04 16:07:06
-2025-10-04 16:07:06
-2025-10-04 16:07:06
-2025-10-04 16:07:06
-2025-10-04 16:07:06
-2025-10-04 16:07:06
-2025-10-04 16:07:06
-2025-10-04 16:05:53
-2025-10-04 16:07:06
-2025-10-04 16:07:06
-2025-10-04 16:07:06
-2025-10-04 16:07:06
-2025-10-04 16:07:06
-2025-10-04 16:07:06
-2025-10-04 16:07:06
-2025-10-04 16:07:06
-2025-10-04 16:07:06
-2025-10-04 16:07:06
-2025-10-04 16:07:06
-2025-10-04 16:07:06
-2025-10-04 16:07:06
-2025-10-04 16:07:05
-2025-10-04 16:07:05
-2025-10-04 16:07:05
-2025-10-04 16:07:05
-2025-10-04 16:07:05
-2025-10-04 16:07:05
-2025-10-04 16:07:05
-2025-10-04 16:07:05
-2025-10-04 16:07:05
-2025-10-04 16:07:06
-2025-10-04 16:07:05
-2025-10-04 16:07:05
-2025-10-04 16:07:05
-2025-10-04 16:07:04
-2025-10-04 16:07:04
-2025-10-04 16:07:04
-2025-10-04 16:07:04
-2025-10-04 16:07:04
-2025-10-04 16:07:04
-2025-10-04 16:07:04
-2025-10-04 16:07:04
-2025-10-04 16:07:04
-2025-10-04 16:07:04
-2025-10-04 16:07:04
-2025-10-04 16:07:04
-2025-10-04 16:07:04
-2025-10-04 16:07:04
-2025-10-04 16:07:04
-2025-10-04 16:07:04
-2025-10-04 16:07:04
-2025-10-04 16:07:04
-2025-10-04 16:07:04
-2025-10-04 16:07:04
-2025-10-04 16:07:04
-2025-10-04 16:07:04
-2025-10-04 16:07:03
-2025-10-04 16:07:03
-2025-10-04 16:07:03
-2025-10-04 16:07:03
-2025-10-04 16:07:03
-2025-10-04 16:07:03
-2025-10-04 16:07:03
-2025-10-04 16:07:03
-2025-10-04 16:07:03
-2025-10-04 16:07:03
-2025-10-04 16:07:03
-2025-10-04 16:07:03
-2025-10-04 16:07:03
-2025-10-04 16:07:03
-2025-10-04 16:07:03
-2025-10-04 16:07:03
-2025-10-04 16:07:03
-2025-10-04 16:07:02
-2025-10-04 16:07:02
-2025-10-04 16:07:02
-2025-10-04 16:07:02
-2025-10-04 16:07:02
-2025-10-04 16:07:02
-2025-10-04 16:07:02
-2025-10-04 16:07:02
-2025-10-04 16:07:02
-2025-10-04 16:07:02
-2025-10-04 16:07:02
-2025-10-04 16:07:02
-2025-10-04 16:07:02
-2025-10-04 16:07:02
-2025-10-04 16:07:02
-2025-10-04 16:07:02
-2025-10-04 16:07:02
-2025-10-04 16:07:02
-2025-10-04 16:07:02
-2025-10-04 16:07:02
-2025-10-04 16:07:02
-2025-10-04 16:07:02
-2025-10-04 16:07:02
-2025-10-04 16:07:02
-2025-10-04 16:07:01
-2025-10-04 16:07:01
-2025-10-04 16:07:01
-2025-10-04 16:07:01
-2025-10-04 16:07:01
-2025-10-04 16:07:01
-2025-10-04 16:07:01
-2025-10-04 16:07:01
-2025-10-04 16:07:01
-2025-10-04 16:07:01
-2025-10-04 16:07:01
-2025-10-04 16:07:01
-2025-10-04 16:07:01
-2025-10-04 16:07:01
-2025-10-04 16:07:01
-2025-10-04 16:07:01
-2025-10-04 16:07:01
-2025-10-04 16:07:01
-2025-10-04 16:07:01
-2025-10-04 16:07:01
-2025-10-04 16:07:01
-2025-10-04 16:07:01
-2025-10-04 16:07:01
-2025-10-04 16:07:01
-2025-10-04 16:07:01
-2025-10-04 16:07:01
-2025-10-04 16:07:01
-2025-10-04 16:08:03
-2025-10-04 16:08:03
-2025-10-04 16:08:02
-2025-10-04 16:08:02
-2025-10-04 16:08:02
-2025-10-04 16:08:02
-2025-10-04 16:08:02
-2025-10-04 16:08:02
-2025-10-04 16:08:02
-2025-10-04 16:08:02
-2025-10-04 16:08:02
-2025-10-04 16:08:02
-2025-10-04 16:08:02
-2025-10-04 16:08:02
-2025-10-04 16:08:01
-2025-10-04 16:08:01
-2025-10-04 16:08:01
-2025-10-04 16:08:01
-2025-10-04 16:08:01
-2025-10-04 16:08:01
-2025-10-04 16:08:01
-2025-10-04 16:08:01
-2025-10-04 16:08:01
-2025-10-04 16:08:01
-2025-10-04 16:08:01
-2025-10-04 16:08:01
-2025-10-04 16:08:01
-2025-10-04 16:08:01
-2025-10-04 16:08:01
-2025-10-04 16:08:01
-2025-10-04 16:08:01
-2025-10-04 16:08:01
-2025-10-04 16:08:01
-2025-10-04 16:08:01
-2025-10-04 16:08:01
-2025-04-09 15:56:21
-2025-10-04 16:08:00
-2025-10-04 16:08:00
-2025-10-04 16:08:00
-2025-10-04 16:08:00
-2025-10-04 16:08:00
-2025-10-04 16:07:59
-2025-10-04 16:07:59
-2025-10-04 16:08:00
-2025-10-04 16:07:59
-2025-10-04 16:07:59
-2025-10-04 16:07:59
-2025-10-04 16:07:59
-2025-10-04 16:07:59
-2025-10-04 16:07:58
-2025-10-04 16:07:58
-2025-10-04 16:07:58
-2025-10-04 16:07:58
-2025-10-04 16:08:00
-2025-10-04 16:08:00
-2025-10-04 16:08:00
-2025-10-04 16:08:00
-2025-10-04 16:08:00
-2025-10-04 16:08:00
-2025-10-04 16:08:00
-2025-10-04 16:07:59
-2025-10-04 16:07:59
-2025-10-04 16:07:59
-2025-10-04 16:07:59
-2025-10-04 16:07:59
-2025-10-04 16:07:59
-2025-10-04 16:07:59
-2025-10-04 16:07:58
-2025-10-04 16:07:58
-2025-10-04 16:07:58
-2025-10-04 16:07:58
-2025-10-04 16:07:58
-2025-10-04 16:07:58
-2025-10-04 16:07:58
-2025-10-04 16:07:58
-2025-10-04 16:07:58
-2025-10-04 16:07:58
-2025-10-04 16:07:58
-2025-10-04 16:07:58
-2025-10-04 16:07:58
-2025-10-04 16:07:58
-2025-10-04 16:07:58
-2025-10-04 16:03:18
-2025-10-04 16:07:58
-2025-10-04 16:07:58
-2025-10-04 16:07:57
-2025-10-04 16:07:57
-2025-10-04 16:07:57
-2025-10-04 16:07:57
-2025-10-04 16:07:57
-2025-10-04 16:07:57
-2025-10-04 16:07:57
-2025-10-04 16:07:57
-2025-10-04 16:07:57
-2025-10-04 16:07:57
-2025-10-04 16:07:56
-2025-10-04 16:07:56
-2025-10-04 16:07:56
-2025-10-04 16:07:56
-2025-10-04 16:07:56
-2025-10-04 16:07:56
-2025-10-04 16:07:56
-2025-10-04 16:07:55
-2025-10-04 16:07:55
-2025-10-04 16:07:55
-2025-10-04 16:07:55
-2025-10-04 16:07:55
-2025-10-04 16:07:55
-2025-10-04 16:07:55
-2025-10-04 16:07:55
-2025-10-04 16:07:55
-2025-10-04 16:07:55
-2025-10-04 16:07:55
-2025-10-04 16:07:55
-2025-10-04 16:07:55
-2025-10-04 16:07:55
-2025-10-04 16:07:55
-2025-10-04 16:07:54
-2025-10-04 16:07:54
-2025-04-09 15:56:20
-2025-10-04 16:07:54
-2025-10-04 16:07:54
-2025-10-04 16:07:54
-2025-10-04 16:07:54
-2025-10-04 16:07:53
-2025-10-04 16:07:53
-2025-10-04 16:07:53
-2025-10-04 16:07:53
-2025-10-04 16:07:53
-2025-10-04 16:07:53
-2025-10-04 16:07:53
-2025-10-04 16:07:53
-2025-10-04 16:07:53
-2025-10-04 16:07:53
-2025-10-04 16:07:54
-2025-10-04 16:07:53
-2025-10-04 16:07:52
-2025-10-04 16:07:52
-2025-10-04 16:07:52
-2025-10-04 16:07:52
-2025-10-04 16:07:52
-2025-10-04 16:07:52
-2025-10-04 16:07:52
-2025-10-04 16:07:52
-2025-10-04 16:07:51
-2025-10-04 16:07:51
-2025-10-04 16:07:50
-2025-10-04 16:07:50
-2025-10-04 16:07:49
-2025-10-04 16:07:49
-2025-10-04 16:07:57
-2025-10-04 16:07:57
-2025-10-04 16:07:57
-2025-10-04 16:07:57
-2025-04-09 15:56:20
-2025-10-04 16:07:57
-2025-10-04 16:07:56
-2025-10-04 16:07:56
-2025-10-04 16:07:56
-2025-10-04 16:07:56
-2025-10-04 16:07:56
-2025-10-04 16:07:56
-2025-10-04 16:07:56
-2025-10-04 16:07:55
-2025-10-04 16:07:55
-2025-10-04 16:07:55
-2025-10-04 16:07:55
-2025-10-04 16:07:54
-2025-10-04 16:07:54
-2025-10-04 16:07:54
-2025-10-04 16:07:54
-2025-10-04 16:07:54
-2025-10-04 16:07:54
-2025-10-04 16:07:54
-2025-10-04 16:07:54
-2025-10-04 16:07:53
-2025-10-04 16:07:53
-2025-10-04 16:07:53
-2025-10-04 16:07:53
-2025-10-04 16:07:53
-2025-10-04 16:07:53
-2025-10-04 16:07:52
-2025-10-04 16:07:52
-2025-10-04 16:07:52
-2025-10-04 16:07:52
-2025-10-04 16:06:48
-2025-10-04 16:07:52
-2025-10-04 16:07:52
-2025-10-04 16:07:51
-2025-10-04 16:07:51
-2025-10-04 16:07:50
-2025-10-04 16:07:50
-2025-10-04 16:07:50
-2025-10-04 16:07:50
-2025-10-04 16:07:50
-2025-10-04 16:07:50
-2025-10-04 16:07:50
-2025-10-04 16:07:49
-2025-10-04 16:07:49
-2025-10-04 16:07:49
-2025-10-04 16:07:49
-2025-10-04 16:07:49
-2025-10-04 16:07:49
-2025-10-04 16:07:49
-2025-10-04 16:07:49
-2025-04-09 15:56:18
-2025-10-04 16:07:49
-2025-10-04 16:07:48
-2025-10-04 16:07:48
-2025-10-04 16:07:48
-2025-10-04 16:07:48
-2025-10-04 16:07:48
-2025-10-04 16:07:48
-2025-10-04 16:07:48
-2025-10-04 16:07:47
-2025-10-04 16:07:47
-2025-10-04 16:07:47
-2025-10-04 16:07:47
-2025-10-04 16:07:47
-2025-10-04 16:07:47
-2025-10-04 16:07:47
-2025-10-04 16:07:47
-2025-10-04 16:07:47
-2025-10-04 16:07:46
-2025-10-04 16:07:46
-2025-10-04 16:07:46
-2025-10-04 16:07:46
-2025-10-04 16:07:46
-2025-10-04 16:07:46
-2025-10-04 16:07:46
-2025-10-04 16:07:46
-2025-10-04 16:07:46
-2025-10-04 16:07:46
-2025-10-04 16:07:46
-2025-10-04 16:07:46
-2025-10-04 16:07:45
-2025-10-04 16:07:45
-2025-10-04 16:07:45
-2025-10-04 16:07:45
-2025-04-09 15:56:17
-2025-10-04 16:07:46
-2025-10-04 16:07:45
-2025-10-04 16:07:45
-2025-10-04 16:07:45
-2025-10-04 16:07:45
-2025-10-04 16:07:45
-2025-10-04 16:07:45
-2025-10-04 16:07:45
-2025-10-04 16:02:57
-2025-10-04 16:07:45
-2025-10-04 16:07:45
-2025-10-04 16:07:44
-2025-10-04 16:07:44
-2025-10-04 16:07:44
-2025-10-04 16:07:44
-2025-10-04 16:07:44
-2025-10-04 16:07:43
-2025-10-04 16:07:43
-2025-10-04 16:07:49
-2025-10-04 16:07:49
-2025-10-04 16:07:49
-2025-10-04 16:07:49
-2025-10-04 16:07:49
-2025-10-04 16:07:49
-2025-10-04 16:07:49
-2025-10-04 16:07:49
-2025-10-04 16:07:49
-2025-10-04 16:07:48
-2025-10-04 16:07:48
-2025-10-04 16:07:48
-2025-10-04 16:07:48
-2025-10-04 16:07:48
-2025-10-04 16:07:48
-2025-10-04 16:07:48
-2025-10-04 16:07:48
-2025-10-04 16:07:48
-2025-10-04 16:07:48
-2025-10-04 16:07:48
-2025-10-04 16:07:48
-2025-10-04 16:07:48
-2025-10-04 16:07:47
-2025-10-04 16:07:47
-2025-10-04 16:07:47
-2025-10-04 16:07:47
-2025-10-04 16:07:47
-2025-10-04 16:07:47
-2025-10-04 16:07:47
-2025-10-04 16:07:48
-2025-10-04 16:07:47
-2025-10-04 16:07:47
-2025-10-04 16:07:47
-2025-10-04 16:07:47
-2025-10-04 16:07:47
-2025-10-04 16:07:47
-2025-10-04 16:07:47
-2025-10-04 16:07:47
-2025-10-04 16:07:46
-2025-10-04 16:07:46
-2025-04-09 15:56:17
-2025-10-04 16:07:46
-2025-10-04 16:07:46
-2025-10-04 16:07:46
-2025-10-04 16:07:46
-2025-10-04 16:07:45
-2025-10-04 16:07:45
-2025-10-04 16:07:45
-2025-10-04 16:07:45
-2025-10-04 16:07:45
-2025-10-04 16:07:45
-2025-10-04 16:07:45
-2025-10-04 16:07:45
-2025-10-04 16:07:45
-2025-04-09 15:56:17
-2025-10-04 16:07:45
-2025-10-04 16:07:45
-2025-10-04 16:07:44
-2025-10-04 16:07:44
-2025-10-04 16:07:44
-2025-10-04 16:07:43
-2025-10-04 16:07:43
-2025-10-04 16:07:43
-2025-10-04 16:07:43
-2025-10-04 16:07:43
-2025-04-09 15:56:16
-2025-10-04 16:07:43
-2025-10-04 16:07:43
-2025-10-04 16:07:43
-2025-10-04 16:07:43
-2025-10-04 16:07:43
-2025-10-04 16:07:43
-2025-10-04 16:07:43
-2025-10-04 16:07:43
-2025-10-04 16:07:43
-2025-10-04 16:07:42
-2025-10-04 16:07:42
-2025-10-04 16:07:42
-2025-10-04 16:07:42
-2025-10-04 16:07:42
-2025-10-04 16:07:41
-2025-10-04 16:07:41
-2025-10-04 16:07:41
-2025-10-04 16:07:41
-2025-10-04 16:07:41
-2025-10-04 16:07:41
-2025-10-04 16:07:41
-2025-10-04 16:07:40
-2025-10-04 16:07:40
-2025-10-04 16:07:40
-2025-10-04 16:07:41
-2025-10-04 16:07:40
-2025-10-04 16:07:40
-2025-10-04 16:07:40
-2025-10-04 16:07:40
-2025-10-04 16:07:40
-2025-10-04 16:07:40
-2025-10-04 16:07:39
-2025-10-04 16:07:39
-2025-04-09 15:56:14
-2025-10-04 16:07:43
-2025-10-04 16:07:42
-2025-10-04 16:07:42
-2025-10-04 16:07:42
-2025-10-04 16:07:42
-2025-10-04 16:07:42
-2025-10-04 16:07:42
-2025-10-04 16:07:42
-2025-10-04 16:07:42
-2025-10-04 16:07:41
-2025-10-04 16:07:41
-2025-10-04 16:06:35
-2025-10-04 16:07:41
-2025-10-04 16:07:41
-2025-10-04 16:07:41
-2025-10-04 16:07:41
-2025-04-09 15:56:15
-2025-04-09 15:56:15
-2025-10-04 16:07:41
-2025-10-04 16:07:40
-2025-10-04 16:07:40
-2025-10-04 16:07:40
-2025-10-04 16:07:40
-2025-10-04 16:07:39
-2025-10-04 16:07:39
-2025-10-04 16:07:39
-2025-10-04 16:07:39
-2025-10-04 16:07:39
-2025-10-04 16:07:39
-2025-10-04 16:07:39
-2025-10-04 16:07:39
-2025-10-04 16:07:39
-2025-10-04 16:07:39
-2025-10-04 16:07:38
-2025-10-04 16:07:38
-2025-10-04 16:07:38
-2025-10-04 16:07:38
-2025-10-04 16:07:38
-2025-10-04 16:07:38
-2025-10-04 16:07:38
-2025-10-04 16:07:38
-2025-10-04 16:07:39
-2025-10-04 16:07:39
-2025-10-04 16:07:39
-2025-10-04 16:07:39
-2025-10-04 16:07:39
-2025-10-04 16:07:39
-2025-10-04 16:07:39
-2025-10-04 16:07:39
-2025-10-04 16:07:38
-2025-10-04 16:07:38
-2025-10-04 16:07:38
-2025-10-04 16:07:38
-2025-10-04 16:07:38
-2025-10-04 16:07:38
-2025-10-04 16:07:37
-2025-10-04 16:07:37
-2025-10-04 16:07:37
-2025-10-04 16:07:37
-2025-04-09 15:56:14
-2025-10-04 16:07:37
-2025-10-04 16:07:37
-2025-10-04 16:07:37
-2025-10-04 16:07:37
-2025-10-04 16:07:37
-2025-10-04 16:07:37
-2025-10-04 16:07:37
-2025-10-04 16:07:36
-2025-10-04 16:07:37
-2025-10-04 16:07:37
-2025-10-04 16:07:37
-2025-10-04 16:07:37
-2025-10-04 16:07:37
-2025-10-04 16:07:36
-2025-10-04 16:07:36
-2025-10-04 16:07:36
-2025-10-04 16:07:36
-2025-10-04 16:07:36
-2025-10-04 16:07:36
-2025-10-04 16:07:36
-2025-10-04 16:07:36
-2025-10-04 16:07:36
-2025-10-04 16:07:36
-2025-10-04 16:07:36
-2025-10-04 16:07:35
-2025-10-04 16:07:35
-2025-10-04 16:07:35
-2025-10-04 16:07:35
-2025-10-04 16:07:35
-2025-10-04 16:07:35
-2025-10-04 16:07:35
-2025-10-04 16:07:35
-2025-10-04 16:07:35
-2025-10-04 16:07:35
-2025-10-04 16:07:35
-2025-10-04 16:07:35
-2025-10-04 16:07:35
-2025-10-04 16:07:34
-2025-10-04 16:07:34
-2025-10-04 16:07:34
-2025-10-04 16:07:34
-2025-10-04 16:07:34
-2025-10-04 16:07:34
-2025-10-04 16:07:34
-2025-10-04 16:07:33
-2025-10-04 16:07:33
-2025-10-04 16:07:33
-2025-10-04 16:07:33
-2025-10-04 16:07:33
-2025-10-04 16:07:33
-2025-10-04 16:07:33
-2025-10-04 16:07:32
-2025-10-04 16:07:32
-2025-10-04 16:07:32
-2025-10-04 16:07:32
-2025-10-04 16:07:32
-2025-10-04 16:07:32
-2025-10-04 16:07:32
-2025-10-04 16:07:31
-2025-10-04 16:07:31
-2025-10-04 16:07:31
-2025-10-04 16:07:31
-2025-10-04 16:07:32
-2025-10-04 16:07:32
-2025-10-04 16:07:31
-2025-10-04 16:07:31
-2025-10-04 16:07:32
-2025-10-04 16:07:32
-2025-10-04 16:07:32
-2025-10-04 16:07:32
-2025-10-04 16:07:31
-2025-10-04 16:07:31
-2025-10-04 16:07:31
-2025-10-04 16:07:31
-2025-10-04 16:07:31
-2025-10-04 16:07:30
-2025-10-04 16:07:30
-2025-10-04 16:07:30
-2025-10-04 16:07:30
-2025-10-04 16:07:30
-2025-10-04 16:07:30
-2025-10-04 16:07:30
-2025-10-04 16:07:29
-2025-10-04 16:07:36
-2025-10-04 16:07:36
-2025-10-04 16:07:36
-2025-10-04 16:07:36
-2025-10-04 16:07:36
-2025-10-04 16:07:36
-2025-10-04 16:07:36
-2025-10-04 16:07:35
-2025-10-04 16:07:36
-2025-10-04 16:07:35
-2025-10-04 16:07:35
-2025-10-04 16:07:35
-2025-10-04 16:07:35
-2025-10-04 16:07:35
-2025-10-04 16:07:35
-2025-10-04 16:07:35
-2025-10-04 16:07:35
-2025-10-04 16:07:35
-2025-10-04 16:07:35
-2025-10-04 16:07:35
-2025-10-04 16:07:34
-2025-10-04 16:07:34
-2025-10-04 16:07:34
-2025-10-04 16:07:34
-2025-10-04 16:07:34
-2025-10-04 16:07:34
-2025-10-04 16:07:34
-2025-10-04 16:07:34
-2025-10-04 16:07:34
-2025-10-04 16:07:34
-2025-10-04 16:07:34
-2025-10-04 16:07:33
-2025-10-04 16:07:33
-2025-10-04 16:07:33
-2025-10-04 16:07:33
-2025-10-04 16:07:32
-2025-10-04 16:07:32
-2025-10-04 16:07:31
-2025-10-04 16:07:31
-2025-10-04 16:07:31
-2025-10-04 16:07:31
-2025-10-04 16:07:31
-2025-10-04 16:07:31
-2025-10-04 16:07:31
-2025-10-04 16:07:31
-2025-10-04 16:07:31
-2025-10-04 16:07:31
-2025-10-04 16:07:31
-2025-10-04 16:07:30
-2025-10-04 16:07:30
-2025-10-04 16:07:30
-2025-10-04 16:07:30
-2025-10-04 16:07:30
-2025-10-04 16:07:30
-2025-10-04 16:07:30
-2025-10-04 16:07:30
-2025-04-09 15:56:11
-2025-10-04 16:07:30
-2025-10-04 16:07:30
-2025-10-04 16:07:30
-2025-10-04 16:07:30
-2025-10-04 16:07:29
-2025-10-04 16:07:29
-2025-10-04 16:07:29
-2025-10-04 16:07:29
-2025-10-04 16:07:29
-2025-10-04 16:07:29
-2025-10-04 16:07:29
-2025-10-04 16:07:29
-2025-10-04 16:07:29
-2025-10-04 16:07:29
-2025-10-04 16:07:29
-2025-10-04 16:07:28
-2025-10-04 16:07:29
-2025-10-04 16:07:29
-2025-10-04 16:07:29
-2025-10-04 16:07:29
-2025-10-04 16:07:29
-2025-10-04 16:07:28
-2025-10-04 16:07:28
-2025-10-04 16:07:28
-2025-10-04 16:07:28
-2025-10-04 16:07:28
-2025-10-04 16:07:28
-2025-10-04 16:07:28
-2025-10-04 16:07:28
-2025-10-04 16:07:28
-2025-10-04 16:07:28
-2025-10-04 16:07:28
-2025-10-04 16:07:28
-2025-10-04 16:07:28
-2025-10-04 16:07:28
-2025-10-04 16:07:27
-2025-10-04 16:07:27
-2025-10-04 16:07:27
-2025-10-04 16:07:27
-2025-10-04 16:07:27
-2025-10-04 16:07:27
-2025-10-04 16:07:27
-2025-10-04 16:07:27
-2025-10-04 16:07:26
-2025-10-04 16:07:26
-2025-10-04 16:07:26
-2025-10-04 16:07:28
-2025-10-04 16:07:28
-2025-10-04 16:07:28
-2025-10-04 16:07:28
-2025-10-04 16:07:28
-2025-10-04 16:07:27
-2025-10-04 16:07:27
-2025-10-04 16:07:27
-2025-10-04 16:07:27
-2025-10-04 16:07:27
-2025-10-04 16:07:27
-2025-10-04 16:07:27
-2025-10-04 16:07:27
-2025-10-04 16:07:27
-2025-10-04 16:07:26
-2025-10-04 16:07:26
-2025-10-04 16:07:26
-2025-10-04 16:07:26
-2025-10-04 16:07:26
-2025-10-04 16:07:26
-2025-10-04 16:07:26
-2025-10-04 16:07:25
-2025-10-04 16:07:25
-2025-10-04 16:07:25
-2025-10-04 16:07:25
-2025-10-04 16:07:25
-2025-10-04 16:07:25
-2025-10-04 16:07:25
-2025-10-04 16:07:25
-2025-10-04 16:07:25
-2025-10-04 16:07:25
-2025-10-04 16:07:25
-2025-10-04 16:07:25
-2025-10-04 16:07:25
-2025-10-04 16:07:25
-2025-10-04 16:07:25
-2025-10-04 16:07:25
-2025-10-04 16:07:25
-2025-10-04 16:07:25
-2025-10-04 16:07:25
-2025-10-04 16:07:25
-2025-10-04 16:07:24
-2025-10-04 16:07:24
-2025-10-04 16:07:24
-2025-10-04 16:07:24
-2025-10-04 16:07:24
-2025-10-04 16:07:26
-2025-10-04 16:07:25
-2025-04-09 15:55:47
-2025-10-04 16:07:25
-2025-10-04 16:07:25
-2025-10-04 16:07:25
-2025-10-04 16:07:25
-2025-10-04 16:07:25
-2025-10-04 16:07:25
-2025-10-04 16:07:25
-2025-10-04 16:07:25
-2025-10-04 16:07:25
-2025-10-04 16:07:24
-2025-10-04 16:07:24
-2025-10-04 16:07:24
-2025-10-04 16:07:24
-2025-10-04 16:07:24
-2025-10-04 16:07:24
-2025-10-04 16:07:23
-2025-04-09 15:56:09
-2025-10-04 16:07:23
-2025-10-04 16:07:23
-2025-10-04 16:07:23
-2025-10-04 16:07:23
-2025-10-04 16:07:23
-2025-10-04 16:07:23
-2025-10-04 16:07:22
-2025-10-04 16:07:22
-2025-10-04 16:07:22
-2025-10-04 16:07:22
-2025-10-04 16:07:22
-2025-10-04 16:07:22
-2025-10-04 16:07:21
-2025-10-04 16:07:21
-2025-10-04 16:07:21
-2025-10-04 16:07:21
-2025-10-04 16:07:21
-2025-10-04 16:07:21
-2025-10-04 16:07:21
-2025-10-04 16:07:21
-2025-10-04 16:07:21
-2025-10-04 16:07:21
-2025-10-04 16:07:21
-2025-10-04 16:07:21
-2025-10-04 16:07:21
-2025-10-04 16:07:21
-2025-10-04 16:07:21
-2025-10-04 16:07:21
-2025-10-04 16:07:21
-2025-10-04 16:07:21
-2025-10-04 16:07:21
-2025-10-04 16:07:21
-2025-10-04 16:07:21
-2025-10-04 16:07:21
-2025-04-09 15:55:35
-2025-10-04 16:07:21
-2025-10-04 16:07:21
-2025-10-04 16:07:21
-2025-10-04 16:07:22
-2025-10-04 16:07:22
-2025-10-04 16:07:20
-2025-10-04 16:07:20
-2025-10-04 16:07:24
-2025-10-04 16:07:24
-2025-10-04 16:07:24
-2025-10-04 16:07:24
-2025-10-04 16:07:24
-2025-10-04 16:07:24
-2025-10-04 16:07:24
-2025-10-04 16:07:24
-2025-10-04 16:07:24
-2025-10-04 16:07:24
-2025-10-04 16:07:24
-2025-10-04 16:07:24
-2025-10-04 16:07:24
-2025-10-04 16:07:24
-2025-10-04 16:07:24
-2025-10-04 16:07:23
-2025-10-04 16:07:23
-2025-10-04 16:07:23
-2025-10-04 16:07:23
-2025-10-04 16:07:23
-2025-10-04 16:07:23
-2025-10-04 16:07:23
-2025-10-04 16:07:23
-2025-10-04 16:07:23
-2025-10-04 16:07:23
-2025-10-04 16:07:23
-2025-10-04 16:07:23
-2025-10-04 16:07:23
-2025-10-04 16:07:22
-2025-10-04 16:07:22
-2025-10-04 16:07:22
-2025-10-04 16:07:22
-2025-10-04 16:07:22
-2025-10-04 16:07:22
-2025-10-04 16:07:22
-2025-10-04 16:07:22
-2025-10-04 16:07:22
-2025-10-04 16:07:21
-2025-10-04 16:07:21
-2025-10-04 16:07:20
-2025-10-04 16:07:20
-2025-10-04 16:07:20
-2025-10-04 16:07:20
-2025-10-04 16:07:20
-2025-10-04 16:07:20
-2025-10-04 16:07:20
-2025-10-04 16:07:20
-2025-10-04 16:07:20
-2025-10-04 16:07:20
-2025-10-04 16:07:20
-2025-10-04 16:07:19
-2025-10-04 16:07:19
-2025-10-04 16:07:19
-2025-10-04 16:07:19
-2025-10-04 16:07:19
-2025-10-04 16:07:18
-2025-10-04 16:07:18
-2025-10-04 16:07:18
-2025-10-04 16:07:20
-2025-10-04 16:07:20
-2025-10-04 16:07:19
-2025-10-04 16:07:19
-2025-10-04 16:07:19
-2025-10-04 16:07:18
-2025-10-04 16:07:18
-2025-10-04 16:07:18
-2025-10-04 16:07:18
-2025-10-04 16:07:18
-2025-10-04 16:07:18
-2025-10-04 16:07:18
-2025-10-04 16:07:18
-2025-10-04 16:07:18
-2025-10-04 16:07:18
-2025-10-04 16:07:17
-2025-10-04 16:07:17
-2025-10-04 16:07:17
-2025-10-04 16:07:17
-2025-10-04 16:07:17
-2025-10-04 16:07:17
-2025-10-04 16:07:17
-2025-10-04 16:07:17
-2025-10-04 16:07:17
-2025-10-04 16:07:17
-2025-10-04 16:07:17
-2025-10-04 16:07:16
-2025-10-04 16:07:18
-2025-10-04 16:07:18
-2025-10-04 16:07:17
-2025-10-04 16:07:17
-2025-10-04 16:07:17
-2025-10-04 16:07:17
-2025-10-04 16:07:17
-2025-10-04 16:07:17
-2025-10-04 16:07:17
-2025-10-04 16:07:16
-2025-10-04 16:07:16
-2025-10-04 16:07:16
-2025-10-04 16:07:16
-2025-10-04 16:07:16
-2025-10-04 16:07:16
-2025-10-04 16:07:16
-2025-10-04 16:07:16
-2025-10-04 16:07:16
-2025-10-04 16:07:16
-2025-10-04 16:07:16
-2025-10-04 16:07:16
-2025-10-04 16:07:16
-2025-10-04 16:07:16
-2025-10-04 16:07:15
-2025-10-04 16:07:15
-2025-04-09 15:56:06
-2025-10-04 16:07:15
-2025-10-04 16:07:15
-2025-10-04 16:07:15
-2025-10-04 16:07:15
-2025-10-04 16:07:14
-2025-10-04 16:07:14
-2025-10-04 16:07:14
-2025-10-04 16:07:14
-2025-10-04 16:07:14
-2025-10-04 16:07:14
-2025-10-04 16:07:14
-2025-10-04 16:07:14
-2025-10-04 16:07:14
-2025-10-04 16:07:14
-2025-10-04 16:07:14
-2025-10-04 16:07:14
-2025-10-04 16:07:14
-2025-10-04 16:07:14
-2025-04-09 15:56:06
-2025-10-04 16:07:14
-2025-10-04 16:07:14
-2025-10-04 16:07:13
-2025-10-04 16:07:13
-2025-10-04 16:07:16
-2025-10-04 16:07:16
-2025-10-04 16:07:16
-2025-10-04 16:07:16
-2025-10-04 16:07:16
-2025-10-04 16:07:16
-2025-10-04 16:07:16
-2025-10-04 16:07:16
-2025-10-04 16:07:16
-2025-10-04 16:07:15
-2025-10-04 16:07:15
-2025-10-04 16:07:15
-2025-10-04 16:07:15
-2025-10-04 16:07:15
-2025-10-04 16:07:15
-2025-10-04 16:07:15
-2025-04-09 15:56:06
-2025-10-04 16:07:15
-2025-10-04 16:07:15
-2025-10-04 16:07:15
-2025-10-04 16:07:15
-2025-10-04 16:07:15
-2025-10-04 16:07:14
-2025-10-04 16:07:15
-2025-10-04 16:07:15
-2025-10-04 16:07:15
-2025-10-04 16:07:15
-2025-10-04 16:07:15
-2025-10-04 16:07:14
-2025-10-04 16:07:14
-2025-10-04 16:07:14
-2025-10-04 16:07:14
-2025-10-04 16:07:14
-2025-10-04 16:07:14
-2025-10-04 16:07:14
-2025-10-04 16:07:13
-2025-10-04 16:07:13
-2025-10-04 16:07:13
-2025-10-04 16:07:13
-2025-10-04 16:07:13
-2025-10-04 16:07:13
-2025-10-04 16:07:13
-2025-10-04 16:07:13
-2025-10-04 16:07:13
-2025-10-04 16:07:13
-2025-10-04 16:07:13
-2025-10-04 16:07:13
-2025-10-04 16:07:12
-2025-10-04 16:07:12
-2025-10-04 16:07:12
-2025-10-04 16:07:11
-2025-10-04 16:07:11
-2025-10-04 16:07:11
-2025-10-04 16:07:11
-2025-10-04 16:07:11
-2025-10-04 16:07:11
-2025-10-04 16:07:11
-2025-10-04 16:07:11
-2025-10-04 16:07:12
-2025-10-04 16:07:11
-2025-10-04 16:07:11
-2025-10-04 16:07:10
-2025-10-04 16:07:10
-2025-10-04 16:07:10
-2025-10-04 16:07:10
-2025-10-04 16:07:10
-2025-10-04 16:07:10
-2025-10-04 16:07:10
-2025-10-04 16:07:10
-2025-10-04 16:07:09
-2025-10-04 16:07:09
-2025-10-04 16:07:09
-2025-10-04 16:07:09
-2025-10-04 16:07:09
-2025-10-04 16:07:09
-2025-10-04 16:07:09
-2025-10-04 16:07:09
-2025-10-04 16:07:09
-2025-10-04 16:07:09
-2025-10-04 16:07:09
-2025-10-04 16:07:09
-2025-10-04 16:07:09
-2025-10-04 16:07:09
-2025-10-04 16:07:09
-2025-10-04 16:07:09
-2025-10-04 16:07:09
-2025-10-04 16:07:09
-2025-10-04 16:07:09
-2025-10-04 16:07:08
-2025-10-04 16:07:08
-2025-10-04 16:07:08
-2025-10-04 16:07:08
-2025-10-04 16:07:08
-2025-10-04 16:07:08
-2025-10-04 16:07:08
-2025-10-04 16:07:08
-2025-10-04 16:07:08
-2025-10-04 16:07:08
-2025-10-04 16:07:08
-2025-10-04 16:07:07
-2025-10-04 16:07:07
-2025-10-04 16:07:07
-2025-10-04 16:07:07
-2025-10-04 16:07:07
-2025-10-04 16:07:07
-2025-10-04 16:07:07
-2025-10-04 16:07:12
-2025-10-04 16:07:12
-2025-10-04 16:07:13
-2025-10-04 16:07:12
-2025-10-04 16:07:12
-2025-10-04 16:07:12
-2025-10-04 16:07:12
-2025-10-04 16:07:12
-2025-10-04 16:07:12
-2025-10-04 16:07:12
-2025-10-04 16:07:12
-2025-10-04 16:07:12
-2025-10-04 16:07:12
-2025-10-04 16:07:11
-2025-10-04 16:07:11
-2025-10-04 16:07:11
-2025-10-04 16:07:11
-2025-10-04 16:07:11
-2025-10-04 16:07:11
-2025-10-04 16:07:10
-2025-10-04 16:07:10
-2025-10-04 16:07:11
-2025-10-04 16:07:11
-2025-10-04 16:07:10
-2025-10-04 16:07:10
-2025-10-04 16:07:10
-2025-10-04 16:07:10
-2025-10-04 16:07:10
-2025-10-04 16:07:10
-2025-10-04 16:07:10
-2025-10-04 16:07:10
-2025-10-04 16:07:10
-2025-10-04 16:07:09
-2025-10-04 16:07:09
-2025-10-04 16:07:09
-2025-10-04 16:07:09
-2025-10-04 16:07:09
-2025-10-04 16:07:09
-2025-10-04 16:07:08
-2025-10-04 16:07:08
-2025-10-04 16:07:08
-2025-10-04 16:07:08
-2025-10-04 16:07:08
-2025-10-04 16:07:08
-2025-10-04 16:07:08
-2025-10-04 16:07:08
-2025-10-04 16:07:08
-2025-10-04 16:07:07
-2025-04-09 15:56:03
-2025-10-04 16:07:07
-2025-10-04 16:07:07
-2025-10-04 16:07:07
-2025-10-04 16:07:07
-2025-10-04 16:07:07
-2025-10-04 16:07:07
-2025-10-04 16:07:07
-2025-10-04 16:07:07
-2025-10-04 16:07:07
-2025-10-04 16:07:07
-2025-10-04 16:07:07
-2025-10-04 16:07:07
-2025-10-04 16:07:07
-2025-10-04 16:07:07
-2025-10-04 16:07:06
-2025-10-04 16:07:06
-2025-10-04 16:07:06
-2025-10-04 16:07:06
-2025-10-04 16:07:05
-2025-10-04 16:07:05
-2025-10-04 16:07:05
-2025-10-04 16:07:05
-2025-10-04 16:07:05
-2025-10-04 16:07:05
-2025-10-04 16:07:05
-2025-10-04 16:07:05
-2025-10-04 16:07:05
-2025-10-04 16:07:05
-2025-10-04 16:07:05
-2025-10-04 16:07:05
-2025-10-04 16:07:05
-2025-10-04 16:07:05
-2025-10-04 16:07:05
-2025-10-04 16:07:05
-2025-10-04 16:07:05
-2025-10-04 16:07:05
-2025-10-04 16:07:05
-2025-10-04 16:07:05
-2025-10-04 16:07:06
-2025-10-04 16:07:06
-2025-10-04 16:07:06
-2025-10-04 16:07:06
-2025-10-04 16:07:06
-2025-10-04 16:07:06
-2025-10-04 16:07:06
-2025-10-04 16:07:05
-2025-10-04 16:07:05
-2025-10-04 16:07:05
-2025-10-04 16:07:05
-2025-10-04 16:07:06
-2025-10-04 16:07:06
-2025-10-04 16:07:05
-2025-10-04 16:07:05
-2025-10-04 16:07:05
-2025-10-04 16:07:05
-2025-10-04 16:07:04
-2025-10-04 16:07:04
-2025-10-04 16:07:04
-2025-10-04 16:07:04
-2025-10-04 16:07:04
-2025-10-04 16:07:04
-2025-10-04 16:07:04
-2025-10-04 16:07:04
-2025-10-04 16:07:04
-2025-10-04 16:07:03
-2025-10-04 16:07:03
-2025-10-04 16:07:07
-2025-10-04 16:07:07
-2025-10-04 16:07:07
-2025-10-04 16:07:07
-2025-10-04 16:07:07
-2025-10-04 16:07:07
-2025-10-04 16:07:07
-2025-10-04 16:07:06
-2025-10-04 16:07:06
-2025-10-04 16:07:06
-2025-10-04 16:07:06
-2025-10-04 16:07:06
-2025-10-04 16:07:04
-2025-10-04 16:07:04
-2025-10-04 16:07:04
-2025-10-04 16:07:04
-2025-04-09 15:56:02
-2025-10-04 16:07:04
-2025-10-04 16:07:04
-2025-10-04 16:07:04
-2025-10-04 16:07:04
-2025-10-04 16:07:04
-2025-10-04 16:07:03
-2025-10-04 16:07:03
-2025-10-04 16:07:03
-2025-10-04 16:07:03
-2025-10-04 16:07:02
-2025-10-04 16:07:02
-2025-10-04 16:07:02
-2025-10-04 16:07:02
-2025-10-04 16:07:02
-2025-04-09 15:56:01
-2025-10-04 16:07:02
-2025-10-04 16:07:03
-2025-10-04 16:07:03
-2025-10-04 16:07:03
-2025-10-04 16:07:02
-2025-10-04 16:07:02
-2025-10-04 16:07:02
-2025-10-04 16:07:02
-2025-10-04 16:07:02
-2025-10-04 16:07:02
-2025-10-04 16:07:02
-2025-10-04 16:07:02
-2025-10-04 16:07:01
-2025-10-04 16:07:01
-2025-10-04 16:07:01
-2025-10-04 16:07:03
-2025-10-04 16:07:03
-2025-10-04 16:07:03
-2025-10-04 16:07:03
-2025-10-04 16:07:03
-2025-10-04 16:07:03
-2025-10-04 16:07:03
-2025-10-04 16:07:03
-2025-10-04 16:07:03
-2025-10-04 16:07:03
-2025-10-04 16:07:03
-2025-10-04 16:07:03
-2025-10-04 16:07:03
-2025-10-04 16:07:03
-2025-10-04 16:07:03
-2025-10-04 16:07:03
-2025-10-04 16:07:02
-2025-10-04 16:07:02
-2025-10-04 16:07:02
-2025-10-04 16:07:02
-2025-10-04 16:07:02
-2025-10-04 16:07:01
-2025-10-04 16:07:01
-2025-10-04 16:07:01
-2025-10-04 16:07:01
-2025-10-04 16:07:01
-2025-10-04 16:07:01
-2025-10-04 16:07:01
-2025-10-04 16:07:01
-2025-10-04 16:07:01
-2025-10-04 16:07:01
-2025-10-04 16:07:01
-2025-10-04 16:07:01
2.5 MiB2025-10-04 16:08:16
474.7 KiB2025-10-04 16:02:05
8.1 KiB2025-10-04 16:02:04
30 B2025-10-04 16:02:04
78.3 MiB2025-10-04 16:09:41
6.0 KiB2025-10-04 16:02:04
11.9 KiB2025-10-04 16:02:04
389.0 KiB2025-10-04 16:02:04
3.4 MiB2025-08-15 16:12:54
468.0 KiB2025-08-15 16:02:47
6.9 KiB2025-08-15 16:02:47
3.0 MiB2025-10-04 16:08:04
531.8 KiB2025-10-04 16:02:05
7.5 KiB2025-10-04 16:02:04
241.0 KiB2025-10-04 16:02:04
13.4 MiB2025-10-04 16:08:31
3.4 MiB2025-10-04 16:08:07
621.8 KiB2025-10-04 16:02:05
7.1 KiB2025-10-04 16:02:04
3.4 MiB2025-10-04 16:08:11
610.0 KiB2025-10-04 16:02:05
7.1 KiB2025-10-04 16:02:04
1.3 MiB2025-10-04 16:08:17
3.3 KiB2025-10-04 16:02:04
526.4 KiB2025-10-04 16:02:04
2.6 KiB2025-10-04 16:02:04
1005.2 KiB2025-10-04 16:02:04
7.0 KiB2025-10-04 16:02:04
7.1 KiB2025-10-04 16:02:04
7.1 KiB2025-10-04 16:02:04