| Back to Workflows build report for BioC 3.9 |
This page was generated on 2019-10-16 13:50:16 -0400 (Wed, 16 Oct 2019).
Version Built
a4 1.32.0 3.6.1
a4Base 1.32.0 3.6.1
a4Classif 1.32.0 3.6.1
a4Core 1.32.0 3.6.1
a4Preproc 1.32.0 3.6.1
a4Reporting 1.32.0 3.6.1
ABAData 1.14.0 3.6.1
ABAEnrichment 1.14.1 3.6.1
ABarray 1.52.0 3.6.1
abind 1.4-5 3.6.1
abseqR 1.2.0 3.6.1
ABSSeq 1.38.0 3.6.1
acde 1.14.0 3.6.1
ACE 1.2.0 3.6.1
acepack 1.4.1 3.6.1
aCGH 1.62.0 3.6.1
ACME 2.40.0 3.6.1
actuar 2.3-2 3.6.1
ada 2.0-5 3.6.1
ADaCGH2 2.24.0 3.6.1
ADAM 1.0.0 3.6.1
ADAMgui 1.0.0 3.6.1
adaptest 1.4.0 3.6.1
additivityTests 1.1-4 3.6.1
adductData 1.0.0 3.6.1
adductomicsR 1.0.0 3.6.1
ade4 1.7-13 3.6.1
adehabitatLT 0.3.24 3.6.1
adehabitatMA 0.3.13 3.6.1
ADGofTest 0.3 3.6.1
adSplit 1.54.0 3.6.1
afex 0.25-1 3.6.1
AffiXcan 1.2.0 3.6.1
affxparser 1.56.0 3.6.1
affy 1.62.0 3.6.1
affycomp 1.60.0 3.6.1
AffyCompatible 1.44.0 3.6.1
affycompData 1.22.0 3.6.1
affyContam 1.42.0 3.6.1
affycoretools 1.56.0 3.6.1
affydata 1.32.0 3.6.1
AffyExpress 1.50.0 3.6.1
Affyhgu133A2Expr 1.20.0 3.6.1
Affyhgu133aExpr 1.22.0 3.6.1
Affyhgu133Plus2Expr 1.18.0 3.6.1
affyILM 1.36.0 3.6.1
affyio 1.54.0 3.6.1
affylmGUI 1.58.0 3.6.1
AffymetrixDataTestFiles 0.22.0 3.6.1
Affymoe4302Expr 1.22.0 3.6.1
affyPara 1.44.0 3.6.1
affypdnn 1.58.0 3.6.1
affyPLM 1.60.0 3.6.1
affyQCReport 1.62.0 3.6.1
AffyRNADegradation 1.30.0 3.6.1
AGDEX 1.32.0 3.6.1
agilp 3.16.0 3.6.1
AgiMicroRna 2.34.0 3.6.1
agricolae 1.3-1 3.6.1
AhoCorasickTrie 0.1.0 3.6.1
AIMS 1.16.0 3.6.1
airway 1.4.0 3.6.1
akima 0.6-2 3.6.1
alabama 2015.3-1 3.6.1
ALDEx2 1.16.0 3.6.1
alevinQC 1.0.0 3.6.1
AlgDesign 1.1-7.3 3.6.1
ALL 1.26.0 3.6.1
AllelicImbalance 1.22.0 3.6.1
allenpvc 1.2.0 3.6.1
ALLMLL 1.24.0 3.6.1
alluvial 0.1-2 3.6.1
alpine 1.10.0 3.6.1
alpineData 1.10.0 3.6.1
ALS 0.0.6 3.6.1
alsace 1.20.0 3.6.1
altcdfenvs 2.46.0 3.6.1
amap 0.8-17 3.6.1
AMARETTO 1.0.0 3.6.1
AMOUNTAIN 1.10.0 3.6.1
AmpAffyExample 1.24.0 3.6.1
amplican 1.6.2 3.6.1
AnalysisPageServer 1.18.1 3.6.1
anamiR 1.12.0 3.6.1
Anaquin 2.8.0 3.6.1
AneuFinder 1.12.1 3.6.1
AneuFinderData 1.12.0 3.6.1
ANF 1.6.0 3.6.1
animalcules 1.0.6 3.6.1
animation 2.6 3.6.1
annaffy 1.56.0 3.6.1
annmap 1.26.0 3.6.1
annotate 1.62.0 3.6.1
annotation 1.8.1 3.6.1
AnnotationDbi 1.46.1 3.6.1
AnnotationFilter 1.8.0 3.6.1
AnnotationForge 1.26.0 3.6.1
AnnotationFuncs 1.34.0 3.6.1
AnnotationHub 2.16.1 3.6.1
AnnotationHubData 1.14.0 3.6.1
annotationTools 1.58.0 3.6.1
annotatr 1.10.0 3.6.1
anota 1.32.0 3.6.1
anota2seq 1.6.0 3.6.1
antiProfiles 1.24.0 3.6.1
antiProfilesData 1.20.0 3.6.1
aod 1.3.1 3.6.1
apcluster 1.4.8 3.6.1
apComplex 2.50.0 3.6.1
ape 5.3 3.6.1
apeglm 1.6.0 3.6.1
aplpack 1.3.3 3.6.1
appreci8R 1.2.2 3.6.1
aracne.networks 1.10.0 3.6.1
argparse 2.0.1 3.6.1
argparser 0.4 3.6.1
ArgumentCheck 0.10.2 3.6.1
arm 1.10-1 3.6.1
aroma.affymetrix 3.2.0 3.6.1
aroma.apd 0.6.0 3.6.1
aroma.core 3.2.0 3.6.1
aroma.light 3.14.0 3.6.1
ArrayExpress 1.44.0 3.6.1
ArrayExpressHTS 1.34.2 3.6.1
arrayMvout 1.42.0 3.6.1
arrayQuality 1.62.0 3.6.1
arrayQualityMetrics 3.40.0 3.6.1
arrays 1.10.0 3.6.1
ArrayTools 1.44.0 3.6.1
ArrayTV 1.22.0 3.6.1
ARRmData 1.20.0 3.6.1
ARRmNormalization 1.24.0 3.6.1
artMS 1.2.7 3.6.1
arules 1.6-4 3.6.1
ASAFE 1.10.0 3.6.1
ASEB 1.28.0 3.6.1
ASGSCA 1.18.0 3.6.1
AshkenazimSonChr21 1.14.0 3.6.1
ashr 2.2-32 3.6.1
ASICS 2.0.1 3.6.1
ASICSdata 1.4.0 3.6.1
askpass 1.1 3.6.1
ASpli 1.10.0 3.6.1
assertive 0.3-5 3.6.1
assertive.base 0.0-7 3.6.1
assertive.code 0.0-3 3.6.1
assertive.data 0.0-3 3.6.1
assertive.data.uk 0.0-2 3.6.1
assertive.data.us 0.0-2 3.6.1
assertive.datetimes 0.0-2 3.6.1
assertive.files 0.0-2 3.6.1
assertive.matrices 0.0-2 3.6.1
assertive.models 0.0-2 3.6.1
assertive.numbers 0.0-2 3.6.1
assertive.properties 0.0-4 3.6.1
assertive.reflection 0.0-4 3.6.1
assertive.sets 0.0-3 3.6.1
assertive.strings 0.0-3 3.6.1
assertive.types 0.0-3 3.6.1
assertthat 0.2.1 3.6.1
AssessORF 1.2.0 3.6.1
AssessORFData 1.2.0 3.6.1
ASSET 2.2.0 3.6.1
ASSIGN 1.20.1 3.6.1
ATACseqQC 1.8.5 3.6.1
ath1121501cdf 2.18.0 3.6.1
atSNP 1.0.0 3.6.1
attract 1.36.0 3.6.1
AUCell 1.6.1 3.6.1
aws 2.2-1 3.6.1
awsMethods 1.1-1 3.6.1
BaalChIP 1.10.0 3.6.1
BAC 1.44.0 3.6.1
backports 1.1.5 3.6.1
bacon 1.12.0 3.6.1
BADER 1.22.0 3.6.1
BadRegionFinder 1.12.0 3.6.1
BAGS 2.24.0 3.6.1
ballgown 2.16.0 3.6.1
bamsignals 1.16.0 3.6.1
BANDITS 1.0.0 3.6.1
banocc 1.8.1 3.6.1
base 3.6.1 3.6.1
base64 2.0 3.6.1
base64enc 0.1-3 3.6.1
base64url 1.4 3.6.1
basecallQC 1.8.0 3.6.1
baseline 1.2-1 3.6.1
BaseSpaceR 1.28.0 3.6.1
Basic4Cseq 1.20.0 3.6.1
BASiCS 1.6.0 3.6.1
BasicSTARRseq 1.12.0 3.6.1
batchelor 1.0.1 3.6.1
BatchJobs 1.8 3.6.1
BatchQC 1.12.1 3.6.1
batchtools 0.9.11 3.6.1
BayesKnockdown 1.10.0 3.6.1
bayesm 3.1-4 3.6.1
BayesPeak 1.36.0 3.6.1
bayNorm 1.2.0 3.6.1
baySeq 2.18.0 3.6.1
bazar 1.0.11 3.6.1
BB 2014.10-1 3.6.1
BBCAnalyzer 1.14.0 3.6.1
BBmisc 1.11 3.6.1
bbmle 1.0.20 3.6.1
bc3net 1.0.4 3.6.1
bcellViper 1.20.0 3.6.1
BCRANK 1.46.0 3.6.1
bcSeq 1.6.0 3.6.1
BDgraph 2.61 3.6.1
BDMMAcorrect 1.2.0 3.6.1
bdsmatrix 1.3-3 3.6.1
beachmat 2.0.0 3.6.1
beadarray 2.34.0 3.6.1
beadarrayExampleData 1.22.0 3.6.1
beadarraySNP 1.50.0 3.6.1
BeadArrayUseCases 1.22.0 3.6.1
BeadDataPackR 1.36.0 3.6.1
beanplot 1.2 3.6.1
BEARscc 1.4.0 3.6.1
BEAT 1.22.0 3.6.1
BEclear 2.0.0 3.6.1
beeswarm 0.2.3 3.6.1
benchmarkme 1.0.2 3.6.1
benchmarkmeData 1.0.2 3.6.1
beta7 1.22.0 3.6.1
betareg 3.1-2 3.6.1
bezier 1.1.2 3.6.1
bgafun 1.46.0 3.6.1
BgeeCall 1.0.1 3.6.1
BgeeDB 2.10.0 3.6.1
BGmix 1.44.0 3.6.1
bgmm 1.8.3 3.6.1
bgx 1.50.0 3.6.1
BH 1.69.0-1 3.6.1
BHC 1.36.0 3.6.1
BiasedUrn 1.07 3.6.1
BiBitR 0.3.1 3.6.1
bibtex 0.4.2 3.6.1
BicARE 1.42.0 3.6.1
biclust 2.0.1 3.6.1
BiFET 1.4.0 3.6.1
biganalytics 1.1.14 3.6.1
BiGGR 1.20.0 3.6.1
biglm 0.9-1 3.6.1
bigmelon 1.10.0 3.6.1
bigmemory 4.5.33 3.6.1
bigmemory.sri 0.1.3 3.6.1
bigmemoryExtras 1.32.0 3.6.1
bigPint 1.0.0 3.6.1
bigrquery 1.2.0 3.6.1
binom 1.1-1 3.6.1
bioassayR 1.22.0 3.6.1
Biobase 2.44.0 3.6.1
biobroom 1.16.0 3.6.1
bioCancer 1.12.0 3.6.1
BiocCaseStudies 1.46.0 3.6.1
BiocCheck 1.20.0 3.6.1
BiocFileCache 1.8.0 3.6.1
BiocGenerics 0.30.0 3.6.1
biocGraph 1.46.0 3.6.1
BiocManager 1.30.7 3.6.1
BiocMetaWorkflow 1.6.0 3.6.1
BiocNeighbors 1.2.0 3.6.1
BiocOncoTK 1.4.0 3.6.1
BioCor 1.8.1 3.6.1
BiocParallel 1.18.1 3.6.1
BiocPkgTools 1.2.0 3.6.1
BiocSingular 1.0.0 3.6.1
BiocSklearn 1.6.0 3.6.1
BiocStyle 2.12.0 3.6.1
BiocVersion 3.9.0 3.6.1
biocViews 1.52.2 3.6.1
BiocWorkflowTools 1.10.0 3.6.1
bioDist 1.56.0 3.6.1
BioMark 0.4.5 3.6.1
biomaRt 2.40.5 3.6.1
biomformat 1.12.0 3.6.1
BioMM 1.0.0 3.6.1
BioMVCClass 1.52.0 3.6.1
biomvRCNS 1.24.0 3.6.1
BioNet 1.44.0 3.6.1
bionetdata 1.0.1 3.6.1
BioNetStat 1.4.3 3.6.1
BioQC 1.12.0 3.6.1
BioSeqClass 1.42.0 3.6.1
biosigner 1.12.0 3.6.1
Biostrings 2.52.0 3.6.1
biosvd 2.20.0 3.6.1
biotmle 1.8.0 3.6.1
biotmleData 1.8.0 3.6.1
biovizBase 1.32.0 3.6.1
BiRewire 3.16.0 3.6.1
birta 1.28.0 3.6.1
birte 1.20.0 3.6.1
BiSeq 1.24.0 3.6.1
bit 1.1-14 3.6.1
bit64 0.9-7 3.6.1
bitops 1.0-6 3.6.1
BitSeq 1.28.0 3.6.1
biwt 1.0 3.6.1
bladderbatch 1.22.0 3.6.1
blima 1.18.0 3.6.1
blimaTestingData 1.4.0 3.6.1
BLMA 1.8.0 3.6.1
blme 1.0-4 3.6.1
blob 1.2.0 3.6.1
blockmodeling 0.3.4 3.6.1
BloodCancerMultiOmics2017 1.4.0 3.6.1
BMA 3.18.9 3.6.1
bmp 0.3 3.6.1
bnbc 1.6.0 3.6.1
bnlearn 4.5 3.6.1
bodymapRat 1.0.0 3.6.1
bookdown 0.14 3.6.1
BoolNet 2.1.5 3.6.1
boot 1.3-23 3.6.1
bootstrap 2019.6 3.6.1
bpca 1.3-0 3.6.1
BPRMeth 1.10.0 3.6.1
BRAIN 1.30.0 3.6.1
brainImageR 1.2.0 3.6.1
brainImageRdata 1.2.0 3.6.1
BrainStars 1.28.0 3.6.1
branchpointer 1.10.0 3.6.1
breakpointR 1.2.0 3.6.1
breakpointRdata 1.2.0 3.6.1
breastCancerMAINZ 1.22.0 3.6.1
breastCancerNKI 1.22.0 3.6.1
breastCancerTRANSBIG 1.22.0 3.6.1
breastCancerUNT 1.22.0 3.6.1
breastCancerUPP 1.22.0 3.6.1
breastCancerVDX 1.22.0 3.6.1
brew 1.0-6 3.6.1
brgedata 1.6.0 3.6.1
brglm 0.6.2 3.6.1
bridge 1.48.0 3.6.1
BridgeDbR 1.18.0 3.6.1
bronchialIL13 1.22.0 3.6.1
broom 0.5.2 3.6.1
BrowserViz 2.6.0 3.6.1
BSgenome 1.52.0 3.6.1
BSgenome.Athaliana.TAIR.TAIR9 1.3.1000 3.6.1
BSgenome.Btaurus.UCSC.bosTau6 1.4.0 3.6.1
BSgenome.Btaurus.UCSC.bosTau6.masked 1.3.99 3.6.1
BSgenome.Celegans.UCSC.ce10 1.4.0 3.6.1
BSgenome.Celegans.UCSC.ce2 1.4.0 3.6.1
BSgenome.Dmelanogaster.UCSC.dm3 1.4.0 3.6.1
BSgenome.Drerio.UCSC.danRer10 1.4.2 3.6.1
BSgenome.Drerio.UCSC.danRer7 1.4.0 3.6.1
BSgenome.Ecoli.NCBI.20080805 1.3.1000 3.6.1
BSgenome.Ggallus.UCSC.galGal3 1.4.0 3.6.1
BSgenome.Hsapiens.1000genomes.hs37d5 0.99.1 3.6.1
BSgenome.Hsapiens.NCBI.GRCh38 1.3.1000 3.6.1
BSgenome.Hsapiens.UCSC.hg18 1.3.1000 3.6.1
BSgenome.Hsapiens.UCSC.hg18.masked 1.3.99 3.6.1
BSgenome.Hsapiens.UCSC.hg19 1.4.0 3.6.1
BSgenome.Hsapiens.UCSC.hg19.masked 1.3.99 3.6.1
BSgenome.Hsapiens.UCSC.hg38 1.4.1 3.6.1
BSgenome.Hsapiens.UCSC.hg38.masked 1.3.99 3.6.1
BSgenome.Mmusculus.UCSC.mm10 1.4.0 3.6.1
BSgenome.Mmusculus.UCSC.mm10.masked 1.3.99 3.6.1
BSgenome.Mmusculus.UCSC.mm8 1.4.0 3.6.1
BSgenome.Mmusculus.UCSC.mm8.masked 1.3.99 3.6.1
BSgenome.Mmusculus.UCSC.mm9 1.4.0 3.6.1
BSgenome.Mmusculus.UCSC.mm9.masked 1.3.99 3.6.1
BSgenome.Rnorvegicus.UCSC.rn5 1.4.0 3.6.1
BSgenome.Rnorvegicus.UCSC.rn5.masked 1.3.99 3.6.1
BSgenome.Rnorvegicus.UCSC.rn6 1.4.1 3.6.1
BSgenome.Scerevisiae.UCSC.sacCer1 1.4.0 3.6.1
BSgenome.Scerevisiae.UCSC.sacCer2 1.4.0 3.6.1
BSgenome.Scerevisiae.UCSC.sacCer3 1.4.0 3.6.1
bsseq 1.20.0 3.6.1
bsseqData 0.22.0 3.6.1
BubbleTree 2.14.0 3.6.1
BufferedMatrix 1.48.0 3.6.1
BufferedMatrixMethods 1.48.0 3.6.1
BUMHMM 1.8.0 3.6.1
bumphunter 1.26.0 3.6.1
BUS 1.40.0 3.6.1
BUScorrect 1.2.1 3.6.1
c3net 1.1.1 3.6.1
C50 0.1.2 3.6.1
ca 0.71 3.6.1
CAFE 1.20.0 3.6.1
CAGEfightR 1.4.0 3.6.1
CAGEr 1.26.0 3.6.1
CAGEWorkflow 1.0.0 3.6.1
Cairo 1.5-10 3.6.1
cairoDevice 2.28 3.6.1
CALIB 1.50.0 3.6.1
calibrate 1.7.5 3.6.1
callr 3.3.2 3.6.1
CAMERA 1.40.0 3.6.1
CAMTHC 1.2.0 3.6.1
canceR 1.18.6 3.6.1
cancerclass 1.28.0 3.6.1
cancerdata 1.22.0 3.6.1
CancerInSilico 2.4.0 3.6.1
CancerMutationAnalysis 1.26.0 3.6.1
CancerSubtypes 1.10.0 3.6.1
CAnD 1.16.0 3.6.1
caOmicsV 1.14.0 3.6.1
capushe 1.1.1 3.6.1
car 3.0-3 3.6.1
carData 3.0-2 3.6.1
Cardinal 2.2.6 3.6.1
CardinalWorkflows 1.16.0 3.6.1
caret 6.0-84 3.6.1
caroline 0.7.6 3.6.1
casper 2.18.0 3.6.1
CATALYST 1.8.7 3.6.1
Category 2.50.0 3.6.1
categoryCompare 1.28.0 3.6.1
catnet 1.15.5 3.6.1
caTools 1.17.1.2 3.6.1
CausalR 1.16.0 3.6.1
cba 0.2-21 3.6.1
cbaf 1.6.0 3.6.1
ccaPP 0.3.2 3.6.1
ccdata 1.10.0 3.6.1
ccdrAlgorithm 0.0.5 3.6.1
ccfindR 1.4.2 3.6.1
CCl4 1.22.0 3.6.1
ccmap 1.10.0 3.6.1
CCP 1.1 3.6.1
CCPROMISE 1.10.0 3.6.1
ccrepe 1.20.0 3.6.1
ccTutorial 1.22.0 3.6.1
CDFt 1.0.1 3.6.1
celaref 1.2.0 3.6.1
celarefData 1.2.0 3.6.1
celda 1.0.4 3.6.1
celestial 1.4.6 3.6.1
cellbaseR 1.8.1 3.6.1
CellBench 1.0.1 3.6.1
cellGrowth 1.28.0 3.6.1
cellHTS2 2.48.0 3.6.1
cellity 1.12.0 3.6.1
CellMapper 1.10.0 3.6.1
CellMapperData 1.10.0 3.6.1
CellMixS 1.0.2 3.6.1
CellNOptR 1.30.0 3.6.1
cellranger 1.1.0 3.6.1
cellscape 1.8.0 3.6.1
CellScore 1.4.0 3.6.1
CellTrails 1.2.0 3.6.1
cellTree 1.14.0 3.6.1
CEMiTool 1.8.3 3.6.1
ceu1kg 0.22.0 3.6.1
ceu1kgv 0.26.0 3.6.1
ceuhm3 0.22.0 3.6.1
CexoR 1.22.0 3.6.1
CFAssay 1.18.0 3.6.1
cgdsr 1.3.0 3.6.1
cgdv17 0.22.0 3.6.1
CGEN 3.20.0 3.6.1
CGHbase 1.44.0 3.6.1
CGHcall 2.46.0 3.6.1
cghMCR 1.42.0 3.6.1
CGHnormaliter 1.38.0 3.6.1
CGHregions 1.42.0 3.6.1
ChAMP 2.14.0 3.6.1
ChAMPdata 2.16.0 3.6.1
changepoint 2.2.2 3.6.1
CHARGE 1.4.0 3.6.1
checkmate 1.9.4 3.6.1
ChemmineDrugs 1.0.2 3.6.1
ChemmineOB 1.22.0 3.6.1
ChemmineR 3.36.0 3.6.1
ChemometricsWithR 0.1.13 3.6.1
CHETAH 1.0.5 3.6.1
ChIC 1.4.0 3.6.1
ChIC.data 1.4.0 3.6.1
Chicago 1.12.0 3.6.1
chimera 1.26.0 3.6.1
chimeraviz 1.10.0 3.6.1
ChimpHumanBrainData 1.22.0 3.6.1
ChIPanalyser 1.6.0 3.6.1
ChIPComp 1.14.0 3.6.1
chipenrich 2.8.0 3.6.1
chipenrich.data 2.8.0 3.6.1
ChIPexoQual 1.8.0 3.6.1
ChIPexoQualExample 1.8.0 3.6.1
ChIPpeakAnno 3.18.2 3.6.1
ChIPQC 1.20.0 3.6.1
ChIPseeker 1.20.0 3.6.1
chipseq 1.34.0 3.6.1
chipseqDB 1.8.0 3.6.1
chipseqDBData 1.0.0 3.6.1
ChIPseqR 1.38.0 3.6.1
ChIPSeqSpike 1.4.0 3.6.1
ChIPsim 1.38.0 3.6.1
ChIPXpress 1.28.0 3.6.1
ChIPXpressData 1.22.0 3.6.1
chopsticks 1.50.0 3.6.1
chroGPS 2.2.0 3.6.1
chromDraw 2.14.0 3.6.1
ChromHeatMap 1.38.0 3.6.1
chromPlot 1.12.0 3.6.1
chromstaR 1.10.0 3.6.1
chromstaRData 1.10.0 3.6.1
chromswitch 1.6.0 3.6.1
chromVAR 1.6.0 3.6.1
chron 2.3-54 3.6.1
CHRONOS 1.12.0 3.6.1
cicero 1.2.0 3.6.1
CINdex 1.12.0 3.6.1
circlize 0.4.8 3.6.1
CircStats 0.2-6 3.6.1
cisPath 1.24.0 3.6.1
class 7.3-15 3.6.1
ClassifyR 2.4.4 3.6.1
classInt 0.4-1 3.6.1
cleanUpdTSeq 1.22.2 3.6.1
cleaver 1.22.0 3.6.1
cli 1.1.0 3.6.1
clinfun 1.0.15 3.6.1
clippda 1.34.0 3.6.1
clipper 1.24.0 3.6.1
clipr 0.7.0 3.6.1
clisymbols 1.2.0 3.6.1
CLL 1.24.0 3.6.1
CLLmethylation 1.4.0 3.6.1
Clomial 1.20.0 3.6.1
Clonality 1.32.0 3.6.1
clonotypeR 1.22.0 3.6.1
clst 1.32.0 3.6.1
clstutils 1.32.0 3.6.1
clue 0.3-57 3.6.1
clues 0.6.1 3.6.1
CluMSID 1.0.0 3.6.1
CluMSIDdata 1.0.0 3.6.1
clustComp 1.12.0 3.6.1
cluster 2.1.0 3.6.1
clusterCrit 1.2.8 3.6.1
clusterExperiment 2.4.4 3.6.1
ClusterJudge 1.6.0 3.6.1
clusterProfiler 3.12.0 3.6.1
ClusterR 1.2.0 3.6.1
clusterSeq 1.8.0 3.6.1
ClusterSignificance 1.12.0 3.6.1
clusterSim 0.47-4 3.6.1
clusterStab 1.56.0 3.6.1
clustsig 1.1 3.6.1
clustvarsel 2.3.3 3.6.1
clv 0.3-2.1 3.6.1
clValid 0.6-6 3.6.1
CMA 1.42.0 3.6.1
cMAP 1.15.1 3.6.1
cMap2data 1.20.0 3.6.1
cmprsk 2.2-9 3.6.1
cn.farms 1.32.0 3.6.1
cn.mops 1.30.0 3.6.1
CNAnorm 1.30.0 3.6.1
CNEr 1.20.0 3.6.1
CNORdt 1.26.0 3.6.1
CNORfeeder 1.24.0 3.6.1
CNORfuzzy 1.26.0 3.6.1
CNORode 1.26.0 3.6.1
CNPBayes 1.14.0 3.6.1
CNTools 1.40.0 3.6.1
cnvGSA 1.28.0 3.6.1
cnvGSAdata 1.20.0 3.6.1
CNVPanelizer 1.16.0 3.6.1
CNVRanger 1.0.3 3.6.1
CNVrd2 1.22.0 3.6.1
CNVtools 1.78.0 3.6.1
cobindR 1.22.0 3.6.1
cobs 1.3-3 3.6.1
CoCiteStats 1.56.0 3.6.1
COCOA 1.2.0 3.6.1
coda 0.19-3 3.6.1
codelink 1.52.0 3.6.1
codetools 0.2-16 3.6.1
CODEX 1.16.0 3.6.1
coexnet 1.6.0 3.6.1
CoGAPS 3.4.1 3.6.1
cogena 1.18.0 3.6.1
coGPS 1.28.0 3.6.1
COHCAP 1.30.0 3.6.1
COHCAPanno 1.20.0 3.6.1
coin 1.3-1 3.6.1
cola 1.0.1 3.6.1
colonCA 1.26.0 3.6.1
colorRamps 2.3 3.6.1
colorspace 1.4-1 3.6.1
colortools 0.1.5 3.6.1
colourpicker 1.0 3.6.1
colr 0.1.900 3.6.1
combinat 0.0-8 3.6.1
coMET 1.16.0 3.6.1
cometExactTest 0.1.5 3.6.1
commonmark 1.7 3.6.1
compartmap 1.2.0 3.6.1
COMPASS 1.22.0 3.6.1
compcodeR 1.20.1 3.6.1
compEpiTools 1.18.0 3.6.1
CompGO 1.20.0 3.6.1
compiler 3.6.1 3.6.1
ComplexHeatmap 2.0.0 3.6.1
compositions 1.40-2 3.6.1
CompQuadForm 1.4.3 3.6.1
condcomp 1.2.0 3.6.1
CONFESS 1.12.0 3.6.1
CONFESSdata 1.12.0 3.6.1
config 0.3 3.6.1
ConnectivityMap 1.20.0 3.6.1
consensus 1.2.2 3.6.1
ConsensusClusterPlus 1.48.0 3.6.1
consensusDE 1.2.1 3.6.1
consensusOV 1.6.0 3.6.1
consensusSeekeR 1.12.0 3.6.1
contiBAIT 1.12.0 3.6.1
contrast 0.21 3.6.1
conumee 1.18.0 3.6.1
convert 1.60.0 3.6.1
copa 1.52.0 3.6.1
COPDSexualDimorphism.data 1.20.0 3.6.1
copula 0.999-19.1 3.6.1
CopyhelpeR 1.16.0 3.6.1
CopyNeutralIMA 1.2.0 3.6.1
copynumber 1.24.0 3.6.1
CopyNumberPlots 1.0.1 3.6.1
CopywriteR 2.16.0 3.6.1
coRdon 1.2.0 3.6.1
CoRegFlux 1.0.0 3.6.1
CoRegNet 1.22.0 3.6.1
Cormotif 1.30.0 3.6.1
CorMut 1.26.0 3.6.1
corpcor 1.6.9 3.6.1
CORREP 1.50.0 3.6.1
corrgram 1.13 3.6.1
corrplot 0.84 3.6.1
coseq 1.8.0 3.6.1
COSINE 2.1 3.6.1
COSMIC.67 1.20.0 3.6.1
cosmiq 1.18.0 3.6.1
COSNet 1.18.0 3.6.1
CountClust 1.12.0 3.6.1
countsimQC 1.2.0 3.6.1
covEB 1.10.0 3.6.1
CoverageView 1.22.0 3.6.1
covr 3.3.1 3.6.1
covRNA 1.10.0 3.6.1
cowplot 1.0.0 3.6.1
CoxBoost 1.4 3.6.1
cp4p 0.3.6 3.6.1
CPE 1.5.1 3.6.1
cpvSNP 1.16.0 3.6.1
cqn 1.30.0 3.6.1
crayon 1.3.4 3.6.1
CRCL18 1.4.0 3.6.1
CRImage 1.32.0 3.6.1
CRISPRseek 1.24.0 3.6.1
crisprseekplus 1.10.0 3.6.1
CrispRVariants 1.12.0 3.6.1
crlmm 1.42.0 3.6.1
crossmeta 1.10.0 3.6.1
crosstalk 1.0.0 3.6.1
crul 0.8.4 3.6.1
CSAR 1.36.0 3.6.1
csaw 1.18.0 3.6.1
csawUsersGuide 1.0.0 3.6.1
CSSP 1.22.0 3.6.1
ctc 1.58.0 3.6.1
CTDquerier 1.4.3 3.6.1
cTRAP 1.2.0 3.6.1
ctsGE 1.10.0 3.6.1
cubature 2.0.3 3.6.1
Cubist 0.2.2 3.6.1
cummeRbund 2.26.0 3.6.1
curatedAdipoChIP 1.0.0 3.6.1
curatedAdipoRNA 1.0.0 3.6.1
curatedBladderData 1.20.0 3.6.1
curatedBreastData 2.12.0 3.6.1
curatedCRCData 2.16.0 3.6.1
curatedMetagenomicData 1.14.1 3.6.1
curatedOvarianData 1.22.0 3.6.1
curatedTCGAData 1.6.0 3.6.1
curl 4.2 3.6.1
customProDB 1.24.0 3.6.1
cvAUC 1.1.0 3.6.1
CVE 1.10.0 3.6.1
cvTools 0.3.2 3.6.1
cycle 1.38.0 3.6.1
cyclocomp 1.1.0 3.6.1
cydar 1.8.0 3.6.1
CytoDx 1.4.0 3.6.1
cytofast 1.0.0 3.6.1
cytofWorkflow 1.8.6 3.6.1
cytolib 1.6.0 3.6.1
CytoML 1.10.0 3.6.1
d3heatmap 0.6.1.2 3.6.1
d3Network 0.5.2.1 3.6.1
dada2 1.12.1 3.6.1
dagitty 0.2-2 3.6.1
dagLogo 1.22.3 3.6.1
daMA 1.56.0 3.6.1
DaMiRseq 1.8.0 3.6.1
DAPAR 1.16.11 3.6.1
DAPARdata 1.14.0 3.6.1
DART 1.32.0 3.6.1
data.table 1.12.4 3.6.1
data.tree 0.7.8 3.6.1
datasets 3.6.1 3.6.1
davidTiling 1.24.0 3.6.1
dbarts 0.9-13 3.6.1
DBChIP 1.28.0 3.6.1
DBI 1.0.0 3.6.1
dbplyr 1.4.2 3.6.1
dbscan 1.1-4 3.6.1
dcanr 1.0.0 3.6.1
dcGSA 1.12.0 3.6.1
DChIPRep 1.14.0 3.6.1
ddCt 1.40.0 3.6.1
ddPCRclust 1.4.0 3.6.1
DDRTree 0.1.5 3.6.1
debrowser 1.12.3 3.6.1
DECIPHER 2.12.0 3.6.1
deco 1.0.0 3.6.1
DEComplexDisease 1.4.0 3.6.1
decompTumor2Sig 2.0.0 3.6.1
DeconRNASeq 1.26.0 3.6.1
decontam 1.4.0 3.6.1
DEDS 1.58.0 3.6.1
DeepBlueR 1.10.0 3.6.1
deepSNV 1.30.0 3.6.1
DEFormats 1.12.0 3.6.1
DEGraph 1.36.0 3.6.1
DEGreport 1.20.0 3.6.1
DEGseq 1.38.0 3.6.1
Delaporte 7.0.2 3.6.1
DelayedArray 0.10.0 3.6.1
DelayedDataFrame 1.0.0 3.6.1
DelayedMatrixStats 1.6.1 3.6.1
deldir 0.1-23 3.6.1
deltaGseg 1.24.0 3.6.1
DeMAND 1.14.0 3.6.1
DeMixT 1.0.4 3.6.1
dendextend 1.12.0 3.6.1
dendsort 0.3.3 3.6.1
densityClust 0.3 3.6.1
DEoptimR 1.0-8 3.6.1
DEP 1.6.1 3.6.1
DepecheR 1.0.3 3.6.1
depmixS4 1.4-0 3.6.1
DEqMS 1.2.0 3.6.1
derfinder 1.18.9 3.6.1
derfinderData 2.2.1 3.6.1
derfinderHelper 1.18.1 3.6.1
derfinderPlot 1.18.1 3.6.1
Deriv 3.9.0 3.6.1
desc 1.2.0 3.6.1
DEScan2 1.4.0 3.6.1
DescTools 0.99.29 3.6.1
DESeq 1.36.0 3.6.1
DESeq2 1.24.0 3.6.1
DEsingle 1.4.0 3.6.1
deSolve 1.24 3.6.1
DeSousa2013 1.20.0 3.6.1
destiny 2.14.0 3.6.1
DEsubs 1.10.0 3.6.1
devtools 2.2.1 3.6.1
DEXSeq 1.30.0 3.6.1
dexus 1.24.0 3.6.1
DFP 1.42.0 3.6.1
diagram 1.6.4 3.6.1
DiagrammeR 1.0.1 3.6.1
DiagrammeRsvg 0.1 3.6.1
dichromat 2.0-0 3.6.1
DiffBind 2.12.0 3.6.1
diffcoexp 1.4.0 3.6.1
DiffCorr 0.4.1 3.6.1
diffcyt 1.4.4 3.6.1
diffGeneAnalysis 1.66.0 3.6.1
diffHic 1.16.0 3.6.1
DiffLogo 2.8.0 3.6.1
diffloop 1.12.0 3.6.1
diffloopdata 1.12.0 3.6.1
diffobj 0.2.3 3.6.1
diffr 0.1 3.6.1
diffusr 0.1.4 3.6.1
diffuStats 1.4.0 3.6.1
digest 0.6.21 3.6.1
diggit 1.16.0 3.6.1
diggitdata 1.16.0 3.6.1
diptest 0.75-7 3.6.1
Director 1.10.0 3.6.1
DirichletMultinomial 1.26.0 3.6.1
discordant 1.8.0 3.6.1
DiscoRhythm 1.0.0 3.6.1
discretecdAlgorithm 0.0.5 3.6.1
DiscriMiner 0.1-29 3.6.1
distillery 1.0-6 3.6.1
distr 2.8.0 3.6.1
distrEx 2.8.0 3.6.1
divergence 1.0.0 3.6.1
dks 1.30.0 3.6.1
DLBCL 1.24.0 3.6.1
DMCHMM 1.6.0 3.6.1
DmelSGI 1.16.0 3.6.1
DMRcaller 1.16.0 3.6.1
DMRcate 1.20.0 3.6.1
DMRcatedata 1.20.0 3.6.1
DMRforPairs 1.20.0 3.6.1
DMRScan 1.10.0 3.6.1
dmrseq 1.4.9 3.6.1
dmt 0.8.20 3.6.1
DMwR 0.4.1 3.6.1
DNABarcodeCompatibility 1.0.2 3.6.1
DNABarcodes 1.14.0 3.6.1
DNAcopy 1.58.0 3.6.1
DNAshapeR 1.12.0 3.6.1
dnet 1.1.4 3.6.1
DO.db 2.9 3.6.1
doBy 4.6-2 3.6.1
docopt 0.6.1 3.6.1
doFuture 0.8.1 3.6.1
doMC 1.3.6 3.6.1
DominoEffect 1.4.0 3.6.1
DonaPLLP2013 1.22.0 3.6.1
doParallel 1.0.15 3.6.1
doppelgangR 1.12.0 3.6.1
DOQTL 1.20.0 3.6.1
doRNG 1.7.1 3.6.1
Doscheda 1.6.0 3.6.1
DOSE 3.10.2 3.6.1
doseR 1.0.0 3.6.1
doSNOW 1.0.18 3.6.1
dotCall64 1.0-0 3.6.1
downloader 0.4 3.6.1
dplyr 0.8.3 3.6.1
DPpackage 1.1-7.4 3.6.1
dqrng 0.2.1 3.6.1
drawProteins 1.4.0 3.6.1
drc 3.0-1 3.6.1
DREAM4 1.20.0 3.6.1
dressCheck 0.22.0 3.6.1
DRIMSeq 1.12.0 3.6.1
DriverNet 1.24.0 3.6.1
DropletUtils 1.4.3 3.6.1
drosgenome1.db 3.2.3 3.6.1
drosophila2probe 2.18.0 3.6.1
DrugVsDisease 2.26.0 3.6.1
DrugVsDiseasedata 1.20.0 3.6.1
dsQTL 0.22.0 3.6.1
DSS 2.32.0 3.6.1
DT 0.9 3.6.1
DTA 2.30.0 3.6.1
dtw 1.21-3 3.6.1
dualKS 1.44.0 3.6.1
dunn.test 1.3.5 3.6.1
DuoClustering2018 1.2.0 3.6.1
DupChecker 1.22.0 3.6.1
dupRadar 1.14.0 3.6.1
DvDdata 1.20.0 3.6.1
dyebias 1.44.0 3.6.1
dyebiasexamples 1.24.0 3.6.1
dynamicTreeCut 1.63-1 3.6.1
DynDoc 1.62.0 3.6.1
e1071 1.7-2 3.6.1
earth 5.1.1 3.6.1
EasyqpcR 1.26.0 3.6.1
easyRNASeq 2.20.0 3.6.1
EatonEtAlChIPseq 0.22.0 3.6.1
EBarrays 2.48.0 3.6.1
EBcoexpress 1.28.0 3.6.1
ebdbNet 1.2.5 3.6.1
EBImage 4.26.0 3.6.1
EBSEA 1.12.0 3.6.1
EBSeq 1.24.0 3.6.1
EBSeqHMM 1.18.0 3.6.1
ecolicdf 2.18.0 3.6.1
ecoliLeucine 1.24.0 3.6.1
ecolitk 1.56.0 3.6.1
ecp 3.1.1 3.6.1
EDASeq 2.18.0 3.6.1
EDDA 1.22.0 3.6.1
edge 2.16.0 3.6.1
edgeR 3.26.8 3.6.1
eegc 1.10.0 3.6.1
EGAD 1.12.0 3.6.1
egg 0.4.5 3.6.1
EGSEA 1.12.0 3.6.1
EGSEA123 1.8.0 3.6.1
EGSEAdata 1.12.0 3.6.1
eiR 1.24.0 3.6.1
eisa 1.36.0 3.6.1
elasticnet 1.1.1 3.6.1
ELBOW 1.20.0 3.6.1
ellipse 0.4.1 3.6.1
ellipsis 0.3.0 3.6.1
ELMER 2.8.3 3.6.1
ELMER.data 2.8.1 3.6.1
emdbook 1.3.11 3.6.1
emdist 0.3-1 3.6.1
EMDomics 2.14.0 3.6.1
emmeans 1.4.1 3.6.1
emojifont 0.5.2 3.6.1
EmpiricalBrownsMethod 1.12.0 3.6.1
EMT 1.1 3.6.1
ENCODExplorer 2.10.0 3.6.1
energy 1.7-6 3.6.1
EnhancedVolcano 1.2.0 3.6.1
ENmix 1.21.6 3.6.1
EnrichedHeatmap 1.14.0 3.6.1
EnrichmentBrowser 2.14.3 3.6.1
enrichplot 1.4.0 3.6.1
enrichR 2.1 3.6.1
enrichTF 1.0.0 3.6.1
EnsDb.Hsapiens.v75 2.99.0 3.6.1
EnsDb.Hsapiens.v79 2.99.0 3.6.1
EnsDb.Hsapiens.v86 2.99.0 3.6.1
EnsDb.Mmusculus.v79 2.99.0 3.6.1
ensembldb 2.8.1 3.6.1
ensemblVEP 1.26.1 3.6.1
ensurer 1.1 3.6.1
entropy 1.2.1 3.6.1
EntropyExplorer 1.1 3.6.1
enviPat 2.4 3.6.1
ENVISIONQuery 1.32.0 3.6.1
EnvStats 2.3.1 3.6.1
Epi 2.38 3.6.1
EpiDISH 2.0.2 3.6.1
epigenomix 1.24.0 3.6.1
epihet 1.0.0 3.6.1
epiNEM 1.8.0 3.6.1
epivizr 2.14.0 3.6.1
epivizrChart 1.6.0 3.6.1
epivizrData 1.12.0 3.6.1
epivizrServer 1.12.0 3.6.1
epivizrStandalone 1.12.0 3.6.1
eQTL 1.8.0 3.6.1
erccdashboard 1.18.0 3.6.1
erma 1.0.0 3.6.1
ERSSA 1.2.0 3.6.1
esATAC 1.6.1 3.6.1
esetVis 1.10.0 3.6.1
estimability 1.3 3.6.1
estrogen 1.30.0 3.6.1
etec16s 1.12.0 3.6.1
etm 1.0.5 3.6.1
etrunct 0.1 3.6.1
eudysbiome 1.14.0 3.6.1
eulerr 6.0.0 3.6.1
europepmc 0.3 3.6.1
evaluate 0.14 3.6.1
evaluomeR 1.0.63 3.6.1
evd 2.3-3 3.6.1
EventPointer 2.2.4 3.6.1
evmix 2.12 3.6.1
exactRankTests 0.8-30 3.6.1
ExCluster 1.2.0 3.6.1
ExiMiR 2.26.0 3.6.1
exomeCopy 1.30.0 3.6.1
exomePeak 2.18.0 3.6.1
ExperimentHub 1.10.0 3.6.1
ExperimentHubData 1.10.0 3.6.1
expint 0.1-5 3.6.1
explorase 1.48.0 3.6.1
expm 0.999-4 3.6.1
ExPosition 2.8.23 3.6.1
ExpressionAtlas 1.12.0 3.6.1
ExpressionNormalizationWorkflow 1.10.0 3.6.1
ExpressionView 1.36.0 3.6.1
extrafont 0.17 3.6.1
extrafontdb 1.0 3.6.1
extRemes 2.0-10 3.6.1
extremevalues 2.3.2 3.6.1
faahKO 1.24.0 3.6.1
fabia 2.30.0 3.6.1
fabiaData 1.22.0 3.6.1
facopy.annot 1.4.0 3.6.1
facsDorit 1.26.0 3.6.1
factDesign 1.60.0 3.6.1
factoextra 1.0.5 3.6.1
FactoMineR 1.42 3.6.1
FamAgg 1.12.0 3.6.1
fansi 0.4.0 3.6.1
FANTOM3and4CAGE 1.20.0 3.6.1
farms 1.36.0 3.6.1
farver 1.1.0 3.6.1
fastcluster 1.1.25 3.6.1
fastICA 1.2-2 3.6.1
fastLiquidAssociation 1.20.0 3.6.1
fastmap 1.0.1 3.6.1
fastmatch 1.1-0 3.6.1
FastqCleaner 1.2.0 3.6.1
fastqcr 0.1.2 3.6.1
fastseg 1.30.0 3.6.1
fBasics 3042.89 3.6.1
FCBF 1.2.5 3.6.1
fCCAC 1.10.0 3.6.1
fCI 1.14.0 3.6.1
FD 1.0-12 3.6.1
fda 2.4.8 3.6.1
FDb.InfiniumMethylation.hg18 2.2.0 3.6.1
FDb.InfiniumMethylation.hg19 2.2.0 3.6.1
FDb.UCSC.tRNAs 1.0.1 3.6.1
fdrame 1.56.0 3.6.1
fdrtool 1.2.15 3.6.1
feather 0.3.5 3.6.1
feature 1.2.13 3.6.1
FELLA 1.4.1 3.6.1
FEM 3.12.0 3.6.1
ff 2.2-14 3.6.1
ffbase 0.12.7 3.6.1
FField 0.1.0 3.6.1
ffpe 1.28.0 3.6.1
ffpeExampleData 1.22.0 3.6.1
fftwtools 0.9-8 3.6.1
FGNet 3.18.0 3.6.1
fgsea 1.10.1 3.6.1
fibroEset 1.26.0 3.6.1
fields 9.9 3.6.1
filehash 2.4-2 3.6.1
filematrix 1.3 3.6.1
FindMyFriends 1.14.0 3.6.1
findpython 1.0.5 3.6.1
fingerprint 3.5.7 3.6.1
FIs 1.12.0 3.6.1
FISHalyseR 1.18.0 3.6.1
fishpond 1.0.2 3.6.1
fission 1.4.0 3.6.1
fit.models 0.5-14 3.6.1
fitdistrplus 1.0-14 3.6.1
FitHiC 1.10.0 3.6.1
flagme 1.40.0 3.6.1
flare 1.6.0.2 3.6.1
flashClust 1.01-2 3.6.1
Fletcher2013a 1.20.0 3.6.1
Fletcher2013b 1.20.0 3.6.1
flexclust 1.4-0 3.6.1
flexdashboard 0.5.1.1 3.6.1
flexmix 2.3-15 3.6.1
flowAI 1.14.0 3.6.1
flowBeads 1.22.0 3.6.1
flowBin 1.20.0 3.6.1
flowcatchR 1.18.0 3.6.1
flowCHIC 1.18.0 3.6.1
flowCL 1.22.0 3.6.1
flowClean 1.22.0 3.6.1
flowClust 3.22.0 3.6.1
flowCore 1.50.0 3.6.1
flowCyBar 1.20.0 3.6.1
flowDensity 1.18.0 3.6.1
flowFit 1.22.0 3.6.1
flowFitExampleData 1.20.0 3.6.1
flowFP 1.42.0 3.6.1
flowMap 1.22.0 3.6.1
flowMatch 1.20.0 3.6.1
flowMeans 1.44.0 3.6.1
flowMerge 2.32.0 3.6.1
flowPeaks 1.30.0 3.6.1
flowPloidy 1.10.0 3.6.1
flowPloidyData 1.10.0 3.6.1
flowPlots 1.32.0 3.6.1
flowQB 2.11.1 3.6.1
flowQBData 1.10.0 3.6.1
FlowRepositoryR 1.16.0 3.6.1
FlowSOM 1.16.0 3.6.1
FlowSorted.Blood.450k 1.22.0 3.6.1
FlowSorted.Blood.EPIC 1.2.0 3.6.1
FlowSorted.CordBlood.450k 1.12.0 3.6.1
FlowSorted.CordBloodCombined.450k 1.0.0 3.6.1
FlowSorted.CordBloodNorway.450k 1.10.0 3.6.1
FlowSorted.DLPFC.450k 1.20.0 3.6.1
flowStats 3.42.0 3.6.1
flowTime 1.8.0 3.6.1
flowTrans 1.36.0 3.6.1
flowType 2.22.0 3.6.1
flowUtils 1.48.0 3.6.1
flowViz 1.48.0 3.6.1
flowVS 1.16.0 3.6.1
flowWorkspace 3.32.0 3.6.1
flowWorkspaceData 2.20.0 3.6.1
fmcsR 1.26.0 3.6.1
fmsb 0.6.3 3.6.1
FNN 1.1.3 3.6.1
focalCall 1.18.0 3.6.1
FoldGO 1.2.3 3.6.1
fontBitstreamVera 0.1.1 3.6.1
fontLiberation 0.1.0 3.6.1
fontquiver 0.2.1 3.6.1
forcats 0.4.0 3.6.1
foreach 1.4.7 3.6.1
forecast 8.9 3.6.1
foreign 0.8-72 3.6.1
forestplot 1.9 3.6.1
formatR 1.7 3.6.1
Formula 1.2-3 3.6.1
formula.tools 1.7.1 3.6.1
FourCSeq 1.18.0 3.6.1
fpc 2.2-3 3.6.1
fracdiff 1.4-2 3.6.1
freetypeharfbuzz 0.2.5 3.6.1
FRGEpistasis 1.20.0 3.6.1
frma 1.36.0 3.6.1
frmaExampleData 1.20.0 3.6.1
frmaTools 1.36.0 3.6.1
fs 1.3.1 3.6.1
FSelector 0.31 3.6.1
FunChIP 1.10.0 3.6.1
FunciSNP 1.28.0 3.6.1
FunciSNP.data 1.20.0 3.6.1
functional 0.6 3.6.1
funtooNorm 1.8.0 3.6.1
furrowSeg 1.12.0 3.6.1
futile.logger 1.4.3 3.6.1
futile.options 1.0.1 3.6.1
future 1.14.0 3.6.1
future.apply 1.3.0 3.6.1
GA4GHclient 1.8.0 3.6.1
GA4GHshiny 1.6.0 3.6.1
gaga 2.30.0 3.6.1
gage 2.34.0 3.6.1
gageData 2.22.0 3.6.1
gaggle 1.52.0 3.6.1
gaia 2.28.0 3.6.1
gam 1.16.1 3.6.1
gamlss 5.1-5 3.6.1
gamlss.data 5.1-4 3.6.1
gamlss.dist 5.1-5 3.6.1
gap 1.2.1 3.6.1
GAPGOM 1.0.0 3.6.1
GAprediction 1.10.0 3.6.1
garfield 1.12.0 3.6.1
gargle 0.4.0 3.6.1
GARS 1.4.0 3.6.1
gaschYHS 1.22.0 3.6.1
GateFinder 1.4.0 3.6.1
gatingMLData 2.24.0 3.6.1
gbm 2.1.5 3.6.1
gbRd 0.4-11 3.6.1
gcapc 1.8.0 3.6.1
gcatest 1.14.0 3.6.1
gclus 1.3.2 3.6.1
gCMAP 1.28.0 3.6.1
gCMAPWeb 1.24.0 3.6.1
gCrisprTools 1.12.0 3.6.1
gcrma 2.56.0 3.6.1
gcspikelite 1.22.0 3.6.1
gdata 2.18.0 3.6.1
GDCRNATools 1.4.1 3.6.1
GDSArray 1.4.2 3.6.1
gdsfmt 1.20.0 3.6.1
gdtools 0.2.1 3.6.1
geecc 1.18.0 3.6.1
geeM 0.10.1 3.6.1
geepack 1.2-1 3.6.1
GEM 1.10.0 3.6.1
genalg 0.2.0 3.6.1
genArise 1.60.0 3.6.1
genbankr 1.12.0 3.6.1
GeneAccord 1.2.0 3.6.1
GeneAnswers 2.26.0 3.6.1
geneAttribution 1.10.0 3.6.1
GeneBreak 1.14.0 3.6.1
geneClassifiers 1.8.0 3.6.1
GeneExpressionSignature 1.30.0 3.6.1
genefilter 1.66.0 3.6.1
genefu 2.16.0 3.6.1
GeneGA 1.34.0 3.6.1
GeneGeneInteR 1.10.0 3.6.1
geneLenDataBase 1.20.0 3.6.1
GeneMeta 1.56.0 3.6.1
GeneNet 1.2.13 3.6.1
GeneNetworkBuilder 1.26.1 3.6.1
GeneOverlap 1.20.0 3.6.1
geneplast 1.10.3 3.6.1
geneplast.data.string.v91 0.99.6 3.6.1
geneplotter 1.62.0 3.6.1
geneRecommender 1.56.0 3.6.1
GeneRegionScan 1.40.0 3.6.1
generegulation 1.8.0 3.6.1
generics 0.0.2 3.6.1
geneRxCluster 1.20.0 3.6.1
GeneSelectMMD 2.28.0 3.6.1
GENESIS 2.14.4 3.6.1
GeneStructureTools 1.4.0 3.6.1
geNetClassifier 1.24.0 3.6.1
genetics 1.3.8.1.2 3.6.1
GeneticsDesign 1.52.0 3.6.1
GeneticsPed 1.46.0 3.6.1
geneXtendeR 1.10.0 3.6.1
GENIE3 1.6.0 3.6.1
GenKern 1.2-60 3.6.1
GENLIB 1.0.6 3.6.1
genoCN 1.36.0 3.6.1
GenoGAM 2.2.0 3.6.1
genomation 1.16.0 3.6.1
genomationData 1.16.0 3.6.1
GenomeGraphs 1.44.0 3.6.1
GenomeInfoDb 1.20.0 3.6.1
GenomeInfoDbData 1.2.1 3.6.1
genomeIntervals 1.40.0 3.6.1
genomes 3.14.0 3.6.1
genomewidesnp5Crlmm 1.0.6 3.6.1
genomewidesnp6Crlmm 1.0.7 3.6.1
GenomicAlignments 1.20.1 3.6.1
GenomicDataCommons 1.8.0 3.6.1
GenomicFeatures 1.36.4 3.6.1
GenomicFiles 1.20.0 3.6.1
GenomicInteractions 1.18.1 3.6.1
GenomicRanges 1.36.1 3.6.1
GenomicScores 1.8.1 3.6.1
GenomicTuples 1.18.1 3.6.1
Genominator 1.38.0 3.6.1
genoset 1.40.0 3.6.1
genotypeeval 1.16.0 3.6.1
genphen 1.12.1 3.6.1
GenRank 1.12.0 3.6.1
GenSA 1.1.7 3.6.1
GenVisR 1.16.1 3.6.1
GeoDE 1.0 3.6.1
GEOmap 2.4-4 3.6.1
GEOmetadb 1.46.0 3.6.1
geometry 0.4.4 3.6.1
GEOquery 2.52.0 3.6.1
GEOsubmission 1.36.0 3.6.1
gep2pep 1.4.0 3.6.1
gespeR 1.16.0 3.6.1
getopt 1.20.3 3.6.1
GetoptLong 0.1.7 3.6.1
GeuvadisTranscriptExpr 1.12.0 3.6.1
geuvPack 1.16.0 3.6.1
geuvStore2 1.14.0 3.6.1
GEWIST 1.28.0 3.6.1
GFA 1.0.3 3.6.1
GGally 1.4.0 3.6.1
GGBase 3.46.0 3.6.1
ggbeeswarm 0.6.0 3.6.1
ggbio 1.32.0 3.6.1
ggcorrplot 0.1.3 3.6.1
ggcyto 1.12.0 3.6.1
GGdata 1.22.0 3.6.1
ggdendro 0.1-20 3.6.1
ggExtra 0.9 3.6.1
ggforce 0.3.1 3.6.1
ggformula 0.9.2 3.6.1
ggfortify 0.4.7 3.6.1
ggimage 0.2.3 3.6.1
ggiraph 0.6.1 3.6.1
ggm 2.3 3.6.1
ggmcmc 1.3 3.6.1
ggnetwork 0.5.1 3.6.1
ggplot2 3.2.1 3.6.1
ggplotify 0.0.4 3.6.1
ggpmisc 0.3.1 3.6.1
ggpubr 0.2.3 3.6.1
ggraph 2.0.0 3.6.1
ggrepel 0.8.1 3.6.1
ggridges 0.5.1 3.6.1
ggsci 2.9 3.6.1
ggseqlogo 0.1 3.6.1
ggsignif 0.6.0 3.6.1
ggstance 0.3.3 3.6.1
ggtern 3.1.0 3.6.1
ggthemes 4.2.0 3.6.1
GGtools 5.20.0 3.6.1
ggtree 1.16.6 3.6.1
ggvis 0.4.4 3.6.1
gh 1.0.1 3.6.1
GIGSEA 1.2.0 3.6.1
GIGSEAdata 1.2.0 3.6.1
girafe 1.36.0 3.6.1
GISPA 1.8.0 3.6.1
gistr 0.4.2 3.6.1
git2r 0.26.1 3.6.1
GLAD 2.48.0 3.6.1
GladiaTOX 1.0.0 3.6.1
glasso 1.11 3.6.1
Glimma 1.12.0 3.6.1
glm2 1.2.1 3.6.1
glmnet 2.0-18 3.6.1
glmSparseNet 1.2.0 3.6.1
GlobalAncova 4.2.0 3.6.1
GlobalOptions 0.1.1 3.6.1
globals 0.12.4 3.6.1
globalSeq 1.12.0 3.6.1
globaltest 5.38.0 3.6.1
glpkAPI 1.3.1 3.6.1
glue 1.3.1 3.6.1
GmapGenome.Hsapiens.rCRS 1.0 3.6.1
gmapR 1.26.0 3.6.1
gmm 1.6-2 3.6.1
gmodels 2.18.1 3.6.1
gmp 0.5-13.5 3.6.1
GMRP 1.12.0 3.6.1
GNET2 1.0.0 3.6.1
gnm 1.1-0 3.6.1
GO.db 3.8.2 3.6.1
GOexpress 1.18.0 3.6.1
goftest 1.1-1 3.6.1
GOfuncR 1.4.0 3.6.1
GOFunction 1.32.0 3.6.1
golubEsets 1.26.0 3.6.1
googleAuthR 1.1.1 3.6.1
googleVis 0.6.4 3.6.1
GOpro 1.10.0 3.6.1
goProfiles 1.46.0 3.6.1
goric 1.1-0 3.6.1
GOSemSim 2.10.0 3.6.1
goseq 1.36.0 3.6.1
GOSim 1.22.0 3.6.1
goSTAG 1.8.0 3.6.1
GOstats 2.50.0 3.6.1
GOsummaries 2.20.0 3.6.1
GOTHiC 1.20.6 3.6.1
goTools 1.58.0 3.6.1
gower 0.2.1 3.6.1
gpart 1.2.0 3.6.1
GPfit 1.0-8 3.6.1
gplots 3.0.1.1 3.6.1
gpls 1.56.0 3.6.1
gprege 1.28.0 3.6.1
gProfileR 0.6.8 3.6.1
gptk 1.08 3.6.1
gpuMagic 1.0.0 3.6.1
gQTLBase 1.16.0 3.6.1
gQTLstats 1.16.0 3.6.1
gRain 1.3-0 3.6.1
graper 1.0.0 3.6.1
graph 1.62.0 3.6.1
GraphAlignment 1.48.0 3.6.1
GraphAT 1.56.0 3.6.1
graphics 3.6.1 3.6.1
graphite 1.30.0 3.6.1
graphlayouts 0.5.0 3.6.1
GraphPAC 1.26.0 3.6.1
grasp2db 1.1.0 3.6.1
gRbase 1.8-4.5 3.6.1
grDevices 3.6.1 3.6.1
GRENITS 1.36.0 3.6.1
GreyListChIP 1.16.0 3.6.1
grid 3.6.1 3.6.1
gridBase 0.4-7 3.6.1
gridExtra 2.3 3.6.1
gridGraphics 0.4-1 3.6.1
gridSVG 1.7-0 3.6.1
grImport 0.9-2 3.6.1
grImport2 0.1-5 3.6.1
GRmetrics 1.10.0 3.6.1
grndata 1.16.0 3.6.1
groHMM 1.18.0 3.6.1
grr 0.9.5 3.6.1
GRridge 1.8.0 3.6.1
GSA 1.03.1 3.6.1
GSALightning 1.12.0 3.6.1
GSAR 1.18.0 3.6.1
GSBenchMark 1.4.0 3.6.1
GSCA 2.14.0 3.6.1
GSE62944 1.12.0 3.6.1
GSEABase 1.46.0 3.6.1
GSEABenchmarkeR 1.4.0 3.6.1
GSEAlm 1.44.0 3.6.1
gsean 1.4.0 3.6.1
gskb 1.16.0 3.6.1
gsl 2.1-6 3.6.1
gsmoothr 0.1.7 3.6.1
GSReg 1.18.0 3.6.1
GSRI 2.32.0 3.6.1
gss 2.1-10 3.6.1
gsubfn 0.7 3.6.1
GSVA 1.32.0 3.6.1
GSVAdata 1.20.0 3.6.1
gtable 0.3.0 3.6.1
gtools 3.8.1 3.6.1
gtrellis 1.16.1 3.6.1
GUIDEseq 1.14.0 3.6.1
Guitar 2.0.0 3.6.1
Gviz 1.28.3 3.6.1
gwascat 2.16.1 3.6.1
GWASdata 1.22.0 3.6.1
GWASExactHW 1.01 3.6.1
GWASTools 1.30.1 3.6.1
gwasurvivr 1.2.0 3.6.1
gWidgets 0.0-54.1 3.6.1
gWidgets2 1.0-8 3.6.1
gWidgets2RGtk2 1.0-7 3.6.1
gWidgetsRGtk2 0.0-86 3.6.1
gWidgetstcltk 0.0-55 3.6.1
h5vc 2.18.0 3.6.1
h5vcData 2.4.0 3.6.1
hapFabia 1.26.0 3.6.1
haplo.stats 1.7.9 3.6.1
hapmap100khind 1.26.0 3.6.1
hapmap100kxba 1.26.0 3.6.1
hapmap500knsp 1.26.0 3.6.1
hapmap500ksty 1.26.0 3.6.1
hapmapsnp5 1.26.0 3.6.1
hapmapsnp6 1.26.0 3.6.1
harbChIP 1.22.0 3.6.1
HardyWeinberg 1.6.3 3.6.1
Harman 1.12.0 3.6.1
HarmanData 1.12.0 3.6.1
HarmonizedTCGAData 1.6.0 3.6.1
Harshlight 1.56.0 3.6.1
hash 2.2.6.1 3.6.1
hashmap 0.2.2 3.6.1
haven 2.1.1 3.6.1
HCABrowser 1.0.1 3.6.1
HCAData 1.0.0 3.6.1
HD2013SGI 1.24.0 3.6.1
HDCytoData 1.4.0 3.6.1
HDF5Array 1.12.3 3.6.1
HDTD 1.18.0 3.6.1
healthyFlowData 1.22.0 3.6.1
heatmap.plus 1.3 3.6.1
heatmap3 1.1.6 3.6.1
heatmaply 0.16.0 3.6.1
heatmaps 1.8.0 3.6.1
Heatplus 2.30.0 3.6.1
HEEBOdata 1.22.0 3.6.1
HelloRanges 1.10.0 3.6.1
HelloRangesData 1.10.0 3.6.1
HELP 1.42.0 3.6.1
HEM 1.56.0 3.6.1
hexbin 1.27.3 3.6.1
hgfocus.db 3.2.3 3.6.1
hgfocuscdf 2.18.0 3.6.1
hgfocusprobe 2.18.0 3.6.1
hgu133a.db 3.2.3 3.6.1
hgu133a2.db 3.2.3 3.6.1
hgu133abarcodevecs 1.22.0 3.6.1
hgu133acdf 2.18.0 3.6.1
hgu133afrmavecs 1.5.0 3.6.1
hgu133aprobe 2.18.0 3.6.1
hgu133atagcdf 2.18.0 3.6.1
hgu133atagprobe 2.18.0 3.6.1
hgu133plus2.db 3.2.3 3.6.1
hgu133plus2barcodevecs 1.22.0 3.6.1
hgu133plus2cdf 2.18.0 3.6.1
hgu133plus2CellScore 1.4.0 3.6.1
hgu133plus2frmavecs 1.5.0 3.6.1
hgu133plus2probe 2.18.0 3.6.1
hgu2beta7 1.24.0 3.6.1
hgu95a.db 3.2.3 3.6.1
hgu95acdf 2.18.0 3.6.1
hgu95av2 2.2.0 3.6.1
hgu95av2.db 3.2.3 3.6.1
hgu95av2cdf 2.18.0 3.6.1
hgu95av2probe 2.18.0 3.6.1
hgug4112a.db 3.2.3 3.6.1
HH 3.1-37 3.6.1
hiAnnotator 1.18.0 3.6.1
HIBAG 1.20.0 3.6.1
HiCBricks 1.2.0 3.6.1
HiCcompare 1.6.0 3.6.1
HiCDataHumanIMR90 1.4.0 3.6.1
HiCDataLymphoblast 1.20.0 3.6.1
hicrep 1.8.0 3.6.1
HiddenMarkov 1.8-11 3.6.1
hierGWAS 1.14.0 3.6.1
hierinf 1.2.0 3.6.1
highcharter 0.7.0 3.6.1
highlight 0.4.7.2 3.6.1
highr 0.8 3.6.1
highthroughputassays 1.8.0 3.6.1
Hiiragi2013 1.20.0 3.6.1
HilbertCurve 1.14.0 3.6.1
HilbertVis 1.42.0 3.6.1
HilbertVisGUI 1.42.0 3.6.1
hipathia 2.0.0 3.6.1
hiReadsProcessor 1.20.1 3.6.1
HIREewas 1.2.1 3.6.1
HiTC 1.28.0 3.6.1
HIVcDNAvantWout03 1.24.0 3.6.1
HiveR 0.3.42 3.6.1
hmdbQuery 1.4.0 3.6.1
Hmisc 4.2-0 3.6.1
HMMcopy 1.26.0 3.6.1
HMP16SData 1.4.1 3.6.1
hms 0.5.1 3.6.1
hmyriB36 1.20.0 3.6.1
hom.Dm.inp.db 3.1.2 3.6.1
hom.Hs.inp.db 3.1.2 3.6.1
hom.Mm.inp.db 3.1.2 3.6.1
hom.Rn.inp.db 3.1.2 3.6.1
hom.Sc.inp.db 3.1.2 3.6.1
Homo.sapiens 1.3.1 3.6.1
hopach 2.44.0 3.6.1
howmany 0.3-1 3.6.1
HPAanalyze 1.2.1 3.6.1
hpar 1.26.0 3.6.1
HSMMSingleCell 1.4.0 3.6.1
htmlTable 1.13.2 3.6.1
htmltools 0.4.0 3.6.1
HTMLUtils 0.1.7 3.6.1
htmlwidgets 1.5.1 3.6.1
HTqPCR 1.38.0 3.6.1
HTSanalyzeR 2.36.0 3.6.1
HTSCluster 2.0.8 3.6.1
HTSeqGenie 4.14.0 3.6.1
htSeqTools 1.32.0 3.6.1
HTSFilter 1.24.0 3.6.1
httpcode 0.2.0 3.6.1
httptest 3.2.2 3.6.1
httpuv 1.5.2 3.6.1
httr 1.4.1 3.6.1
hu6800.db 3.2.3 3.6.1
huge 1.3.3 3.6.1
hugene10sttranscriptcluster.db 8.7.0 3.6.1
human.db0 3.8.2 3.6.1
human370v1cCrlmm 1.0.2 3.6.1
human610quadv1bCrlmm 1.0.3 3.6.1
HumanAffyData 1.10.0 3.6.1
humanCHRLOC 2.1.6 3.6.1
humanStemCell 0.24.0 3.6.1
HumanTranscriptomeCompendium 1.0.1 3.6.1
hunspell 3.0 3.6.1
hwriter 1.3.2 3.6.1
HybridMTest 1.28.0 3.6.1
hypeR 1.0.0 3.6.1
hyperdraw 1.36.0 3.6.1
hypergea 1.3.6 3.6.1
hypergraph 1.56.0 3.6.1
iASeq 1.28.0 3.6.1
iasva 1.2.0 3.6.1
iBBiG 1.28.0 3.6.1
ibh 1.32.0 3.6.1
iBMQ 1.24.0 3.6.1
ic.infer 1.1-6 3.6.1
iC10 1.5 3.6.1
iC10TrainingData 1.3.1 3.6.1
ica 1.0-2 3.6.1
iCARE 1.12.0 3.6.1
Icens 1.56.0 3.6.1
icetea 1.2.0 3.6.1
iCheck 1.14.0 3.6.1
iChip 1.38.0 3.6.1
iCluster 2.1.0 3.6.1
iClusterPlus 1.20.0 3.6.1
iCNV 1.4.0 3.6.1
iCOBRA 1.12.1 3.6.1
ICS 1.3-1 3.6.1
ICSNP 1.1-1 3.6.1
ideal 1.8.1 3.6.1
IdeoViz 1.20.0 3.6.1
idiogram 1.60.0 3.6.1
IdMappingAnalysis 1.28.0 3.6.1
IdMappingRetrieval 1.32.0 3.6.1
IDPmisc 1.1.19 3.6.1
idr 1.2 3.6.1
ifultools 2.0-5 3.6.1
iGC 1.14.0 3.6.1
igraph 1.2.4.1 3.6.1
igraphdata 1.0.1 3.6.1
igvR 1.4.0 3.6.1
IHW 1.12.0 3.6.1
IHWpaper 1.12.0 3.6.1
Illumina450ProbeVariants.db 1.20.0 3.6.1
IlluminaDataTestFiles 1.22.0 3.6.1
IlluminaHumanMethylation450kanno.ilmn12.hg19 0.6.0 3.6.1
IlluminaHumanMethylation450kmanifest 0.4.0 3.6.1
IlluminaHumanMethylationEPICanno.ilm10b2.hg19 0.6.0 3.6.1
IlluminaHumanMethylationEPICanno.ilm10b4.hg19 0.6.0 3.6.1
IlluminaHumanMethylationEPICmanifest 0.3.0 3.6.1
illuminaHumanv1.db 1.26.0 3.6.1
illuminaHumanv2.db 1.26.0 3.6.1
illuminaHumanv3.db 1.26.0 3.6.1
illuminaHumanv4.db 1.26.0 3.6.1
illuminaio 0.26.0 3.6.1
imageHTS 1.34.0 3.6.1
IMAS 1.8.0 3.6.1
Imetagene 1.14.0 3.6.1
IMMAN 1.4.0 3.6.1
ImmuneSpaceR 1.12.2 3.6.1
immunoClust 1.16.0 3.6.1
imp4p 0.8 3.6.1
IMPCdata 1.20.0 3.6.1
import 1.1.0 3.6.1
ImpulseDE 1.10.0 3.6.1
ImpulseDE2 1.8.0 3.6.1
impute 1.58.0 3.6.1
imputeLCMD 2.0 3.6.1
inaparc 0.2.0 3.6.1
INDEED 1.2.0 3.6.1
ineq 0.2-13 3.6.1
infercnv 1.0.4 3.6.1
influenceR 0.1.0 3.6.1
infotheo 1.2.0 3.6.1
ini 0.3.1 3.6.1
inline 0.3.15 3.6.1
InPAS 1.16.3 3.6.1
INPower 1.20.0 3.6.1
INSPEcT 1.14.0 3.6.1
InTAD 1.4.0 3.6.1
intansv 1.24.0 3.6.1
InteractionSet 1.12.0 3.6.1
interactiveDisplay 1.22.0 3.6.1
interactiveDisplayBase 1.22.0 3.6.1
IntEREst 1.8.0 3.6.1
intergraph 2.0-2 3.6.1
InterMineR 1.6.1 3.6.1
intervals 0.15.1 3.6.1
IntramiRExploreR 1.6.0 3.6.1
inum 1.0-1 3.6.1
InvariantCausalPrediction 0.7-2 3.6.1
inveRsion 1.32.0 3.6.1
IONiseR 2.8.0 3.6.1
iPAC 1.28.0 3.6.1
ipdDb 1.2.0 3.6.1
ipflasso 0.2 3.6.1
IPO 1.10.0 3.6.1
IPPD 1.32.0 3.6.1
ipred 0.9-9 3.6.1
IRanges 2.18.3 3.6.1
irlba 2.3.3 3.6.1
irr 0.84.1 3.6.1
isa2 0.3.5 3.6.1
iSEE 1.4.0 3.6.1
iSeq 1.36.0 3.6.1
ismev 1.42 3.6.1
Iso 0.0-18 3.6.1
isobar 1.30.0 3.6.1
IsoCorrectoR 1.2.1 3.6.1
IsoCorrectoRGUI 1.0.2 3.6.1
IsoformSwitchAnalyzeR 1.6.0 3.6.1
IsoGene 1.0-24 3.6.1
IsoGeneGUI 2.20.0 3.6.1
ISoLDE 1.12.0 3.6.1
isomiRs 1.12.0 3.6.1
isva 1.9 3.6.1
ITALICS 2.44.0 3.6.1
ITALICSData 2.22.0 3.6.1
iterativeBMA 1.42.0 3.6.1
iterativeBMAsurv 1.42.0 3.6.1
iterators 1.0.12 3.6.1
iterClust 1.6.0 3.6.1
iteremoval 1.4.0 3.6.1
itertools 0.1-3 3.6.1
IVAS 2.4.0 3.6.1
ivygapSE 1.6.0 3.6.1
IWTomics 1.8.0 3.6.1
Iyer517 1.26.0 3.6.1
jackstraw 1.3 3.6.1
JADE 2.0-2 3.6.1
JASPAR2014 1.20.0 3.6.1
JASPAR2016 1.12.0 3.6.1
JASPAR2018 1.1.1 3.6.1
JctSeqData 1.14.0 3.6.1
joda 1.32.0 3.6.1
jomo 2.6-9 3.6.1
jpeg 0.1-8 3.6.1
jsonlite 1.6 3.6.1
JunctionSeq 1.14.0 3.6.1
kableExtra 1.1.0 3.6.1
kappalab 0.4-7 3.6.1
karyoploteR 1.10.5 3.6.1
KCsmart 2.42.0 3.6.1
kebabs 1.18.0 3.6.1
KEGG.db 3.2.3 3.6.1
KEGGandMetacoreDzPathwaysGEO 1.4.0 3.6.1
KEGGdzPathwaysGEO 1.22.0 3.6.1
KEGGgraph 1.44.0 3.6.1
KEGGlincs 1.10.0 3.6.1
keggorthology 2.36.0 3.6.1
KEGGprofile 1.26.0 3.6.1
KEGGREST 1.24.1 3.6.1
kernlab 0.9-27 3.6.1
KernSmooth 2.23-16 3.6.1
kidpack 1.26.0 3.6.1
kimisc 0.4 3.6.1
kimod 1.12.0 3.6.1
kinship2 1.8.4 3.6.1
KinSwingR 1.2.0 3.6.1
kissDE 1.4.0 3.6.1
kknn 1.3.1 3.6.1
klaR 0.6-14 3.6.1
km.ci 0.5-2 3.6.1
KMsurv 0.1-5 3.6.1
knitcitations 1.0.10 3.6.1
knitr 1.25 3.6.1
knitrBootstrap 1.0.2 3.6.1
KOdata 1.10.0 3.6.1
kohonen 3.0.8 3.6.1
kpeaks 0.1.0 3.6.1
kpmt 0.1.0 3.6.1
ks 1.11.5 3.6.1
kSamples 1.2-9 3.6.1
kza 4.1.0 3.6.1
labeling 0.3 3.6.1
labelled 2.2.1 3.6.1
laeken 0.5.0 3.6.1
lambda.r 1.2.4 3.6.1
LaplacesDemon 16.1.1 3.6.1
lapmix 1.50.0 3.6.1
lars 1.2 3.6.1
lasso2 1.2-20 3.6.1
lassopv 0.2.0 3.6.1
lassoshooting 0.1.5-1 3.6.1
later 1.0.0 3.6.1
latex2exp 0.4.0 3.6.1
lattice 0.20-38 3.6.1
latticeExtra 0.6-28 3.6.1
lava 1.6.6 3.6.1
lavaan 0.6-5 3.6.1
lazyeval 0.2.2 3.6.1
LBE 1.52.0 3.6.1
ldblock 1.14.3 3.6.1
LEA 2.6.0 3.6.1
leaps 3.0 3.6.1
LearnBayes 2.15.1 3.6.1
learnr 0.9.2.1 3.6.1
LedPred 1.18.0 3.6.1
leeBamViews 1.20.0 3.6.1
leiden 0.3.1 3.6.1
les 1.34.0 3.6.1
leukemiasEset 1.20.0 3.6.1
levi 1.2.0 3.6.1
lfa 1.14.0 3.6.1
lhs 1.0.1 3.6.1
libcoin 1.0-5 3.6.1
LiblineaR 2.10-8 3.6.1
LiebermanAidenHiC2009 0.22.0 3.6.1
lifecycle 0.1.0 3.6.1
liftOver 1.8.0 3.6.1
LIM 1.4.6 3.6.1
limma 3.40.6 3.6.1
limmaGUI 1.60.0 3.6.1
limSolve 1.5.5.3 3.6.1
LINC 1.12.0 3.6.1
LineagePulse 1.4.0 3.6.1
linkcomm 1.0-11 3.6.1
Linnorm 2.8.0 3.6.1
linprog 0.9-2 3.6.1
lintr 2.0.0 3.6.1
lipidr 1.0.0 3.6.1
LiquidAssociation 1.38.0 3.6.1
listarrays 0.2.0 3.6.1
listenv 0.7.0 3.6.1
ListerEtAlBSseq 1.16.0 3.6.1
listviewer 2.1.0 3.6.1
lmdme 1.26.0 3.6.1
lme4 1.1-21 3.6.1
lmerTest 3.1-0 3.6.1
LMGene 2.40.0 3.6.1
Lmoments 1.3-1 3.6.1
lmtest 0.9-37 3.6.1
LOBSTAHS 1.10.0 3.6.1
locfdr 1.1-8 3.6.1
locfit 1.5-9.1 3.6.1
loci2path 1.4.0 3.6.1
locpol 0.7-0 3.6.1
log4r 0.3.1 3.6.1
logging 0.10-108 3.6.1
logicFS 2.4.0 3.6.1
LogicReg 1.5.12 3.6.1
logistf 1.23 3.6.1
logitT 1.42.0 3.6.1
Logolas 1.8.0 3.6.1
logspline 2.1.14 3.6.1
lokern 1.1-8 3.6.1
lol 1.32.0 3.6.1
LOLA 1.14.0 3.6.1
longitudinal 1.1.12 3.6.1
longitudinalData 2.4.1 3.6.1
loo 2.1.0 3.6.1
LoomExperiment 1.2.0 3.6.1
loose.rock 1.0.16 3.6.1
LowMACA 1.14.1 3.6.1
LowMACAAnnotation 0.99.3 3.6.1
LPE 1.58.0 3.6.1
LPEadj 1.44.0 3.6.1
lpNet 2.16.0 3.6.1
lpSolve 5.6.13.3 3.6.1
lpSolveAPI 5.5.2.0-17.4 3.6.1
lpsymphony 1.12.0 3.6.1
LRBase.Hsa.eg.db 1.1.0 3.6.1
LRBase.Mmu.eg.db 1.1.0 3.6.1
LRBaseDbi 1.2.0 3.6.1
lsa 0.73.1 3.6.1
LSD 4.0-0 3.6.1
lsei 1.2-0 3.6.1
lsr 0.5 3.6.1
lubridate 1.7.4 3.6.1
lumi 2.36.0 3.6.1
lumiBarnes 1.24.0 3.6.1
lumiHumanAll.db 1.22.0 3.6.1
lumiHumanIDMapping 1.10.1 3.6.1
LungCancerACvsSCCGEO 1.20.0 3.6.1
LungCancerLines 0.22.0 3.6.1
lungExpression 0.22.0 3.6.1
LVSmiRNA 1.34.0 3.6.1
lydata 1.10.0 3.6.1
LymphoSeq 1.12.0 3.6.1
LymphoSeqDB 0.99.2 3.6.1
M3C 1.6.0 3.6.1
M3D 1.18.0 3.6.1
M3DExampleData 1.10.0 3.6.1
M3Drop 1.10.0 3.6.1
maanova 1.54.0 3.6.1
macat 1.58.0 3.6.1
maCorrPlot 1.54.0 3.6.1
MACPET 1.4.0 3.6.1
macrophage 1.0.0 3.6.1
made4 1.58.0 3.6.1
MADSEQ 1.10.0 3.6.1
maEndToEnd 2.4.0 3.6.1
MafDb.1Kgenomes.phase1.hs37d5 3.7.1 3.6.1
MafDb.1Kgenomes.phase3.hs37d5 3.7.0 3.6.1
MafDb.ESP6500SI.V2.SSA137.hs37d5 3.7.0 3.6.1
MafDb.ExAC.r1.0.hs37d5 3.7.0 3.6.1
MafDb.gnomADex.r2.1.hs37d5 3.8.0 3.6.1
maftools 2.0.16 3.6.1
MAGeCKFlute 1.4.3 3.6.1
magic 1.5-9 3.6.1
magicaxis 2.0.10 3.6.1
magick 2.2 3.6.1
magrittr 1.5 3.6.1
maigesPack 1.48.0 3.6.1
MAIT 1.18.0 3.6.1
makecdfenv 1.60.0 3.6.1
MALDIquant 1.19.3 3.6.1
MALDIquantForeign 0.12 3.6.1
mammaPrintData 1.20.0 3.6.1
manipulate 1.0.1 3.6.1
manipulateWidget 0.10.0 3.6.1
MANOR 1.56.0 3.6.1
manta 1.30.0 3.6.1
MantelCorr 1.54.0 3.6.1
mapdata 2.3.0 3.6.1
mAPKL 1.14.1 3.6.1
mAPKLData 1.16.0 3.6.1
mapplots 1.5.1 3.6.1
mapproj 1.2.6 3.6.1
maPredictDSC 1.22.0 3.6.1
maps 3.3.0 3.6.1
mapscape 1.8.0 3.6.1
maptools 0.9-8 3.6.1
maptpx 1.9-2 3.6.1
maptree 1.4-7 3.6.1
maqcExpression4plex 1.28.0 3.6.1
MAQCsubset 1.22.0 3.6.1
MAQCsubsetAFX 1.22.0 3.6.1
MAQCsubsetILM 1.22.0 3.6.1
markdown 1.1 3.6.1
marray 1.62.0 3.6.1
martini 1.4.0 3.6.1
maser 1.2.0 3.6.1
maSigPro 1.56.0 3.6.1
maskBAD 1.28.0 3.6.1
MASS 7.3-51.4 3.6.1
MassArray 1.36.0 3.6.1
massiR 1.20.0 3.6.1
MassSpecWavelet 1.50.0 3.6.1
MAST 1.10.0 3.6.1
matchBox 1.26.0 3.6.1
Matching 4.9-6 3.6.1
matlab 1.0.2 3.6.1
Matrix 1.2-17 3.6.1
Matrix.utils 0.9.7 3.6.1
matrixcalc 1.0-3 3.6.1
MatrixModels 0.4-1 3.6.1
MatrixRider 1.16.0 3.6.1
matrixStats 0.55.0 3.6.1
matrixTests 0.1.6 3.6.1
matter 1.10.0 3.6.1
MaxContrastProjection 1.8.0 3.6.1
maxLik 1.3-6 3.6.1
maxstat 0.7-25 3.6.1
MBA 0.0-9 3.6.1
MBAmethyl 1.18.0 3.6.1
MBASED 1.18.0 3.6.1
MBCB 1.38.0 3.6.1
mbkmeans 1.0.0 3.6.1
mboost 2.9-1 3.6.1
mBPCR 1.38.0 3.6.1
MBttest 1.12.0 3.6.1
mcaGUI 1.32.0 3.6.1
MCbiclust 1.8.0 3.6.1
mcbiopi 1.1.6 3.6.1
MCL 1.0 3.6.1
mclust 5.4.5 3.6.1
mcmc 0.9-6 3.6.1
MCMCglmm 2.29 3.6.1
MCMCpack 1.4-4 3.6.1
MCMCprecision 0.3.9 3.6.1
MCRestimate 2.40.0 3.6.1
mCSEA 1.4.0 3.6.1
mCSEAdata 1.4.0 3.6.1
mcsurvdata 1.2.0 3.6.1
mda 0.4-10 3.6.1
mdgsa 1.16.0 3.6.1
mdp 1.4.0 3.6.1
mdqc 1.46.0 3.6.1
MDTS 1.4.0 3.6.1
MEAL 1.14.0 3.6.1
MeasurementError.cor 1.56.0 3.6.1
MEDIPS 1.36.0 3.6.1
MEDIPSData 1.20.0 3.6.1
MEDME 1.44.0 3.6.1
MEEBOdata 1.22.0 3.6.1
mefa 3.2-7 3.6.1
MEIGOR 1.18.0 3.6.1
Melissa 1.0.0 3.6.1
memoise 1.1.0 3.6.1
memuse 4.0-0 3.6.1
MergeMaid 2.56.0 3.6.1
Mergeomics 1.12.0 3.6.1
MeSH.Aca.eg.db 1.12.0 3.6.1
MeSH.AOR.db 1.12.0 3.6.1
MeSH.Bsu.168.eg.db 1.12.0 3.6.1
MeSH.Cel.eg.db 1.12.0 3.6.1
MeSH.db 1.12.0 3.6.1
MeSH.Hsa.eg.db 1.12.0 3.6.1
MeSH.Mmu.eg.db 1.12.0 3.6.1
MeSH.PCR.db 1.12.0 3.6.1
MeSH.Syn.eg.db 1.12.0 3.6.1
MeSHDbi 1.20.0 3.6.1
meshes 1.10.0 3.6.1
meshr 1.20.0 3.6.1
MESS 0.5.6 3.6.1
messina 1.20.0 3.6.1
metaArray 1.62.0 3.6.1
Metab 1.18.0 3.6.1
metabomxtr 1.18.0 3.6.1
MetaboSignal 1.14.0 3.6.1
metaCCA 1.12.0 3.6.1
MetaCycle 1.2.0 3.6.1
MetaCyto 1.6.0 3.6.1
metafor 2.1-0 3.6.1
metagene 2.16.0 3.6.1
metagene2 1.0.0 3.6.1
metagenomeFeatures 2.4.0 3.6.1
metagenomeSeq 1.26.3 3.6.1
MetaGxBreast 1.4.0 3.6.1
MetaGxOvarian 1.4.0 3.6.1
MetaGxPancreas 1.4.0 3.6.1
metahdep 1.42.0 3.6.1
metaMA 3.1.2 3.6.1
metaMS 1.20.0 3.6.1
metaMSdata 1.20.0 3.6.1
MetaNeighbor 1.4.0 3.6.1
metap 1.1 3.6.1
metaSeq 1.24.0 3.6.1
metaseqR 1.24.0 3.6.1
metavizr 1.8.0 3.6.1
MetCirc 1.14.0 3.6.1
methimpute 1.6.0 3.6.1
methInheritSim 1.6.0 3.6.1
methods 3.6.1 3.6.1
MethPed 1.12.0 3.6.1
MethTargetedNGS 1.16.0 3.6.1
methVisual 1.36.0 3.6.1
methyAnalysis 1.26.0 3.6.1
MethylAid 1.18.0 3.6.1
MethylAidData 1.16.0 3.6.1
methylationArrayAnalysis 1.8.1 3.6.1
methylGSA 1.2.3 3.6.1
methylInheritance 1.8.0 3.6.1
methylKit 1.10.0 3.6.1
MethylMix 2.14.0 3.6.1
methylMnM 1.22.0 3.6.1
methylPipe 1.18.0 3.6.1
MethylSeekR 1.24.0 3.6.1
methylumi 2.30.0 3.6.1
methyvim 1.6.0 3.6.1
methyvimData 1.6.0 3.6.1
MetID 1.2.0 3.6.1
MetNet 1.2.0 3.6.1
mfa 1.6.0 3.6.1
Mfuzz 2.44.0 3.6.1
mgcv 1.8-29 3.6.1
MGFM 1.18.0 3.6.1
MGFR 1.10.1 3.6.1
mgsa 1.32.0 3.6.1
mGSZ 1.0 3.6.1
mgug4104a.db 3.2.3 3.6.1
mhsmm 0.4.16 3.6.1
mice 3.6.0 3.6.1
MiChip 1.38.0 3.6.1
microbenchmark 1.4-7 3.6.1
microbiome 1.6.0 3.6.1
microRNA 1.42.0 3.6.1
microRNAome 1.6.0 3.6.1
MIGSA 1.8.1 3.6.1
MIGSAdata 1.8.0 3.6.1
mimager 1.8.0 3.6.1
mime 0.7 3.6.1
MIMOSA 1.22.0 3.6.1
MineICA 1.24.0 3.6.1
minet 3.42.0 3.6.1
minfi 1.30.0 3.6.1
minfiData 0.30.0 3.6.1
minfiDataEPIC 1.10.0 3.6.1
MinimumDistance 1.28.0 3.6.1
minionSummaryData 1.14.0 3.6.1
miniUI 0.1.1.1 3.6.1
minpack.lm 1.2-1 3.6.1
minqa 1.2.4 3.6.1
MiPP 1.56.0 3.6.1
MIRA 1.6.0 3.6.1
MiRaGE 1.26.0 3.6.1
mirbase.db 1.2.0 3.6.1
miRBaseConverter 1.8.0 3.6.1
miRBaseVersions.db 1.1.0 3.6.1
miRcomp 1.14.0 3.6.1
miRcompData 1.14.0 3.6.1
mirIntegrator 1.14.0 3.6.1
miRLAB 1.14.3 3.6.1
miRmine 1.6.0 3.6.1
mirna10cdf 2.18.0 3.6.1
miRNAmeConverter 1.12.0 3.6.1
miRNApath 1.44.0 3.6.1
miRNAtap 1.18.0 3.6.1
miRNAtap.db 0.99.10 3.6.1
miRNATarget 1.22.0 3.6.1
miRSM 1.2.2 3.6.1
miRsponge 1.10.0 3.6.1
miRspongeR 1.10.1 3.6.1
Mirsynergy 1.20.0 3.6.1
misc3d 0.8-4 3.6.1
miscTools 0.6-24 3.6.1
missForest 1.4 3.6.1
missMethyl 1.18.0 3.6.1
missRows 1.4.0 3.6.1
mitml 0.3-7 3.6.1
mitoODE 1.22.0 3.6.1
mitoODEdata 1.20.0 3.6.1
mitools 2.4 3.6.1
mixOmics 6.8.5 3.6.1
mixsmsn 1.1-5 3.6.1
mixsqp 0.1-97 3.6.1
mixtools 1.1.0 3.6.1
mlbench 2.1-1 3.6.1
MLInterfaces 1.64.1 3.6.1
MLmetrics 1.1.1 3.6.1
MLP 1.32.0 3.6.1
mlr 2.15.0 3.6.1
MLSeq 2.2.1 3.6.1
MMDiff2 1.12.0 3.6.1
MMDiffBamSubset 1.20.0 3.6.1
MmPalateMiRNA 1.34.0 3.6.1
mnem 1.0.0 3.6.1
mnormt 1.5-5 3.6.1
MODA 1.10.0 3.6.1
modeest 2.3.3 3.6.1
ModelMetrics 1.2.2 3.6.1
modelr 0.1.5 3.6.1
modeltools 0.2-22 3.6.1
modes 0.7.0 3.6.1
Modstrings 1.0.3 3.6.1
MOFA 1.0.0 3.6.1
MOFAdata 1.0.0 3.6.1
mogene10sttranscriptcluster.db 8.7.0 3.6.1
mogsa 1.18.1 3.6.1
moments 0.14 3.6.1
mongolite 2.1.0 3.6.1
monocle 2.12.0 3.6.1
MoonlightR 1.10.1 3.6.1
MoPS 1.18.0 3.6.1
mosaicCore 0.6.0 3.6.1
mosaics 2.22.0 3.6.1
mosaicsExample 1.22.0 3.6.1
motifbreakR 1.14.0 3.6.1
motifcounter 1.8.0 3.6.1
MotifDb 1.26.0 3.6.1
motifmatchr 1.6.0 3.6.1
motifRG 1.28.0 3.6.1
motifStack 1.28.0 3.6.1
MotIV 1.40.0 3.6.1
mouse4302.db 3.2.3 3.6.1
mouse4302barcodevecs 1.22.0 3.6.1
mouse4302cdf 2.18.0 3.6.1
mouse4302frmavecs 1.5.0 3.6.1
MPFE 1.20.0 3.6.1
mpm 1.0-22 3.6.1
mpmi 0.43 3.6.1
mppa 1.0 3.6.1
mpra 1.6.0 3.6.1
MPRAnalyze 1.2.0 3.6.1
mRMRe 2.0.9 3.6.1
msa 1.16.0 3.6.1
msd16s 1.4.0 3.6.1
msdata 0.24.1 3.6.1
msgbsR 1.8.0 3.6.1
MSGFgui 1.18.0 3.6.1
MSGFplus 1.18.0 3.6.1
msgps 1.3.1 3.6.1
msigdbr 7.0.1 3.6.1
msm 1.6.7 3.6.1
MSMB 1.2.0 3.6.1
msmsEDA 1.22.0 3.6.1
msmsTests 1.22.0 3.6.1
MSnbase 2.10.1 3.6.1
MSnID 1.18.1 3.6.1
msPurity 1.10.0 3.6.1
msPurityData 1.12.0 3.6.1
msqc1 1.12.0 3.6.1
MSstats 3.16.2 3.6.1
MSstatsBioData 1.6.0 3.6.1
MSstatsQC 2.2.0 3.6.1
MSstatsQCgui 1.4.0 3.6.1
MSstatsTMT 1.2.7 3.6.1
mstate 0.2.11 3.6.1
mtbls2 1.14.0 3.6.1
MTseeker 1.2.0 3.6.1
MTseekerData 1.2.0 3.6.1
MUGAExampleData 1.4.0 3.6.1
Mulcom 1.34.1 3.6.1
Mulder2012 0.24.0 3.6.1
multcomp 1.4-10 3.6.1
multcompView 0.1-7 3.6.1
MultiAssayExperiment 1.10.4 3.6.1
multiClust 1.14.0 3.6.1
multicool 0.1-10 3.6.1
MultiDataSet 1.12.0 3.6.1
multiHiCcompare 1.2.0 3.6.1
MultiMed 2.6.0 3.6.1
multiMiR 1.6.0 3.6.1
multiOmicsViz 1.8.0 3.6.1
multiscan 1.44.0 3.6.1
multtest 2.40.0 3.6.1
munsell 0.5.0 3.6.1
Mus.musculus 1.3.1 3.6.1
muscle 3.26.0 3.6.1
muStat 1.7.0 3.6.1
MutationalPatterns 1.10.0 3.6.1
MVCClass 1.58.0 3.6.1
mvoutData 1.20.0 3.6.1
mvoutlier 2.0.9 3.6.1
mvtnorm 1.0-11 3.6.1
MWASTools 1.8.0 3.6.1
mygene 1.20.0 3.6.1
myvariant 1.14.0 3.6.1
mzID 1.22.0 3.6.1
mzR 2.18.1 3.6.1
nabor 0.5.0 3.6.1
NADA 1.6-1 3.6.1
NADfinder 1.8.1 3.6.1
naivebayes 0.9.6 3.6.1
NanoStringDiff 1.14.0 3.6.1
NanoStringQCPro 1.16.0 3.6.1
nanotatoR 1.0.0 3.6.1
nanotubes 1.0.0 3.6.1
NarrowPeaks 1.28.0 3.6.1
nat 1.8.13 3.6.1
nat.utils 0.5.1 3.6.1
naturalsort 0.1.3 3.6.1
NBAMSeq 1.0.1 3.6.1
NbClust 3.0 3.6.1
nbconvertR 1.0.2 3.6.1
NBPSeq 0.3.0 3.6.1
NBSplice 1.2.1 3.6.1
ncdf4 1.16.1 3.6.1
ncdfFlow 2.30.1 3.6.1
NCIgraph 1.32.0 3.6.1
NCIgraphData 1.20.0 3.6.1
NCmisc 1.1.6 3.6.1
ndexr 1.6.1 3.6.1
NeighborNet 1.2.0 3.6.1
nem 2.58.0 3.6.1
NestLink 1.0.0 3.6.1
netbenchmark 1.16.0 3.6.1
netbiov 1.18.0 3.6.1
netboost 1.0.0 3.6.1
nethet 1.16.1 3.6.1
NetPathMiner 1.20.0 3.6.1
NetPreProc 1.1 3.6.1
netprioR 1.10.0 3.6.1
netReg 1.8.0 3.6.1
netresponse 1.44.0 3.6.1
NetSAM 1.24.0 3.6.1
netSmooth 1.4.0 3.6.1
network 1.15 3.6.1
networkBMA 2.24.0 3.6.1
networkD3 0.4 3.6.1
Neve2006 0.22.0 3.6.1
NGScopyData 1.4.0 3.6.1
ngsReports 1.0.1 3.6.1
nipals 0.5 3.6.1
NISTunits 1.0.1 3.6.1
nlcv 0.3.5 3.6.1
nleqslv 3.3.2 3.6.1
nlme 3.1-141 3.6.1
nloptr 1.2.1 3.6.1
NLP 0.2-0 3.6.1
nls2 0.2 3.6.1
NMF 0.21.0 3.6.1
NMFN 2.0 3.6.1
NMI 2.0 3.6.1
nnet 7.3-12 3.6.1
nnlasso 0.3 3.6.1
nnls 1.4 3.6.1
nnNorm 2.48.0 3.6.1
nnTensor 1.0.1 3.6.1
NOISeq 2.28.0 3.6.1
nondetects 2.14.0 3.6.1
nor1mix 1.3-0 3.6.1
norm 1.0-9.5 3.6.1
normalize450K 1.12.0 3.6.1
NormalyzerDE 1.2.0 3.6.1
NormqPCR 1.30.0 3.6.1
normr 1.10.0 3.6.1
nortest 1.0-4 3.6.1
Nozzle.R1 1.1-1 3.6.1
npGSEA 1.20.0 3.6.1
npsurv 0.4-0 3.6.1
nsprcomp 0.5.1-2 3.6.1
NTW 1.34.0 3.6.1
nucleoSim 1.12.0 3.6.1
nucleR 2.16.0 3.6.1
nuCpos 1.2.0 3.6.1
numbers 0.7-1 3.6.1
numDeriv 2016.8-1.1 3.6.1
NuPoP 1.34.0 3.6.1
objectProperties 0.6.5 3.6.1
objectSignals 0.10.2 3.6.1
occugene 1.44.0 3.6.1
OCplus 1.58.0 3.6.1
oct4 1.0.0 3.6.1
odseq 1.12.0 3.6.1
OGSA 1.14.0 3.6.1
oligo 1.48.0 3.6.1
oligoClasses 1.46.0 3.6.1
oligoData 1.8.0 3.6.1
OLIN 1.62.0 3.6.1
OLINgui 1.58.0 3.6.1
OmaDB 2.0.0 3.6.1
omicade4 1.24.1 3.6.1
OmicCircos 1.22.0 3.6.1
omicplotR 1.4.3 3.6.1
omicRexposome 1.6.0 3.6.1
OmicsLonDA 1.0.0 3.6.1
OmicsMarkeR 1.16.0 3.6.1
OMICsPCA 1.2.0 3.6.1
OMICsPCAdata 1.2.0 3.6.1
omicsPrint 1.4.0 3.6.1
Onassis 1.6.1 3.6.1
OnassisJavaLibs 1.6.0 3.6.1
oncomix 1.6.0 3.6.1
OncoScore 1.12.0 3.6.1
OncoSimulR 2.14.0 3.6.1
Oncotree 0.3.3 3.6.1
oneSENSE 1.6.0 3.6.1
onlineFDR 1.2.0 3.6.1
ontologyIndex 2.5 3.6.1
ontologyPlot 1.4 3.6.1
ontoProc 1.6.0 3.6.1
opencpu 2.1.4 3.6.1
openCyto 1.22.2 3.6.1
openPrimeR 1.6.0 3.6.1
openPrimeRui 1.6.0 3.6.1
openssl 1.4.1 3.6.1
openxlsx 4.1.0.1 3.6.1
operator.tools 1.6.3 3.6.1
oposSOM 2.2.0 3.6.1
oppar 1.12.0 3.6.1
optimx 2018-7.10 3.6.1
optparse 1.6.4 3.6.1
OPWeight 1.6.0 3.6.1
ORCME 2.0.2 3.6.1
OrderedList 1.56.0 3.6.1
ordinal 2019.4-25 3.6.1
ore 1.6.2 3.6.1
ORFik 1.4.1 3.6.1
org.Ag.eg.db 3.8.2 3.6.1
org.At.tair.db 3.8.2 3.6.1
org.Bt.eg.db 3.8.2 3.6.1
org.Ce.eg.db 3.8.2 3.6.1
org.Cf.eg.db 3.8.2 3.6.1
org.Dm.eg.db 3.8.2 3.6.1
org.Dr.eg.db 3.8.2 3.6.1
org.EcK12.eg.db 3.8.2 3.6.1
org.EcSakai.eg.db 3.8.2 3.6.1
org.Gg.eg.db 3.8.2 3.6.1
org.Hs.eg.db 3.8.2 3.6.1
org.Mm.eg.db 3.8.2 3.6.1
org.Mmu.eg.db 3.8.2 3.6.1
org.Pf.plasmo.db 3.8.2 3.6.1
org.Pt.eg.db 3.8.2 3.6.1
org.Rn.eg.db 3.8.2 3.6.1
org.Sc.sgd.db 3.8.2 3.6.1
org.Ss.eg.db 3.8.2 3.6.1
org.Xl.eg.db 3.8.2 3.6.1
Organism.dplyr 1.12.1 3.6.1
OrganismDbi 1.26.0 3.6.1
OrgMassSpecR 0.5-3 3.6.1
ORIClust 1.0-1 3.6.1
origami 1.0.1 3.6.1
orQA 0.2.1 3.6.1
OSAT 1.32.0 3.6.1
Oscope 1.14.0 3.6.1
OTUbase 1.34.0 3.6.1
OutlierD 1.48.0 3.6.1
outliers 0.14 3.6.1
OUTRIDER 1.2.4 3.6.1
OVESEG 1.0.0 3.6.1
PAA 1.18.0 3.6.1
packrat 0.5.0 3.6.1
PADOG 1.26.0 3.6.1
paintmap 1.0 3.6.1
PAIRADISE 1.0.0 3.6.1
paircompviz 1.22.0 3.6.1
pairsD3 0.1.0 3.6.1
pamr 1.56.1 3.6.1
pan 1.6 3.6.1
pandaR 1.16.0 3.6.1
pander 0.6.3 3.6.1
panelcn.mops 1.6.1 3.6.1
panp 1.54.0 3.6.1
PANR 1.30.0 3.6.1
PANTHER.db 1.0.4 3.6.1
PanVizGenerator 1.12.0 3.6.1
PAPi 1.24.0 3.6.1
parallel 3.6.1 3.6.1
parallelMap 1.4 3.6.1
ParamHelpers 1.12 3.6.1
parathyroidSE 1.22.0 3.6.1
parcor 0.2-6 3.6.1
parglms 1.16.0 3.6.1
parmigene 1.0.2 3.6.1
parody 1.42.0 3.6.1
party 1.3-3 3.6.1
partykit 1.2-5 3.6.1
pasilla 1.12.0 3.6.1
pasillaBamSubset 0.22.0 3.6.1
PasillaTranscriptExpr 1.12.0 3.6.1
PAST 1.0.1 3.6.1
pastecs 1.3.21 3.6.1
Path2PPI 1.14.0 3.6.1
pathifier 1.22.0 3.6.1
PathNet 1.24.0 3.6.1
PathNetData 1.20.0 3.6.1
PathoStat 1.10.0 3.6.1
pathprint 1.14.0 3.6.1
pathprintGEOData 1.14.0 3.6.1
pathRender 1.52.0 3.6.1
pathVar 1.14.0 3.6.1
pathview 1.24.0 3.6.1
pathwayPCA 1.0.0 3.6.1
PathwaySplice 1.8.0 3.6.1
paxtoolsr 1.18.0 3.6.1
pbapply 1.4-2 3.6.1
Pbase 0.24.0 3.6.1
pbivnorm 0.6.0 3.6.1
pbkrtest 0.4-7 3.6.1
pcaExplorer 2.10.1 3.6.1
pcaGoPromoter 1.28.0 3.6.1
pcaGoPromoter.Hs.hg19 1.20.0 3.6.1
pcaGoPromoter.Mm.mm9 1.20.0 3.6.1
pcaGoPromoter.Rn.rn4 1.20.0 3.6.1
pcalg 2.6-6 3.6.1
pcaMethods 1.76.0 3.6.1
PCAN 1.12.0 3.6.1
pcaPP 1.9-73 3.6.1
PCAtools 1.0.0 3.6.1
PCHiCdata 1.12.0 3.6.1
PCIT 1.5-3 3.6.1
pcot2 1.52.0 3.6.1
PCpheno 1.46.0 3.6.1
pcxn 2.6.0 3.6.1
pcxnData 2.6.0 3.6.1
pd.atdschip.tiling 0.22.0 3.6.1
pd.charm.hg18.example 0.99.4 3.6.1
pd.genomewidesnp.5 3.14.1 3.6.1
pd.genomewidesnp.6 3.14.1 3.6.1
pd.hg.u133a.2 3.12.0 3.6.1
pd.hg.u95a 3.12.0 3.6.1
pd.hg.u95av2 3.12.0 3.6.1
pd.hg18.60mer.expr 3.12.0 3.6.1
pd.huex.1.0.st.v2 3.14.1 3.6.1
pd.hugene.1.0.st.v1 3.14.1 3.6.1
pd.mapping250k.nsp 3.12.0 3.6.1
pd.mapping250k.sty 3.12.0 3.6.1
pd.mapping50k.hind240 3.12.0 3.6.1
pd.mapping50k.xba240 3.12.0 3.6.1
pdc 1.0.3 3.6.1
pdftools 2.2 3.6.1
pdInfoBuilder 1.48.0 3.6.1
pdist 1.2 3.6.1
PECA 1.20.0 3.6.1
penalized 0.9-51 3.6.1
pepDat 1.4.0 3.6.1
PepsNMR 1.2.1 3.6.1
PepsNMRData 1.2.0 3.6.1
pepStat 1.18.0 3.6.1
pepXMLTab 1.18.0 3.6.1
PerfMeas 1.2.1 3.6.1
PerformanceAnalytics 1.5.3 3.6.1
permute 0.9-5 3.6.1
perturbatr 1.4.0 3.6.1
PFAM.db 3.8.2 3.6.1
PGA 1.14.0 3.6.1
pgca 1.8.0 3.6.1
PGPC 1.12.0 3.6.1
PGSEA 1.58.0 3.6.1
phangorn 2.5.5 3.6.1
phantasus 1.4.0 3.6.1
PharmacoGx 1.14.2 3.6.1
phastCons100way.UCSC.hg19 3.7.2 3.6.1
phastCons100way.UCSC.hg38 3.7.1 3.6.1
pheatmap 1.0.12 3.6.1
phemd 1.0.1 3.6.1
phenopath 1.8.0 3.6.1
phenoTest 1.32.0 3.6.1
PhenStat 2.20.3 3.6.1
philr 1.10.1 3.6.1
phosphonormalizer 1.8.0 3.6.1
phylobase 0.8.6 3.6.1
phyloseq 1.28.0 3.6.1
Pi 1.12.0 3.6.1
piano 2.0.2 3.6.1
picante 1.8 3.6.1
pickgene 1.56.0 3.6.1
PICS 2.28.0 3.6.1
Pigengene 1.10.0 3.6.1
pillar 1.4.2 3.6.1
pinfsc50 1.1.0 3.6.1
PING 2.28.0 3.6.1
pingr 1.2.0 3.6.1
pint 1.34.0 3.6.1
pipeFrame 1.0.0 3.6.1
pixmap 0.4-11 3.6.1
pkgbuild 1.0.6 3.6.1
pkgconfig 2.0.3 3.6.1
pkgDepTools 1.50.0 3.6.1
pkgdown 1.4.1 3.6.1
pkgload 1.0.2 3.6.1
pkgmaker 0.27 3.6.1
plasFIA 1.12.0 3.6.1
plasmodiumanophelescdf 2.18.0 3.6.1
plethy 1.22.0 3.6.1
plgem 1.56.0 3.6.1
plier 1.54.0 3.6.1
plogr 0.2.0 3.6.1
plot3D 1.1.1 3.6.1
plotGrouper 1.2.0 3.6.1
plotly 4.9.0 3.6.1
plotmo 3.5.5 3.6.1
plotrix 3.7-6 3.6.1
plotROC 2.2.1 3.6.1
PLPE 1.44.0 3.6.1
plrs 1.24.0 3.6.1
pls 2.7-2 3.6.1
plsgenomics 1.5-2 3.6.1
plspm 0.4.9 3.6.1
plsVarSel 0.9.4 3.6.1
plw 1.44.0 3.6.1
plyr 1.8.4 3.6.1
plyranges 1.4.4 3.6.1
PMA 1.1 3.6.1
PMCMR 4.3 3.6.1
pmm 1.16.0 3.6.1
png 0.1-7 3.6.1
podkat 1.16.0 3.6.1
pogos 1.4.0 3.6.1
poibin 1.3 3.6.1
PoiClaClu 1.0.2.1 3.6.1
poilog 0.4 3.6.1
polspline 1.1.16 3.6.1
polyclip 1.10-0 3.6.1
polyester 1.20.0 3.6.1
Polyfit 1.18.0 3.6.1
polylabelr 0.1.0 3.6.1
polynom 1.4-0 3.6.1
PolynomF 2.0-2 3.6.1
PolyPhen.Hsapiens.dbSNP131 1.0.2 3.6.1
POST 1.8.0 3.6.1
PoTRA 1.0.0 3.6.1
PowerExplorer 1.4.0 3.6.1
poweRlaw 0.70.2 3.6.1
powerTCR 1.4.0 3.6.1
ppclust 0.1.3 3.6.1
ppcor 1.1 3.6.1
ppiData 0.22.0 3.6.1
PPInfer 1.10.0 3.6.1
ppiStats 1.50.0 3.6.1
ppls 1.6-1.1 3.6.1
pqsfinder 2.0.2 3.6.1
prabclus 2.3-1 3.6.1
pracma 2.2.5 3.6.1
prada 1.60.0 3.6.1
praise 1.0.0 3.6.1
pram 1.0.0 3.6.1
prebs 1.24.0 3.6.1
prebsdata 1.20.0 3.6.1
PrecisionTrialDrawer 1.0.1 3.6.1
precrec 0.10.1 3.6.1
PREDA 1.30.0 3.6.1
PREDAsampledata 0.24.0 3.6.1
predictionet 1.30.0 3.6.1
preprocessCore 1.46.0 3.6.1
preseqR 4.0.0 3.6.1
prettydoc 0.3.0 3.6.1
prettyGraphs 2.1.6 3.6.1
prettyunits 1.0.2 3.6.1
primirTSS 1.2.0 3.6.1
PRIMME 3.0-0 3.6.1
PrInCE 1.0.1 3.6.1
princurve 2.1.4 3.6.1
printr 0.1 3.6.1
Prize 1.14.0 3.6.1
proBAMr 1.18.0 3.6.1
proBatch 1.0.0 3.6.1
pROC 1.15.3 3.6.1
PROcess 1.60.0 3.6.1
processx 3.4.1 3.6.1
procoil 2.12.0 3.6.1
ProCoNA 1.22.0 3.6.1
ProData 1.22.0 3.6.1
prodlim 2018.04.18 3.6.1
proFIA 1.10.0 3.6.1
profileModel 0.6.0 3.6.1
profileplyr 1.0.1 3.6.1
profileScoreDist 1.12.0 3.6.1
profmem 0.5.0 3.6.1
proftools 0.99-2 3.6.1
profvis 0.3.6 3.6.1
progeny 1.6.0 3.6.1
progress 1.2.2 3.6.1
projectR 1.0.0 3.6.1
pRoloc 1.24.1 3.6.1
pRolocdata 1.22.0 3.6.1
pRolocGUI 1.18.0 3.6.1
PROMISE 1.36.0 3.6.1
promises 1.1.0 3.6.1
PROPER 1.16.0 3.6.1
PROPS 1.6.0 3.6.1
Prostar 1.16.10 3.6.1
prostateCancerCamcap 1.12.0 3.6.1
prostateCancerGrasso 1.12.0 3.6.1
prostateCancerStockholm 1.12.0 3.6.1
prostateCancerTaylor 1.12.0 3.6.1
prostateCancerVarambally 1.12.0 3.6.1
proteinProfiles 1.24.0 3.6.1
proteomics 1.8.0 3.6.1
ProteomicsAnnotationHubData 1.14.0 3.6.1
ProteoMM 1.2.0 3.6.1
proteoQC 1.20.0 3.6.1
ProtGenerics 1.16.0 3.6.1
proto 1.0.0 3.6.1
protolite 2.0 3.6.1
protViz 0.4.0 3.6.1
proxy 0.4-23 3.6.1
PRROC 1.3.1 3.6.1
pryr 0.1.4 3.6.1
ps 1.3.0 3.6.1
PSCBS 0.65.0 3.6.1
pscl 1.5.2 3.6.1
PSEA 1.18.0 3.6.1
psichomics 1.10.2 3.6.1
PSICQUIC 1.22.2 3.6.1
pspline 1.0-18 3.6.1
psych 1.8.12 3.6.1
psygenet2r 1.16.0 3.6.1
PtH2O2lipids 1.10.0 3.6.1
ptw 1.9-13 3.6.1
puma 3.26.0 3.6.1
pumadata 2.20.0 3.6.1
PureCN 1.14.3 3.6.1
purrr 0.3.2 3.6.1
pvac 1.32.0 3.6.1
pvca 1.24.0 3.6.1
pvclust 2.0-0 3.6.1
Pviz 1.18.0 3.6.1
PWMEnrich 4.20.0 3.6.1
PWMEnrich.Dmelanogaster.background 4.18.0 3.6.1
PWMEnrich.Hsapiens.background 4.18.0 3.6.1
PWMEnrich.Mmusculus.background 4.18.0 3.6.1
pwOmics 1.16.0 3.6.1
qap 0.1-1 3.6.1
qckitfastq 1.0.1 3.6.1
qcmetrics 1.22.0 3.6.1
QDNAseq 1.20.0 3.6.1
QDNAseq.hg19 1.14.0 3.6.1
QDNAseq.mm10 1.14.0 3.6.1
qgraph 1.6.3 3.6.1
qlcMatrix 0.9.7 3.6.1
qpcR 1.4-1 3.6.1
qpcrNorm 1.42.0 3.6.1
qpdf 1.1 3.6.1
qpgraph 2.18.0 3.6.1
qPLEXanalyzer 1.2.0 3.6.1
qPLEXdata 1.2.0 3.6.1
qqman 0.1.4 3.6.1
qrqc 1.38.0 3.6.1
qsea 1.10.0 3.6.1
qsmooth 1.0.0 3.6.1
QSutils 1.2.0 3.6.1
qtl 1.44-9 3.6.1
QTLRel 1.1 3.6.1
quadprog 1.5-7 3.6.1
QUALIFIER 1.28.0 3.6.1
quantmod 0.4-15 3.6.1
quantreg 5.51 3.6.1
quantro 1.18.0 3.6.1
quantsmooth 1.50.0 3.6.1
QuartPAC 1.16.0 3.6.1
QuasR 1.24.2 3.6.1
QuaternaryProd 1.18.0 3.6.1
QUBIC 1.12.0 3.6.1
QUBICdata 1.12.0 3.6.1
questionr 0.7.0 3.6.1
qusage 2.18.0 3.6.1
qvalue 2.16.0 3.6.1
qvcalc 1.0.1 3.6.1
R.cache 0.13.0 3.6.1
R.devices 2.16.0 3.6.1
R.filesets 2.13.0 3.6.1
R.huge 0.9.0 3.6.1
R.matlab 3.6.2 3.6.1
R.methodsS3 1.7.1 3.6.1
R.oo 1.22.0 3.6.1
R.rsp 0.43.1 3.6.1
R.utils 2.9.0 3.6.1
r2glmm 0.1.2 3.6.1
R2HTML 2.3.2 3.6.1
R3CPET 1.16.0 3.6.1
r3Cseq 1.30.0 3.6.1
R453Plus1Toolbox 1.34.0 3.6.1
R4RNA 1.12.0 3.6.1
R6 2.4.0 3.6.1
radiant.data 1.0.6 3.6.1
rae230a.db 3.2.3 3.6.1
rae230aprobe 2.18.0 3.6.1
rafalib 1.0.0 3.6.1
RaggedExperiment 1.8.0 3.6.1
rain 1.18.0 3.6.1
rama 1.58.0 3.6.1
ramwas 1.8.0 3.6.1
randomcoloR 1.1.0 3.6.1
randomForest 4.6-14 3.6.1
RandomWalkRestartMH 1.4.0 3.6.1
randPack 1.30.0 3.6.1
randtests 1.0 3.6.1
ranger 0.11.2 3.6.1
RankProd 3.10.0 3.6.1
RANKS 1.0 3.6.1
RANN 2.6.1 3.6.1
rapidjsonr 1.1 3.6.1
rappdirs 0.3.1 3.6.1
RareVariantVis 2.12.0 3.6.1
Rariant 1.20.0 3.6.1
rARPACK 0.11-0 3.6.1
raster 3.0-7 3.6.1
rat2302.db 3.2.3 3.6.1
Rattus.norvegicus 1.3.1 3.6.1
rBayesianOptimization 1.1.0 3.6.1
RbcBook1 1.52.0 3.6.1
rbenchmark 1.0.0 3.6.1
RBGL 1.60.0 3.6.1
RBioinf 1.44.0 3.6.1
rBiopaxParser 2.24.0 3.6.1
RBM 1.16.0 3.6.1
rbokeh 0.5.0 3.6.1
Rbowtie 1.24.0 3.6.1
Rbowtie2 1.6.0 3.6.1
rbsurv 2.42.0 3.6.1
Rcade 1.26.0 3.6.1
RCAS 1.10.1 3.6.1
RCASPAR 1.30.0 3.6.1
rcdk 3.4.7.1 3.6.1
rcdklibs 2.0 3.6.1
rcellminer 2.6.0 3.6.1
rcellminerData 2.6.0 3.6.1
rCGH 1.14.0 3.6.1
rChoiceDialogs 1.0.6 3.6.1
RchyOptimyx 2.24.0 3.6.1
RCircos 1.2.1 3.6.1
RcisTarget 1.4.0 3.6.1
RcisTarget.hg19.motifDBs.cisbpOnly.500bp 1.4.0 3.6.1
RCM 1.0.0 3.6.1
rcmdcheck 1.3.3 3.6.1
RcmdrMisc 2.5-1 3.6.1
RColorBrewer 1.1-2 3.6.1
rcompanion 2.3.7 3.6.1
Rcpi 1.20.1 3.6.1
Rcpp 1.0.2 3.6.1
RcppAnnoy 0.0.13 3.6.1
RcppArmadillo 0.9.800.1.0 3.6.1
RcppEigen 0.3.3.5.0 3.6.1
RcppGSL 0.3.6 3.6.1
RcppHNSW 0.2.0 3.6.1
RcppNumerical 0.3-3 3.6.1
RcppParallel 4.4.4 3.6.1
RcppProgress 0.4.1 3.6.1
RcppRoll 0.3.0 3.6.1
RcppZiggurat 0.1.5 3.6.1
Rcsdp 0.1.55 3.6.1
RCurl 1.95-4.12 3.6.1
Rcwl 1.0.14 3.6.1
RcwlPipelines 1.0.11 3.6.1
RCy3 2.4.6 3.6.1
RCyjs 2.6.0 3.6.1
rda 1.0.2-2.1 3.6.1
RDAVIDWebService 1.22.0 3.6.1
rDGIdb 1.10.0 3.6.1
Rdisop 1.44.0 3.6.1
Rdpack 0.11-0 3.6.1
rdrop2 0.8.1 3.6.1
RDRToolbox 1.34.0 3.6.1
reactome.db 1.68.0 3.6.1
ReactomePA 1.28.0 3.6.1
readbitmap 0.1.5 3.6.1
readBrukerFlexData 1.8.5 3.6.1
reader 1.0.6 3.6.1
readMzXmlData 2.8.1 3.6.1
ReadqPCR 1.30.0 3.6.1
readr 1.3.1 3.6.1
readstata13 0.9.2 3.6.1
readxl 1.3.1 3.6.1
reb 1.62.0 3.6.1
REBET 1.2.0 3.6.1
rebus 0.1-3 3.6.1
rebus.base 0.0-3 3.6.1
rebus.datetimes 0.0-1 3.6.1
rebus.numbers 0.0-1 3.6.1
rebus.unicode 0.0-2 3.6.1
recipes 0.1.7 3.6.1
RecordLinkage 0.4-11.2 3.6.1
recount 1.10.13 3.6.1
recountWorkflow 1.8.1 3.6.1
recoup 1.12.0 3.6.1
RedeR 1.32.2 3.6.1
REDseq 1.30.0 3.6.1
RefFreeEWAS 2.2 3.6.1
refGenome 1.7.7 3.6.1
RefManageR 1.2.12 3.6.1
RefNet 1.20.0 3.6.1
RefPlus 1.54.0 3.6.1
regioneR 1.16.5 3.6.1
regionReport 1.18.2 3.6.1
registry 0.5-1 3.6.1
RegParallel 1.2.0 3.6.1
regress 1.3-15 3.6.1
regsplice 1.10.0 3.6.1
relations 0.6-8 3.6.1
reldist 1.6-6 3.6.1
relimp 1.0-5 3.6.1
rematch 1.0.1 3.6.1
rematch2 2.1.0 3.6.1
remotes 2.1.0 3.6.1
REMP 1.8.2 3.6.1
rentrez 1.2.2 3.6.1
ReorderCluster 1.0 3.6.1
Repitools 1.30.0 3.6.1
repmis 0.5 3.6.1
repo 2.1.3 3.6.1
ReportingTools 2.24.0 3.6.1
reportr 1.3.0 3.6.1
reprex 0.3.0 3.6.1
RepViz 1.0.0 3.6.1
ReQON 1.30.0 3.6.1
reshape 0.8.8 3.6.1
reshape2 1.4.3 3.6.1
restfulSE 1.6.1 3.6.1
restfulSEData 1.6.0 3.6.1
reticulate 1.13 3.6.1
reutils 0.2.3 3.6.1
rex 1.1.2 3.6.1
rexposome 1.6.0 3.6.1
Rfast 1.9.5 3.6.1
RFOC 3.4-6 3.6.1
RforProteomics 1.22.0 3.6.1
rfPermute 2.1.7 3.6.1
rfPred 1.22.0 3.6.1
rGADEM 2.32.0 3.6.1
RGalaxy 1.28.0 3.6.1
rgeos 0.5-2 3.6.1
rgexf 0.15.3 3.6.1
rggobi 2.1.22 3.6.1
Rgin 1.4.0 3.6.1
rgl 0.100.30 3.6.1
RGMQL 1.4.1 3.6.1
RGMQLlib 1.4.0 3.6.1
RGraph2js 1.12.0 3.6.1
Rgraphviz 2.28.0 3.6.1
rGREAT 1.16.1 3.6.1
RGSEA 1.18.0 3.6.1
rgsepd 1.16.0 3.6.1
RGtk2 2.20.36 3.6.1
rhandsontable 0.3.7 3.6.1
rhdf5 2.28.1 3.6.1
rhdf5client 1.6.1 3.6.1
Rhdf5lib 1.6.3 3.6.1
rheumaticConditionWOLLBOLD 1.22.0 3.6.1
Rhisat2 1.0.3 3.6.1
RhpcBLASctl 0.18-205 3.6.1
Rhtslib 1.16.3 3.6.1
rHVDM 1.50.0 3.6.1
RiboProfiling 1.14.0 3.6.1
riboSeqR 1.18.0 3.6.1
RImmPort 1.12.0 3.6.1
Ringo 1.48.0 3.6.1
rintrojs 0.2.2 3.6.1
rio 0.5.16 3.6.1
RIPSeeker 1.24.0 3.6.1
RIPSeekerData 1.20.0 3.6.1
Risa 1.26.0 3.6.1
RISmed 2.1.7 3.6.1
RITAN 1.8.0 3.6.1
RITANdata 1.8.0 3.6.1
RIVER 1.8.0 3.6.1
rjags 4-9 3.6.1
rJava 0.9-11 3.6.1
RJMCMCNucleosomes 1.8.0 3.6.1
rjson 0.2.20 3.6.1
RJSONIO 1.3-1.3 3.6.1
Rlab 2.15.1 3.6.1
Rlabkey 2.3.2 3.6.1
rlang 0.4.0 3.6.1
rlecuyer 0.3-4 3.6.1
rlist 0.4.6.1 3.6.1
RLMM 1.46.0 3.6.1
Rmagic 1.4.0 3.6.1
Rmagpie 1.40.0 3.6.1
RMallow 1.0 3.6.1
RMariaDB 1.0.6 3.6.1
rmarkdown 1.16 3.6.1
RMassBank 2.12.0 3.6.1
RMassBankData 1.22.0 3.6.1
rMAT 3.34.0 3.6.1
rmelting 1.0.0 3.6.1
rmeta 3.0 3.6.1
RmiR 1.40.0 3.6.1
RmiR.Hs.miRNA 1.0.7 3.6.1
Rmisc 1.5 3.6.1
Rmixmod 2.1.2.2 3.6.1
Rmmquant 1.2.0 3.6.1
Rmpfr 0.7-2 3.6.1
Rmpi 0.6-9 3.6.1
rms 5.1-3.1 3.6.1
RMTstat 0.3 3.6.1
rmutil 1.1.3 3.6.1
RMySQL 0.10.17 3.6.1
RNAdecay 1.4.0 3.6.1
RNAinteract 1.32.0 3.6.1
RNAinteractMAPK 1.22.0 3.6.1
RNAither 2.32.0 3.6.1
RNAprobR 1.16.0 3.6.1
RNAseq123 1.8.0 3.6.1
rnaseqcomp 1.14.0 3.6.1
RNAseqData.HNRNPC.bam.chr14 0.22.0 3.6.1
rnaseqDTU 1.4.0 3.6.1
rnaseqGene 1.8.0 3.6.1
RnaSeqGeneEdgeRQL 1.8.0 3.6.1
rnaSeqMap 2.42.0 3.6.1
RNASeqPower 1.24.0 3.6.1
RNASeqR 1.2.1 3.6.1
RNASeqRData 1.2.0 3.6.1
RnaSeqSampleSize 1.16.0 3.6.1
RnaSeqSampleSizeData 1.16.0 3.6.1
RnBeads 2.2.0 3.6.1
RnBeads.hg19 1.16.0 3.6.1
RnBeads.hg38 1.16.0 3.6.1
RnBeads.mm10 1.16.0 3.6.1
RnBeads.mm9 1.16.0 3.6.1
RnBeads.rn5 1.16.0 3.6.1
rncl 0.8.3 3.6.1
RNeXML 2.3.0 3.6.1
rngtools 1.4 3.6.1
RNifti 0.11.1 3.6.1
Rnits 1.18.0 3.6.1
roar 1.20.0 3.6.1
robCompositions 2.1.0 3.6.1
robust 0.4-18.1 3.6.1
robustbase 0.93-5 3.6.1
RobustRankAggreg 1.1 3.6.1
ROC 1.60.0 3.6.1
ROCR 1.0-7 3.6.1
Roleswitch 1.22.0 3.6.1
rols 2.12.2 3.6.1
ROntoTools 2.12.0 3.6.1
Rook 1.1-1 3.6.1
rootSolve 1.7 3.6.1
ropls 1.16.0 3.6.1
ROTS 1.12.0 3.6.1
roxygen2 6.1.1 3.6.1
RPA 1.40.0 3.6.1
rpart 4.1-15 3.6.1
rpart.plot 3.0.8 3.6.1
rphast 1.6.9 3.6.1
RPMG 2.2-3 3.6.1
RPMM 1.25 3.6.1
RPostgreSQL 0.6-2 3.6.1
rPref 1.3 3.6.1
rprojroot 1.3-2 3.6.1
RProtoBufLib 1.6.0 3.6.1
RpsiXML 2.26.0 3.6.1
rpx 1.20.2 3.6.1
Rqc 1.18.0 3.6.1
rqt 1.10.0 3.6.1
rqubic 1.30.0 3.6.1
RRBSdata 1.4.0 3.6.1
rrcov 1.4-7 3.6.1
rRDP 1.18.0 3.6.1
rRDPData 1.4.0 3.6.1
RRHO 1.24.0 3.6.1
Rsamtools 2.0.3 3.6.1
rsbml 2.42.0 3.6.1
rsconnect 0.8.15 3.6.1
rScudo 1.0.0 3.6.1
RSEIS 3.9-0 3.6.1
RSeqAn 1.4.0 3.6.1
Rserve 1.7-3.1 3.6.1
rsm 2.10 3.6.1
RSNNS 0.4-12 3.6.1
rsnps 0.3.0 3.6.1
Rsolnp 1.16 3.6.1
RSpectra 0.15-0 3.6.1
RSQLite 2.1.2 3.6.1
rstan 2.19.2 3.6.1
rstantools 2.0.0 3.6.1
rstudioapi 0.10 3.6.1
Rsubread 1.34.7 3.6.1
rsvd 1.0.2 3.6.1
rsvg 1.3 3.6.1
RSVGTipsDevice 1.0-7 3.6.1
RSVSim 1.24.0 3.6.1
rTANDEM 1.24.0 3.6.1
RTCA 1.36.0 3.6.1
RTCGA 1.14.0 3.6.1
RTCGA.clinical 20151101.14.0 3.6.1
RTCGA.CNV 1.12.0 3.6.1
RTCGA.methylation 1.12.0 3.6.1
RTCGA.miRNASeq 1.12.0 3.6.1
RTCGA.mRNA 1.12.0 3.6.1
RTCGA.mutations 20151101.14.0 3.6.1
RTCGA.PANCAN12 1.12.0 3.6.1
RTCGA.rnaseq 20151101.14.0 3.6.1
RTCGA.RPPA 1.12.0 3.6.1
RTCGAToolbox 2.14.0 3.6.1
rTensor 1.4 3.6.1
rtfbs 0.3.9 3.6.1
RTN 2.8.5 3.6.1
RTNduals 1.8.3 3.6.1
RTNsurvival 1.8.3 3.6.1
RTopper 1.30.0 3.6.1
rtracklayer 1.44.4 3.6.1
Rtreemix 1.46.0 3.6.1
rTRM 1.22.0 3.6.1
rTRMui 1.22.0 3.6.1
Rtsne 0.15 3.6.1
Rttf2pt1 1.3.7 3.6.1
runibic 1.6.0 3.6.1
RUnit 0.4.32 3.6.1
ruv 0.9.7.1 3.6.1
RUVcorr 1.16.0 3.6.1
RUVnormalize 1.18.0 3.6.1
RUVnormalizeData 1.4.0 3.6.1
RUVSeq 1.18.0 3.6.1
rvcheck 0.1.5 3.6.1
rversions 2.0.0 3.6.1
rvest 0.3.4 3.6.1
RVS 1.6.0 3.6.1
Rwave 2.4-8 3.6.1
RWeka 0.4-40 3.6.1
RWekajars 3.9.3-1 3.6.1
rWikiPathways 1.4.1 3.6.1
s4vd 1.1-1 3.6.1
S4Vectors 0.22.1 3.6.1
safe 3.24.0 3.6.1
sagenhaft 1.54.0 3.6.1
SAGx 1.58.0 3.6.1
samExploreR 1.8.0 3.6.1
sampleClassifier 1.8.0 3.6.1
sampleClassifierData 1.8.0 3.6.1
sampling 2.8 3.6.1
samr 3.0 3.6.1
SamSPECTRAL 1.38.0 3.6.1
sandwich 2.5-1 3.6.1
sangerseqR 1.20.0 3.6.1
SANTA 2.22.0 3.6.1
sapFinder 1.22.0 3.6.1
SAVER 1.1.1 3.6.1
savR 1.22.0 3.6.1
SBMLR 1.80.0 3.6.1
SC3 1.12.0 3.6.1
Scale4C 1.6.0 3.6.1
scales 1.0.0 3.6.1
scAlign 1.0.0 3.6.1
SCAN.UPC 2.26.0 3.6.1
scater 1.12.2 3.6.1
scatterpie 0.1.3 3.6.1
scatterplot3d 0.3-41 3.6.1
SCBN 1.2.0 3.6.1
scDD 1.8.0 3.6.1
scde 2.12.0 3.6.1
scds 1.0.0 3.6.1
scFeatureFilter 1.4.0 3.6.1
scfind 1.6.0 3.6.1
ScISI 1.56.0 3.6.1
SCLCBam 1.16.0 3.6.1
scmap 1.6.0 3.6.1
scMerge 1.0.0 3.6.1
scmeth 1.4.0 3.6.1
SCnorm 1.6.0 3.6.1
scone 1.8.0 3.6.1
Sconify 1.4.0 3.6.1
scoreInvHap 1.6.0 3.6.1
scPipe 1.6.0 3.6.1
scran 1.12.1 3.6.1
scRecover 1.0.0 3.6.1
scrime 1.3.5 3.6.1
scRNAseq 1.10.0 3.6.1
scruff 1.2.5 3.6.1
scsR 1.20.0 3.6.1
scTensor 1.0.13 3.6.1
sctransform 0.2.0 3.6.1
sda 1.3.7 3.6.1
SDAMS 1.4.0 3.6.1
SDMTools 1.1-221.1 3.6.1
SearchTrees 0.5.2 3.6.1
segmented 1.0-0 3.6.1
segmentSeq 2.18.0 3.6.1
selectr 0.4-1 3.6.1
SELEX 1.16.0 3.6.1
SemDist 1.18.0 3.6.1
semisup 1.8.0 3.6.1
sendmailR 1.2-1 3.6.1
SEPA 1.14.0 3.6.1
SEPIRA 1.4.1 3.6.1
seq2pathway 1.16.0 3.6.1
seq2pathway.data 1.16.0 3.6.1
SeqArray 1.24.2 3.6.1
seqbias 1.32.0 3.6.1
seqc 1.18.0 3.6.1
seqCAT 1.6.3 3.6.1
seqCNA 1.30.0 3.6.1
seqCNA.annot 1.20.0 3.6.1
seqcombo 1.6.0 3.6.1
SeqGSEA 1.24.0 3.6.1
seqinr 3.6-1 3.6.1
seqLogo 1.50.0 3.6.1
seqPattern 1.16.0 3.6.1
seqplots 1.22.2 3.6.1
seqsetvis 1.4.1 3.6.1
SeqSQC 1.6.0 3.6.1
seqTools 1.18.0 3.6.1
sequencing 1.8.0 3.6.1
SeqVarTools 1.22.0 3.6.1
seriation 1.2-8 3.6.1
serumStimulation 1.20.0 3.6.1
servr 0.15 3.6.1
sesame 1.2.0 3.6.1
sesameData 1.2.0 3.6.1
sessioninfo 1.1.1 3.6.1
setRNG 2013.9-1 3.6.1
sets 1.0-18 3.6.1
settings 0.2.4 3.6.1
Seurat 3.1.1 3.6.1
sevenbridges 1.14.1 3.6.1
sevenC 1.4.0 3.6.1
seventyGeneData 1.20.0 3.6.1
sf 0.8-0 3.6.1
sfsmisc 1.1-4 3.6.1
sgeostat 1.0-27 3.6.1
SGSeq 1.18.0 3.6.1
shades 1.4.0 3.6.1
shape 1.4.4 3.6.1
shiny 1.4.0 3.6.1
shinyAce 0.4.1 3.6.1
shinyalert 1.0 3.6.1
shinyBS 0.61 3.6.1
shinycssloaders 0.2.0 3.6.1
shinydashboard 0.7.1 3.6.1
shinyFiles 0.7.3 3.6.1
shinyjqui 0.3.2 3.6.1
shinyjs 1.0 3.6.1
shinyMethyl 1.20.0 3.6.1
shinyMethylData 1.4.0 3.6.1
shinyTANDEM 1.22.0 3.6.1
shinythemes 1.1.2 3.6.1
shinyTree 0.2.7 3.6.1
shinyWidgets 0.4.9 3.6.1
ShortRead 1.42.0 3.6.1
showtext 0.7 3.6.1
showtextdb 2.0 3.6.1
SIAMCAT 1.4.0 3.6.1
SICtools 1.14.0 3.6.1
SIFT.Hsapiens.dbSNP132 1.0.2 3.6.1
SIFT.Hsapiens.dbSNP137 1.0.0 3.6.1
sigaR 1.32.0 3.6.1
SigCheck 2.16.0 3.6.1
sigclust 1.1.0 3.6.1
sigFeature 1.2.0 3.6.1
SigFuge 1.22.0 3.6.1
siggenes 1.58.0 3.6.1
sights 1.10.0 3.6.1
signal 0.7-6 3.6.1
signeR 1.10.0 3.6.1
signet 1.4.0 3.6.1
sigPathway 1.52.0 3.6.1
sigsquared 1.16.0 3.6.1
SIM 1.54.0 3.6.1
SIMAT 1.16.0 3.6.1
SimBindProfiles 1.22.0 3.6.1
SIMD 1.2.0 3.6.1
similaRpeak 1.16.0 3.6.1
SIMLR 1.10.0 3.6.1
simpIntLists 1.20.0 3.6.1
simpleaffy 2.60.0 3.6.1
simpleSingleCell 1.8.0 3.6.1
simulatorZ 1.18.0 3.6.1
sincell 1.16.1 3.6.1
Single.mTEC.Transcriptomes 1.12.0 3.6.1
SingleCellExperiment 1.6.0 3.6.1
singleCellTK 1.4.2 3.6.1
singscore 1.4.0 3.6.1
SingscoreAMLMutations 1.0.1 3.6.1
SISPA 1.14.0 3.6.1
sitePath 1.0.3 3.6.1
sitmo 2.0.1 3.6.1
sizepower 1.54.0 3.6.1
skewr 1.16.0 3.6.1
skmeans 0.2-11 3.6.1
slalom 1.6.0 3.6.1
slam 0.1-45 3.6.1
SLGI 1.44.0 3.6.1
slingshot 1.2.0 3.6.1
slinky 1.2.2 3.6.1
SLqPCR 1.50.0 3.6.1
sm 2.2-5.6 3.6.1
SMAD 1.0.1 3.6.1
SMAP 1.48.0 3.6.1
SmartSVA 0.1.3 3.6.1
smatr 3.4-8 3.6.1
sme 1.0.2 3.6.1
SMITE 1.12.0 3.6.1
smoother 1.1 3.6.1
smoothie 1.0-1 3.6.1
smoothmest 0.1-2 3.6.1
SmoothWin 3.0.0 3.6.1
SMVar 1.3.3 3.6.1
sna 2.4 3.6.1
SNAData 1.30.0 3.6.1
SNAGEE 1.24.0 3.6.1
SNAGEEdata 1.20.0 3.6.1
snapCGH 1.54.0 3.6.1
SNFtool 2.3.0 3.6.1
snm 1.32.0 3.6.1
snow 0.4-3 3.6.1
SnowballC 0.6.0 3.6.1
snowfall 1.84-6.1 3.6.1
SNPchip 2.30.0 3.6.1
SNPediaR 1.10.0 3.6.1
SNPhood 1.14.0 3.6.1
SNPhoodData 1.14.0 3.6.1
SNPlocs.Hsapiens.dbSNP.20101109 0.99.7 3.6.1
SNPlocs.Hsapiens.dbSNP.20120608 0.99.11 3.6.1
SNPlocs.Hsapiens.dbSNP141.GRCh38 0.99.11 3.6.1
SNPlocs.Hsapiens.dbSNP142.GRCh37 0.99.5 3.6.1
SNPlocs.Hsapiens.dbSNP144.GRCh37 0.99.20 3.6.1
SNPlocs.Hsapiens.dbSNP144.GRCh38 0.99.20 3.6.1
SNPlocs.Hsapiens.dbSNP150.GRCh38 0.99.20 3.6.1
SNPRelate 1.18.1 3.6.1
snpStats 1.34.0 3.6.1
softImpute 1.4 3.6.1
soGGi 1.16.0 3.6.1
som 0.3-5.1 3.6.1
SomatiCAData 1.22.0 3.6.1
SomaticCancerAlterations 1.20.0 3.6.1
SomaticSignatures 2.20.0 3.6.1
SOMbrero 1.2-4 3.6.1
sonicLength 1.4.6 3.6.1
sourcetools 0.1.7 3.6.1
sp 1.3-1 3.6.1
SpacePAC 1.22.0 3.6.1
spam 2.3-0 3.6.1
SPARQL 1.16 3.6.1
sparsebn 0.0.5 3.6.1
sparsebnUtils 0.0.7 3.6.1
SparseDC 0.1.17 3.6.1
sparseDOSSA 1.8.0 3.6.1
sparseinv 0.1.3 3.6.1
sparseLDA 0.1-9 3.6.1
SparseM 1.77 3.6.1
sparseMVN 0.2.1.1 3.6.1
sparsenetgls 1.2.0 3.6.1
SparseSignatures 1.4.0 3.6.1
sparsesvd 0.2 3.6.1
spatial 7.3-11 3.6.1
SpatialCPie 1.0.0 3.6.1
SpatialExtremes 2.0-7.2 3.6.1
spatstat 1.61-0 3.6.1
spatstat.data 1.4-0 3.6.1
spatstat.utils 1.13-0 3.6.1
spData 0.3.2 3.6.1
spdep 1.1-3 3.6.1
specL 1.18.1 3.6.1
SpeCond 1.38.0 3.6.1
SpectralTAD 1.0.0 3.6.1
speedglm 0.3-2 3.6.1
spelling 2.1 3.6.1
SPEM 1.24.0 3.6.1
SPIA 2.36.0 3.6.1
SpidermiR 1.14.0 3.6.1
SpikeIn 1.26.0 3.6.1
SpikeInSubset 1.24.0 3.6.1
spikeLI 2.44.0 3.6.1
spkTools 1.40.0 3.6.1
splancs 2.01-40 3.6.1
splatter 1.8.0 3.6.1
splicegear 1.56.0 3.6.1
SplicingGraphs 1.24.0 3.6.1
splines 3.6.1 3.6.1
splineTimeR 1.12.0 3.6.1
SPLINTER 1.10.0 3.6.1
splitstackshape 1.4.8 3.6.1
splots 1.50.0 3.6.1
splus2R 1.2-2 3.6.1
SPONGE 1.6.2 3.6.1
spotSegmentation 1.58.0 3.6.1
spp 1.16.0 3.6.1
sqldf 0.4-11 3.6.1
SQN 1.0.5 3.6.1
SQUADD 1.34.0 3.6.1
SQUAREM 2017.10-1 3.6.1
squash 1.0.8 3.6.1
sRACIPE 1.0.0 3.6.1
SRAdb 1.46.0 3.6.1
sRAP 1.24.0 3.6.1
SRGnet 1.10.0 3.6.1
srnadiff 1.4.0 3.6.1
sROC 0.1-2 3.6.1
sscore 1.56.0 3.6.1
sscu 2.14.0 3.6.1
sSeq 1.22.0 3.6.1
ssize 1.58.0 3.6.1
SSPA 2.24.0 3.6.1
ssrch 1.0.0 3.6.1
ssviz 1.18.0 3.6.1
st 1.2.5 3.6.1
stable 1.1.4 3.6.1
stabledist 0.7-1 3.6.1
stabs 0.6-3 3.6.1
stageR 1.6.0 3.6.1
STAN 2.12.0 3.6.1
StanHeaders 2.19.0 3.6.1
staRank 1.26.0 3.6.1
StarBioTrek 1.10.0 3.6.1
Starr 1.40.0 3.6.1
startupmsg 0.9.6 3.6.1
STATegRa 1.20.0 3.6.1
statip 0.2.0 3.6.1
statmod 1.4.32 3.6.1
statnet.common 4.3.0 3.6.1
stats 3.6.1 3.6.1
stats4 3.6.1 3.6.1
statTarget 1.14.0 3.6.1
stemHypoxia 1.20.0 3.6.1
stepNorm 1.56.0 3.6.1
stjudem 1.24.0 3.6.1
strandCheckR 1.2.0 3.6.1
Streamer 1.30.0 3.6.1
STRINGdb 1.24.0 3.6.1
stringdist 0.9.5.3 3.6.1
stringi 1.4.3 3.6.1
stringr 1.4.0 3.6.1
STROMA4 1.8.0 3.6.1
strucchange 1.5-2 3.6.1
Structstrings 1.0.3 3.6.1
StructuralVariantAnnotation 1.0.0 3.6.1
SubCellBarCode 1.0.0 3.6.1
subSeq 1.14.0 3.6.1
subspace 1.0.4 3.6.1
SummarizedBenchmark 2.2.3 3.6.1
SummarizedExperiment 1.14.1 3.6.1
superheat 0.1.0 3.6.1
SuperLearner 2.0-25 3.6.1
superpc 1.09 3.6.1
SuppDists 1.1-9.4 3.6.1
supraHex 1.22.0 3.6.1
survcomp 1.34.0 3.6.1
survey 3.36 3.6.1
survival 2.44-1.1 3.6.1
survivalROC 1.0.3 3.6.1
survminer 0.4.6 3.6.1
survMisc 0.5.5 3.6.1
survtype 1.0.0 3.6.1
Sushi 1.22.0 3.6.1
sva 3.32.1 3.6.1
SVAPLSseq 1.10.0 3.6.1
svd 0.5 3.6.1
svDialogs 1.0.0 3.6.1
svglite 1.2.2 3.6.1
svGUI 1.0.0 3.6.1
SVM2CRM 1.16.0 3.6.1
SVM2CRMdata 1.16.0 3.6.1
svMisc 1.1.0 3.6.1
SWATH2stats 1.14.0 3.6.1
SwathXtend 2.6.0 3.6.1
swfdr 1.10.0 3.6.1
swfscMisc 1.2 3.6.1
SwimR 1.22.0 3.6.1
switchBox 1.20.0 3.6.1
switchde 1.10.0 3.6.1
sybil 2.1.5 3.6.1
synapter 2.8.0 3.6.1
synapterdata 1.22.0 3.6.1
synergyfinder 1.10.7 3.6.1
synlet 1.14.0 3.6.1
SynMut 1.0.1 3.6.1
sys 3.3 3.6.1
sysfonts 0.8 3.6.1
systemfonts 0.1.1 3.6.1
systemPipeR 1.18.2 3.6.1
systemPipeRdata 1.12.0 3.6.1
TabulaMurisData 1.2.0 3.6.1
tagcloud 0.6 3.6.1
targetscan.Hs.eg.db 0.6.1 3.6.1
targetscan.Mm.eg.db 0.6.1 3.6.1
TargetScore 1.22.0 3.6.1
TargetScoreData 1.20.0 3.6.1
TargetSearch 1.40.3 3.6.1
TargetSearchData 1.22.0 3.6.1
TarSeqQC 1.14.0 3.6.1
TBX20BamSubset 1.20.0 3.6.1
TCC 1.24.0 3.6.1
TCGAbiolinks 2.12.6 3.6.1
TCGAbiolinksGUI 1.10.0 3.6.1
TCGAbiolinksGUI.data 1.4.0 3.6.1
TCGAcrcmiRNA 1.4.0 3.6.1
TCGAcrcmRNA 1.4.0 3.6.1
TCGAMethylation450k 1.20.0 3.6.1
TCGAutils 1.4.0 3.6.1
tcgaWGBSData.hg19 1.2.0 3.6.1
TCGAWorkflow 1.8.1 3.6.1
TCGAWorkflowData 1.8.0 3.6.1
tcltk 3.6.1 3.6.1
tcltk2 1.2-11 3.6.1
tcR 2.2.4 3.6.1
TCseq 1.8.0 3.6.1
TDARACNE 1.34.0 3.6.1
TeachingDemos 2.10 3.6.1
tensor 1.5 3.6.1
tensorA 0.36.1 3.6.1
tensorflow 2.0.0 3.6.1
TENxBrainData 1.4.0 3.6.1
TENxPBMCData 1.2.0 3.6.1
tenXplore 1.6.0 3.6.1
TEQC 4.6.0 3.6.1
ternarynet 1.28.0 3.6.1
test3cdf 2.18.0 3.6.1
tester 0.1.7 3.6.1
testthat 2.2.1 3.6.1
TFARM 1.6.0 3.6.1
TFBSTools 1.22.0 3.6.1
TFEA.ChIP 1.4.2 3.6.1
TFHAZ 1.6.0 3.6.1
TFMPvalue 0.0.8 3.6.1
tfruns 1.4 3.6.1
TFutils 1.4.0 3.6.1
TH.data 1.0-10 3.6.1
threejs 0.3.1 3.6.1
tibble 2.1.3 3.6.1
tictoc 1.0 3.6.1
tidygraph 1.1.2 3.6.1
tidyr 1.0.0 3.6.1
tidyselect 0.2.5 3.6.1
tidytree 0.2.8 3.6.1
tidyverse 1.2.1 3.6.1
tiff 0.1-5 3.6.1
tigre 1.38.0 3.6.1
tilingArray 1.62.0 3.6.1
timecourse 1.56.0 3.6.1
timeDate 3043.102 3.6.1
TimerQuant 1.14.0 3.6.1
timescape 1.8.0 3.6.1
timeSeries 3042.102 3.6.1
TimeSeriesExperiment 1.2.0 3.6.1
timsac 1.3.6 3.6.1
TIN 1.16.0 3.6.1
tinesath1cdf 1.22.0 3.6.1
tinesath1probe 1.22.0 3.6.1
tinytex 0.16 3.6.1
TissueEnrich 1.4.1 3.6.1
tissueTreg 1.4.0 3.6.1
TitanCNA 1.22.0 3.6.1
tkrgl 0.8 3.6.1
tkrplot 0.0-24 3.6.1
tkWidgets 1.62.0 3.6.1
tm 0.7-6 3.6.1
TMB 1.7.15 3.6.1
TMixClust 1.6.0 3.6.1
tmle 1.4.0.1 3.6.1
tmvtnorm 1.4-10 3.6.1
TNBC.CMS 1.0.0 3.6.1
TnT 1.6.0 3.6.1
tofsims 1.12.0 3.6.1
tofsimsData 1.12.0 3.6.1
tools 3.6.1 3.6.1
ToPASeq 1.18.1 3.6.1
topconfects 1.0.0 3.6.1
topdownr 1.6.0 3.6.1
topdownrdata 1.6.0 3.6.1
topGO 2.36.0 3.6.1
topicmodels 0.2-8 3.6.1
topologyGSA 1.4.6 3.6.1
TPP 3.12.0 3.6.1
TPP2D 1.0.0 3.6.1
tracktables 1.18.0 3.6.1
trackViewer 1.20.5 3.6.1
tractor.base 3.3.2 3.6.1
transcriptogramer 1.6.0 3.6.1
transcriptR 1.12.0 3.6.1
transite 1.2.1 3.6.1
tRanslatome 1.22.0 3.6.1
transport 0.12-1 3.6.1
TransView 1.28.0 3.6.1
traseR 1.14.0 3.6.1
tree 1.0-40 3.6.1
treeio 1.8.2 3.6.1
TreeSummarizedExperiment 1.0.3 3.6.1
trena 1.6.1 3.6.1
Trendy 1.6.4 3.6.1
triebeard 0.3.0 3.6.1
triform 1.26.0 3.6.1
trigger 1.30.0 3.6.1
trio 3.22.0 3.6.1
triplex 1.24.0 3.6.1
tRNA 1.2.2 3.6.1
tRNAdbImport 1.2.2 3.6.1
tRNAscanImport 1.4.2 3.6.1
TRONCO 2.16.2 3.6.1
truncdist 1.0-2 3.6.1
truncnorm 1.0-8 3.6.1
trust 0.1-7 3.6.1
TSCAN 1.22.0 3.6.1
TSclust 1.2.4 3.6.1
TSdist 3.6 3.6.1
tseries 0.10-47 3.6.1
tsne 0.1-3 3.6.1
TSP 1.1-7 3.6.1
tspair 1.42.0 3.6.1
TSRchitect 1.10.12 3.6.1
TSSi 1.30.0 3.6.1
TTMap 1.6.0 3.6.1
TTR 0.23-5 3.6.1
TurboNorm 1.32.0 3.6.1
turner 0.1.7 3.6.1
TVTB 1.10.0 3.6.1
tweeDEseq 1.30.0 3.6.1
tweeDEseqCountData 1.22.0 3.6.1
tweenr 1.0.1 3.6.1
twilight 1.60.0 3.6.1
twoddpcr 1.8.0 3.6.1
TxDb.Athaliana.BioMart.plantsmart22 3.0.1 3.6.1
TxDb.Celegans.UCSC.ce6.ensGene 3.2.2 3.6.1
TxDb.Dmelanogaster.UCSC.dm3.ensGene 3.2.2 3.6.1
TxDb.Dmelanogaster.UCSC.dm6.ensGene 3.4.6 3.6.1
TxDb.Drerio.UCSC.danRer10.refGene 3.4.6 3.6.1
TxDb.Ggallus.UCSC.galGal5.refGene 3.4.6 3.6.1
TxDb.Hsapiens.UCSC.hg18.knownGene 3.2.2 3.6.1
TxDb.Hsapiens.UCSC.hg19.knownGene 3.2.2 3.6.1
TxDb.Hsapiens.UCSC.hg19.lincRNAsTranscripts 3.2.2 3.6.1
TxDb.Hsapiens.UCSC.hg38.knownGene 3.4.6 3.6.1
TxDb.Mmusculus.UCSC.mm10.ensGene 3.4.0 3.6.1
TxDb.Mmusculus.UCSC.mm10.knownGene 3.4.7 3.6.1
TxDb.Mmusculus.UCSC.mm9.knownGene 3.2.2 3.6.1
TxDb.Rnorvegicus.UCSC.rn4.ensGene 3.2.2 3.6.1
TxDb.Rnorvegicus.UCSC.rn5.refGene 3.4.6 3.6.1
TxDb.Rnorvegicus.UCSC.rn6.refGene 3.4.6 3.6.1
TxDb.Scerevisiae.UCSC.sacCer3.sgdGene 3.2.2 3.6.1
tximeta 1.2.2 3.6.1
tximport 1.12.3 3.6.1
tximportData 1.12.0 3.6.1
TxRegInfra 1.4.0 3.6.1
TypeInfo 1.50.0 3.6.1
ucminf 1.1-4 3.6.1
Ularcirc 1.2.21 3.6.1
umap 0.2.3.1 3.6.1
UNDO 1.26.0 3.6.1
unifiedWMWqPCR 1.20.0 3.6.1
UniProt.ws 2.24.2 3.6.1
uniqtag 1.0 3.6.1
Uniquorn 2.4.0 3.6.1
units 0.6-5 3.6.1
universalmotif 1.2.1 3.6.1
UpSetR 1.4.0 3.6.1
urca 1.3-0 3.6.1
urltools 1.7.3 3.6.1
usethis 1.5.1 3.6.1
uSORT 1.10.0 3.6.1
utf8 1.1.4 3.6.1
utils 3.6.1 3.6.1
uuid 0.1-2 3.6.1
uwot 0.1.4 3.6.1
V8 2.3 3.6.1
VanillaICE 1.46.0 3.6.1
varhandle 2.0.3 3.6.1
variancePartition 1.14.1 3.6.1
VariantAnnotation 1.30.1 3.6.1
VariantFiltering 1.20.0 3.6.1
variants 1.8.0 3.6.1
VariantTools 1.26.0 3.6.1
VariantToolsData 1.8.0 3.6.1
varSelRF 0.7-8 3.6.1
vbmp 1.52.0 3.6.1
vbsr 0.0.5 3.6.1
vcd 1.4-4 3.6.1
VCFArray 1.0.3 3.6.1
vcfR 1.8.0 3.6.1
vctrs 0.2.0 3.6.1
vdiffr 0.3.1 3.6.1
Vega 1.32.0 3.6.1
VegaMC 3.22.0 3.6.1
vegan 2.5-6 3.6.1
venn 1.7 3.6.1
VennDetail 1.0.1 3.6.1
VennDiagram 1.6.20 3.6.1
venneuler 1.1-0 3.6.1
verification 1.42 3.6.1
VGAM 1.1-1 3.6.1
vidger 1.4.4 3.6.1
VIM 4.8.0 3.6.1
vioplot 0.3.2 3.6.1
viper 1.18.1 3.6.1
vipor 0.4.5 3.6.1
viridis 0.5.1 3.6.1
viridisLite 0.3.0 3.6.1
visNetwork 2.0.8 3.6.1
vsn 3.52.0 3.6.1
vtpnet 0.24.0 3.6.1
vulcan 1.6.0 3.6.1
vulcandata 1.6.0 3.6.1
waffle 0.7.0 3.6.1
wateRmelon 1.28.0 3.6.1
wavClusteR 2.18.0 3.6.1
waveslim 1.7.5.1 3.6.1
wavethresh 4.6.8 3.6.1
waveTiling 1.26.0 3.6.1
waveTilingData 1.20.0 3.6.1
weaver 1.50.0 3.6.1
webbioc 1.56.0 3.6.1
webshot 0.5.1 3.6.1
webutils 1.0 3.6.1
WES.1KG.WUGSC 1.16.0 3.6.1
wesanderson 0.3.6 3.6.1
WGCNA 1.68 3.6.1
wheatmap 0.1.0 3.6.1
whisker 0.4 3.6.1
widgetTools 1.62.0 3.6.1
wiggleplotr 1.8.0 3.6.1
withr 2.1.2 3.6.1
wmtsa 2.0-3 3.6.1
wordcloud 2.6 3.6.1
Wrench 1.2.0 3.6.1
writexl 1.1 3.6.1
WriteXLS 5.0.0 3.6.1
XBSeq 1.16.0 3.6.1
xcms 3.6.2 3.6.1
XDE 2.30.0 3.6.1
Xeva 1.0.0 3.6.1
xfun 0.10 3.6.1
xgboost 0.90.0.2 3.6.1
XGR 1.1.6 3.6.1
XhybCasneuf 1.22.0 3.6.1
XINA 1.2.0 3.6.1
xlsx 0.6.1 3.6.1
xlsxjars 0.6.1 3.6.1
xmapbridge 1.42.0 3.6.1
Xmisc 0.2.1 3.6.1
XML 3.98-1.20 3.6.1
xml2 1.2.2 3.6.1
xmlparsedata 1.0.3 3.6.1
xopen 1.0.0 3.6.1
xps 1.44.0 3.6.1
xtable 1.8-4 3.6.1
XtraSNPlocs.Hsapiens.dbSNP144.GRCh37 0.99.12 3.6.1
XtraSNPlocs.Hsapiens.dbSNP144.GRCh38 0.99.12 3.6.1
xts 0.11-2 3.6.1
XVector 0.24.0 3.6.1
yaml 2.2.0 3.6.1
yamss 1.10.0 3.6.1
YAPSA 1.10.0 3.6.1
yaqcaffy 1.44.0 3.6.1
yarn 1.10.0 3.6.1
yeast2.db 3.2.3 3.6.1
yeastCC 1.24.0 3.6.1
yeastExpData 0.30.0 3.6.1
yeastGSData 0.22.0 3.6.1
yeastNagalakshmi 1.20.0 3.6.1
yeastRNASeq 0.22.0 3.6.1
yri1kgv 0.26.0 3.6.1
yriMulti 0.14.0 3.6.1
zCompositions 1.3.2-1 3.6.1
zeallot 0.1.0 3.6.1
zebrafishRNASeq 1.4.0 3.6.1
zFPKM 1.6.0 3.6.1
zinbwave 1.6.0 3.6.1
zip 2.0.4 3.6.1
zlibbioc 1.30.0 3.6.1
zoo 1.8-6 3.6.1