| Back to Multiple platform build/check report for BioC 3.9 |
This page was generated on 2019-04-09 13:43:50 -0400 (Tue, 09 Apr 2019).
Version Built
a4 1.31.0 3.6.0
a4Base 1.31.0 3.6.0
a4Classif 1.31.0 3.6.0
a4Core 1.31.0 3.6.0
a4Preproc 1.31.0 3.6.0
a4Reporting 1.31.0 3.6.0
ABAData 1.13.0 3.6.0
ABAEnrichment 1.13.1 3.6.0
ABarray 1.51.0 3.6.0
abind 1.4-5 3.6.0
abseqR 1.1.0 3.6.0
ABSSeq 1.37.0 3.6.0
acde 1.13.0 3.6.0
ACE 1.1.1 3.6.0
acepack 1.4.1 3.6.0
aCGH 1.61.0 3.6.0
ACME 2.39.0 3.6.0
actuar 2.3-1 3.6.0
ada 2.0-5 3.6.0
ADaCGH2 2.23.0 3.6.0
ADAM 0.99.66 3.6.0
adaptest 1.3.0 3.6.0
additivityTests 1.1-4 3.6.0
adductData 0.99.4 3.6.0
adductomicsR 0.99.79 3.6.0
ade4 1.7-13 3.6.0
adehabitatLT 0.3.24 3.6.0
adehabitatMA 0.3.13 3.6.0
ADGofTest 0.3 3.6.0
adSplit 1.53.0 3.6.0
afex 0.23-0 3.6.0
AffiXcan 1.1.3 3.6.0
affxparser 1.55.0 3.6.0
affy 1.61.0 3.6.0
affycomp 1.59.0 3.6.0
AffyCompatible 1.43.0 3.6.0
affycompData 1.21.0 3.6.0
affyContam 1.41.0 3.6.0
affycoretools 1.55.0 3.6.0
affydata 1.31.0 3.6.0
AffyExpress 1.49.0 3.6.0
Affyhgu133A2Expr 1.19.0 3.6.0
Affyhgu133aExpr 1.21.0 3.6.0
Affyhgu133Plus2Expr 1.17.0 3.6.0
affyILM 1.35.0 3.6.0
affyio 1.53.0 3.6.0
affylmGUI 1.57.0 3.6.0
AffymetrixDataTestFiles 0.21.0 3.6.0
Affymoe4302Expr 1.21.0 3.6.0
affyPara 1.43.0 3.6.0
affypdnn 1.57.0 3.6.0
affyPLM 1.59.0 3.6.0
affyQCReport 1.61.0 3.6.0
AffyRNADegradation 1.29.0 3.6.0
AGDEX 1.31.0 3.6.0
agilp 3.15.0 3.6.0
AgiMicroRna 2.33.0 3.6.0
agricolae 1.3-1 3.6.0
AhoCorasickTrie 0.1.0 3.6.0
AIMS 1.15.1 3.6.0
airway 1.3.0 3.6.0
akima 0.6-2 3.6.0
alabama 2015.3-1 3.6.0
ALDEx2 1.15.4 3.6.0
alevinQC 0.99.4 3.6.0
aLFQ 1.3.4 3.6.0
AlgDesign 1.1-7.3 3.6.0
ALL 1.25.0 3.6.0
AllelicImbalance 1.21.2 3.6.0
ALLMLL 1.23.0 3.6.0
alluvial 0.1-2 3.6.0
alpine 1.9.0 3.6.0
alpineData 1.9.0 3.6.0
ALS 0.0.6 3.6.0
alsace 1.19.0 3.6.0
altcdfenvs 2.45.1 3.6.0
amap 0.8-16 3.6.0
AMARETTO 0.99.20 3.6.0
AMOUNTAIN 1.9.0 3.6.0
AmpAffyExample 1.23.0 3.6.0
amplican 1.5.6 3.6.0
AnalysisPageServer 1.17.0 3.6.0
anamiR 1.11.0 3.6.0
Anaquin 2.7.1 3.6.0
AneuFinder 1.11.2 3.6.0
AneuFinderData 1.11.0 3.6.0
ANF 1.5.0 3.6.0
animation 2.6 3.6.0
annaffy 1.55.0 3.6.0
annmap 1.25.0 3.6.0
annotate 1.61.1 3.6.0
AnnotationDbi 1.45.1 3.6.0
AnnotationFilter 1.7.0 3.6.0
AnnotationForge 1.25.0 3.6.0
AnnotationFuncs 1.33.0 3.6.0
AnnotationHub 2.15.12 3.6.0
AnnotationHubData 1.13.10 3.6.0
annotationTools 1.57.0 3.6.0
annotatr 1.9.0 3.6.0
anota 1.31.0 3.6.0
anota2seq 1.5.3 3.6.0
antiProfiles 1.23.0 3.6.0
antiProfilesData 1.19.0 3.6.0
aod 1.3.1 3.6.0
apcluster 1.4.7 3.6.0
apComplex 2.49.1 3.6.0
ape 5.3 3.6.0
apeglm 1.5.4 3.6.0
aplpack 1.3.2 3.6.0
appreci8R 1.1.0 3.6.0
argparse 2.0.1 3.6.0
argparser 0.4 3.6.0
ArgumentCheck 0.10.2 3.6.0
arm 1.10-1 3.6.0
aroma.affymetrix 3.1.1 3.6.0
aroma.apd 0.6.0 3.6.0
aroma.core 3.1.3 3.6.0
aroma.light 3.13.0 3.6.0
ArrayExpress 1.43.0 3.6.0
ArrayExpressHTS 1.33.1 3.6.0
arrayMvout 1.41.0 3.6.0
arrayQuality 1.61.0 3.6.0
ArrayTools 1.43.0 3.6.0
ArrayTV 1.21.0 3.6.0
ARRmData 1.19.0 3.6.0
ARRmNormalization 1.23.0 3.6.0
artMS 1.1.12 3.6.0
arules 1.6-3 3.6.0
ASAFE 1.9.0 3.6.0
ASEB 1.27.0 3.6.0
ASGSCA 1.17.0 3.6.0
ashr 2.2-32 3.6.0
ASICS 1.3.0 3.6.0
ASICSdata 1.3.0 3.6.0
askpass 1.1 3.6.0
ASpli 1.9.1 3.6.0
assertive 0.3-5 3.6.0
assertive.base 0.0-7 3.6.0
assertive.code 0.0-3 3.6.0
assertive.data 0.0-3 3.6.0
assertive.data.uk 0.0-2 3.6.0
assertive.data.us 0.0-2 3.6.0
assertive.datetimes 0.0-2 3.6.0
assertive.files 0.0-2 3.6.0
assertive.matrices 0.0-2 3.6.0
assertive.models 0.0-2 3.6.0
assertive.numbers 0.0-2 3.6.0
assertive.properties 0.0-4 3.6.0
assertive.reflection 0.0-4 3.6.0
assertive.sets 0.0-3 3.6.0
assertive.strings 0.0-3 3.6.0
assertive.types 0.0-3 3.6.0
assertthat 0.2.1 3.6.0
AssessORF 1.1.6 3.6.0
AssessORFData 1.1.5 3.6.0
ASSET 2.1.0 3.6.0
ASSIGN 1.19.1 3.6.0
ATACseqQC 1.7.8 3.6.0
atSNP 0.99.21 3.6.0
attract 1.35.1 3.6.0
AUCell 1.5.5 3.6.0
aws 2.2-0 3.6.0
awsMethods 1.1-0 3.6.0
BaalChIP 1.9.1 3.6.0
BAC 1.43.0 3.6.0
backports 1.1.3 3.6.0
bacon 1.11.1 3.6.0
BADER 1.21.1 3.6.0
BadRegionFinder 1.11.0 3.6.0
BAGS 2.23.0 3.6.0
ballgown 2.15.1 3.6.0
bamsignals 1.15.0 3.6.0
banocc 1.7.1 3.6.0
base 3.6.0 3.6.0
base64 2.0 3.6.0
base64enc 0.1-3 3.6.0
base64url 1.4 3.6.0
basecallQC 1.7.0 3.6.0
baseline 1.2-1 3.6.0
BaseSpaceR 1.27.0 3.6.0
Basic4Cseq 1.19.1 3.6.0
BASiCS 1.5.26 3.6.0
BasicSTARRseq 1.11.0 3.6.0
batchelor 0.99.7 3.6.0
BatchJobs 1.7 3.6.0
BatchQC 1.11.3 3.6.0
batchtools 0.9.11 3.6.0
BayesKnockdown 1.9.0 3.6.0
bayesm 3.1-1 3.6.0
BayesPeak 1.35.0 3.6.0
bayNorm 1.1.7 3.6.0
baySeq 2.17.0 3.6.0
bazar 1.0.11 3.6.0
BB 2014.10-1 3.6.0
BBCAnalyzer 1.13.0 3.6.0
BBmisc 1.11 3.6.0
bbmle 1.0.20 3.6.0
bc3net 1.0.4 3.6.0
bcellViper 1.19.0 3.6.0
BCRANK 1.45.0 3.6.0
bcSeq 1.5.1 3.6.0
BDgraph 2.57 3.6.0
BDMMAcorrect 1.1.1 3.6.0
bdsmatrix 1.3-3 3.6.0
beachmat 1.99.8 3.6.0
beadarray 2.33.2 3.6.0
beadarrayExampleData 1.21.0 3.6.0
beadarraySNP 1.49.0 3.6.0
BeadDataPackR 1.35.0 3.6.0
beanplot 1.2 3.6.0
BEARscc 1.3.1 3.6.0
BEAT 1.21.1 3.6.0
BEclear 1.99.1 3.6.0
beeswarm 0.2.3 3.6.0
betareg 3.1-1 3.6.0
bezier 1.1.2 3.6.0
bgafun 1.45.0 3.6.0
BgeeDB 2.9.0 3.6.0
BGmix 1.43.0 3.6.0
bgmm 1.8.3 3.6.0
bgx 1.49.4 3.6.0
BH 1.69.0-1 3.6.0
BHC 1.35.0 3.6.0
BiasedUrn 1.07 3.6.0
bibtex 0.4.2 3.6.0
BicARE 1.41.0 3.6.0
biclust 2.0.1 3.6.0
BiFET 1.3.1 3.6.0
biganalytics 1.1.14 3.6.0
BiGGR 1.19.0 3.6.0
biglm 0.9-1 3.6.0
bigmelon 1.9.0 3.6.0
bigmemory 4.5.33 3.6.0
bigmemory.sri 0.1.3 3.6.0
bigmemoryExtras 1.31.0 3.6.0
bigPint 0.99.8 3.6.0
bigrquery 1.1.0 3.6.0
bindr 0.1.1 3.6.0
bindrcpp 0.2.2 3.6.0
binom 1.1-1 3.6.0
bio3d 2.3-4 3.6.0
bioassayR 1.21.1 3.6.0
Biobase 2.43.1 3.6.0
biobroom 1.15.0 3.6.0
bioCancer 1.11.0 3.6.0
BiocCaseStudies 1.45.0 3.6.0
BiocCheck 1.19.33 3.6.0
BiocFileCache 1.7.7 3.6.0
BiocGenerics 0.29.2 3.6.0
biocGraph 1.45.0 3.6.0
BiocManager 1.30.4 3.6.0
BiocNeighbors 1.1.12 3.6.0
BiocOncoTK 1.3.6 3.6.0
BioCor 1.7.0 3.6.0
BiocParallel 1.17.18 3.6.0
BiocPkgTools 1.1.8 3.6.0
BiocSingular 0.99.14 3.6.0
BiocSklearn 1.5.2 3.6.0
BiocStyle 2.11.0 3.6.0
BiocVersion 3.9.0 3.6.0
biocViews 1.51.15 3.6.0
BiocWorkflowTools 1.9.3 3.6.0
bioDist 1.55.0 3.6.0
BioMark 0.4.5 3.6.0
biomaRt 2.39.2 3.6.0
biomformat 1.11.1 3.6.0
BioMM 0.99.11 3.6.0
BioMVCClass 1.51.0 3.6.0
biomvRCNS 1.23.0 3.6.0
BioNet 1.43.0 3.6.0
bionetdata 1.0.1 3.6.0
BioNetStat 1.3.2 3.6.0
BioQC 1.11.1 3.6.0
BioSeqClass 1.41.0 3.6.0
biosigner 1.11.26 3.6.0
Biostrings 2.51.5 3.6.0
biosvd 2.19.0 3.6.0
biotmle 1.7.2 3.6.0
biotmleData 1.7.0 3.6.0
biovizBase 1.31.1 3.6.0
BiRewire 3.15.0 3.6.0
birta 1.27.0 3.6.0
birte 1.19.0 3.6.0
BiSeq 1.23.0 3.6.0
bit 1.1-14 3.6.0
bit64 0.9-7 3.6.0
bitops 1.0-6 3.6.0
BitSeq 1.27.2 3.6.0
biwt 1.0 3.6.0
bladderbatch 1.21.0 3.6.0
blima 1.17.0 3.6.0
blimaTestingData 1.3.0 3.6.0
BLMA 1.7.0 3.6.0
blme 1.0-4 3.6.0
blob 1.1.1 3.6.0
blockmodeling 0.3.4 3.6.0
BMA 3.18.9 3.6.0
bmp 0.3 3.6.0
bnbc 1.5.0 3.6.0
bnlearn 4.4.1 3.6.0
bodymapRat 0.99.8 3.6.0
bookdown 0.9 3.6.0
BoolNet 2.1.4 3.6.0
boot 1.3-22 3.6.0
bootstrap 2017.2 3.6.0
bpca 1.3-0 3.6.0
BPRMeth 1.9.4 3.6.0
BRAIN 1.29.1 3.6.0
brainImageR 1.1.1 3.6.0
BrainStars 1.27.0 3.6.0
branchpointer 1.9.0 3.6.0
breakpointR 1.1.2 3.6.0
breakpointRdata 1.1.0 3.6.0
breastCancerMAINZ 1.21.0 3.6.0
breastCancerNKI 1.21.0 3.6.0
breastCancerTRANSBIG 1.21.0 3.6.0
breastCancerUNT 1.21.0 3.6.0
breastCancerUPP 1.21.0 3.6.0
breastCancerVDX 1.21.0 3.6.0
brew 1.0-6 3.6.0
brgedata 1.5.0 3.6.0
brglm 0.6.2 3.6.0
bridge 1.47.0 3.6.0
BridgeDbR 1.17.5 3.6.0
broom 0.5.2 3.6.0
BrowserViz 2.5.13 3.6.0
BSgenome 1.51.0 3.6.0
BSgenome.Athaliana.TAIR.TAIR9 1.3.1000 3.6.0
BSgenome.Btaurus.UCSC.bosTau6 1.4.0 3.6.0
BSgenome.Btaurus.UCSC.bosTau6.masked 1.3.99 3.6.0
BSgenome.Celegans.UCSC.ce10 1.4.0 3.6.0
BSgenome.Celegans.UCSC.ce2 1.4.0 3.6.0
BSgenome.Dmelanogaster.UCSC.dm3 1.4.0 3.6.0
BSgenome.Drerio.UCSC.danRer10 1.4.2 3.6.0
BSgenome.Drerio.UCSC.danRer7 1.4.0 3.6.0
BSgenome.Ecoli.NCBI.20080805 1.3.1000 3.6.0
BSgenome.Ggallus.UCSC.galGal3 1.4.0 3.6.0
BSgenome.Hsapiens.1000genomes.hs37d5 0.99.1 3.6.0
BSgenome.Hsapiens.NCBI.GRCh38 1.3.1000 3.6.0
BSgenome.Hsapiens.UCSC.hg18 1.3.1000 3.6.0
BSgenome.Hsapiens.UCSC.hg18.masked 1.3.99 3.6.0
BSgenome.Hsapiens.UCSC.hg19 1.4.0 3.6.0
BSgenome.Hsapiens.UCSC.hg19.masked 1.3.99 3.6.0
BSgenome.Hsapiens.UCSC.hg38 1.4.1 3.6.0
BSgenome.Hsapiens.UCSC.hg38.masked 1.3.99 3.6.0
BSgenome.Mmusculus.UCSC.mm10 1.4.0 3.6.0
BSgenome.Mmusculus.UCSC.mm10.masked 1.3.99 3.6.0
BSgenome.Mmusculus.UCSC.mm8 1.4.0 3.6.0
BSgenome.Mmusculus.UCSC.mm8.masked 1.3.99 3.6.0
BSgenome.Mmusculus.UCSC.mm9 1.4.0 3.6.0
BSgenome.Mmusculus.UCSC.mm9.masked 1.3.99 3.6.0
BSgenome.Rnorvegicus.UCSC.rn5 1.4.0 3.6.0
BSgenome.Rnorvegicus.UCSC.rn5.masked 1.3.99 3.6.0
BSgenome.Rnorvegicus.UCSC.rn6 1.4.1 3.6.0
BSgenome.Scerevisiae.UCSC.sacCer1 1.4.0 3.6.0
BSgenome.Scerevisiae.UCSC.sacCer2 1.4.0 3.6.0
BSgenome.Scerevisiae.UCSC.sacCer3 1.4.0 3.6.0
bsseq 1.19.3 3.6.0
bsseqData 0.21.0 3.6.0
BubbleTree 2.13.3 3.6.0
BufferedMatrix 1.47.0 3.6.0
BufferedMatrixMethods 1.47.0 3.6.0
BUMHMM 1.7.1 3.6.0
bumphunter 1.25.4 3.6.0
BUS 1.39.0 3.6.0
BUScorrect 1.1.0 3.6.0
c3net 1.1.1 3.6.0
C50 0.1.2 3.6.0
ca 0.71 3.6.0
CAFE 1.19.0 3.6.0
CAGEfightR 1.3.0 3.6.0
CAGEr 1.25.1 3.6.0
Cairo 1.5-10 3.6.0
cairoDevice 2.26 3.6.0
CALIB 1.49.0 3.6.0
calibrate 1.7.2 3.6.0
callr 3.2.0 3.6.0
CAMERA 1.39.2 3.6.0
CAMTHC 1.1.3 3.6.0
canceR 1.17.1 3.6.0
cancerclass 1.27.0 3.6.0
cancerdata 1.21.0 3.6.0
CancerInSilico 2.3.1 3.6.0
CancerMutationAnalysis 1.25.0 3.6.0
CancerSubtypes 1.9.0 3.6.0
CAnD 1.15.0 3.6.0
caOmicsV 1.13.1 3.6.0
capushe 1.1.1 3.6.0
car 3.0-2 3.6.0
carData 3.0-2 3.6.0
Cardinal 2.1.6 3.6.0
caret 6.0-82 3.6.0
caroline 0.7.6 3.6.0
casper 2.17.1 3.6.0
CATALYST 1.7.7 3.6.0
Category 2.49.1 3.6.0
categoryCompare 1.27.0 3.6.0
catnet 1.15.3 3.6.0
caTools 1.17.1.2 3.6.0
CausalR 1.15.1 3.6.0
cba 0.2-20 3.6.0
cbaf 1.5.3 3.6.0
ccaPP 0.3.2 3.6.0
ccdata 1.9.0 3.6.0
ccdrAlgorithm 0.0.5 3.6.0
ccfindR 1.3.0 3.6.0
CCl4 1.21.0 3.6.0
ccmap 1.9.0 3.6.0
CCP 1.1 3.6.0
CCPROMISE 1.9.0 3.6.0
ccrepe 1.19.1 3.6.0
CDFt 1.0.1 3.6.0
celaref 1.1.5 3.6.0
celestial 1.4.6 3.6.0
cellbaseR 1.7.2 3.6.0
CellBench 0.99.10 3.6.0
cellGrowth 1.27.1 3.6.0
cellHTS2 2.47.1 3.6.0
cellity 1.11.1 3.6.0
CellMapper 1.9.0 3.6.0
CellMapperData 1.9.0 3.6.0
CellNOptR 1.29.0 3.6.0
cellranger 1.1.0 3.6.0
cellscape 1.7.0 3.6.0
CellScore 1.3.0 3.6.0
CellTrails 1.1.1 3.6.0
cellTree 1.13.1 3.6.0
CEMiTool 1.7.7 3.6.0
CexoR 1.21.0 3.6.0
CFAssay 1.17.1 3.6.0
cgdsr 1.2.10 3.6.0
CGEN 3.19.1 3.6.0
CGHbase 1.43.0 3.6.0
CGHcall 2.45.0 3.6.0
cghMCR 1.41.0 3.6.0
CGHnormaliter 1.37.0 3.6.0
CGHregions 1.41.0 3.6.0
ChAMP 2.13.5 3.6.0
ChAMPdata 2.15.1 3.6.0
changepoint 2.2.2 3.6.0
CHARGE 1.3.0 3.6.0
charm 2.29.0 3.6.0
charmData 1.19.0 3.6.0
checkmate 1.9.1 3.6.0
ChemmineDrugs 1.0.2 3.6.0
ChemmineOB 1.21.0 3.6.0
ChemmineR 3.35.6 3.6.0
ChemometricsWithR 0.1.13 3.6.0
CHETAH 0.99.4 3.6.0
ChIC 1.3.33 3.6.0
ChIC.data 1.3.32 3.6.0
Chicago 1.11.1 3.6.0
chimera 1.25.0 3.6.0
chimeraviz 1.9.5 3.6.0
ChIPanalyser 1.4.1 3.6.0
ChIPComp 1.13.0 3.6.0
chipenrich 2.7.1 3.6.0
chipenrich.data 2.7.0 3.6.0
ChIPexoQual 1.7.0 3.6.0
ChIPexoQualExample 1.7.0 3.6.0
ChIPpeakAnno 3.17.2 3.6.0
ChIPQC 1.19.2 3.6.0
ChIPseeker 1.19.1 3.6.0
chipseq 1.33.3 3.6.0
ChIPseqR 1.37.0 3.6.0
ChIPSeqSpike 1.3.1 3.6.0
ChIPsim 1.37.0 3.6.0
ChIPXpress 1.27.0 3.6.0
ChIPXpressData 1.21.0 3.6.0
chopsticks 1.49.0 3.6.0
chroGPS 2.1.1 3.6.0
chromDraw 2.13.0 3.6.0
ChromHeatMap 1.37.0 3.6.0
chromPlot 1.11.0 3.6.0
chromstaR 1.9.2 3.6.0
chromstaRData 1.9.0 3.6.0
chromswitch 1.5.1 3.6.0
chromVAR 1.5.0 3.6.0
chron 2.3-53 3.6.0
CHRONOS 1.11.1 3.6.0
cicero 1.1.4 3.6.0
CINdex 1.11.0 3.6.0
circlize 0.4.6 3.6.0
CircStats 0.2-6 3.6.0
cisPath 1.23.0 3.6.0
class 7.3-15 3.6.0
ClassifyR 2.3.6 3.6.0
classInt 0.3-1 3.6.0
cleanUpdTSeq 1.21.0 3.6.0
cleaver 1.21.4 3.6.0
cli 1.1.0 3.6.0
clinfun 1.0.15 3.6.0
clippda 1.33.0 3.6.0
clipper 1.23.0 3.6.0
clipr 0.5.0 3.6.0
clisymbols 1.2.0 3.6.0
CLL 1.23.0 3.6.0
Clomial 1.19.2 3.6.0
Clonality 1.31.0 3.6.0
clonotypeR 1.21.0 3.6.0
clst 1.31.0 3.6.0
clstutils 1.31.0 3.6.0
clue 0.3-57 3.6.0
clues 0.5.9 3.6.0
CluMSID 0.99.13 3.6.0
CluMSIDdata 0.99.5 3.6.0
clustComp 1.11.0 3.6.0
cluster 2.0.8 3.6.0
clusterCrit 1.2.8 3.6.0
clusterExperiment 2.3.1 3.6.0
ClusterJudge 1.5.0 3.6.0
clusterProfiler 3.11.1 3.6.0
ClusterR 1.1.8 3.6.0
clusterSeq 1.7.0 3.6.0
ClusterSignificance 1.11.0 3.6.0
clusterSim 0.47-3 3.6.0
clusterStab 1.55.0 3.6.0
clustvarsel 2.3.3 3.6.0
clValid 0.6-6 3.6.0
CMA 1.41.0 3.6.0
cMAP 1.15.1 3.6.0
cMap2data 1.19.0 3.6.0
cmprsk 2.2-7 3.6.0
cn.farms 1.31.0 3.6.0
cn.mops 1.29.0 3.6.0
CNAnorm 1.29.0 3.6.0
CNEr 1.19.1 3.6.0
CNORdt 1.25.1 3.6.0
CNORfeeder 1.23.1 3.6.0
CNORfuzzy 1.25.0 3.6.0
CNORode 1.25.1 3.6.0
CNPBayes 1.13.5 3.6.0
CNTools 1.39.0 3.6.0
cnvGSA 1.27.0 3.6.0
cnvGSAdata 1.19.0 3.6.0
CNVPanelizer 1.15.0 3.6.0
CNVRanger 0.99.26 3.6.0
CNVrd2 1.21.0 3.6.0
CNVtools 1.77.0 3.6.0
cobindR 1.21.0 3.6.0
cobs 1.3-3 3.6.0
CoCiteStats 1.55.0 3.6.0
COCOA 1.1.2 3.6.0
coda 0.19-2 3.6.0
codelink 1.51.0 3.6.0
codetools 0.2-16 3.6.0
CODEX 1.15.1 3.6.0
coexnet 1.5.1 3.6.0
CoGAPS 3.3.40 3.6.0
cogena 1.17.0 3.6.0
coGPS 1.27.0 3.6.0
COHCAP 1.29.3 3.6.0
COHCAPanno 1.19.0 3.6.0
coin 1.3-0 3.6.0
cola 0.99.14 3.6.0
colonCA 1.25.0 3.6.0
colorRamps 2.3 3.6.0
colorspace 1.4-1 3.6.0
colortools 0.1.5 3.6.0
colourpicker 1.0 3.6.0
colr 0.1.900 3.6.0
combinat 0.0-8 3.6.0
coMET 1.15.2 3.6.0
cometExactTest 0.1.5 3.6.0
commonmark 1.7 3.6.0
compartmap 1.1.1 3.6.0
COMPASS 1.21.7 3.6.0
compcodeR 1.19.3 3.6.0
compEpiTools 1.17.0 3.6.0
CompGO 1.19.0 3.6.0
compiler 3.6.0 3.6.0
ComplexHeatmap 1.99.7 3.6.0
compositions 1.40-2 3.6.0
CompQuadForm 1.4.3 3.6.0
condcomp 1.1.1 3.6.0
CONFESS 1.11.2 3.6.0
CONFESSdata 1.11.0 3.6.0
consensus 1.1.2 3.6.0
ConsensusClusterPlus 1.47.0 3.6.0
consensusDE 1.1.4 3.6.0
consensusOV 1.5.1 3.6.0
consensusSeekeR 1.11.0 3.6.0
contiBAIT 1.11.1 3.6.0
contrast 0.21 3.6.0
conumee 1.17.0 3.6.0
convert 1.59.0 3.6.0
copa 1.51.0 3.6.0
copula 0.999-19 3.6.0
CopyhelpeR 1.15.0 3.6.0
copynumber 1.23.0 3.6.0
CopywriteR 2.15.2 3.6.0
coRdon 1.1.3 3.6.0
CoRegFlux 0.99.22 3.6.0
CoRegNet 1.21.0 3.6.0
Cormotif 1.29.0 3.6.0
CorMut 1.25.0 3.6.0
corpcor 1.6.9 3.6.0
CORREP 1.49.0 3.6.0
corrgram 1.13 3.6.0
corrplot 0.84 3.6.0
coseq 1.7.2 3.6.0
COSMIC.67 1.19.0 3.6.0
cosmiq 1.17.1 3.6.0
COSNet 1.17.0 3.6.0
CountClust 1.11.1 3.6.0
countsimQC 1.1.2 3.6.0
covEB 1.9.1 3.6.0
CoverageView 1.21.1 3.6.0
covr 3.2.1 3.6.0
covRNA 1.9.0 3.6.0
cowplot 0.9.4 3.6.0
CoxBoost 1.4 3.6.0
cp4p 0.3.6 3.6.0
CPE 1.5.1 3.6.0
cpvSNP 1.15.0 3.6.0
cqn 1.29.1 3.6.0
crayon 1.3.4 3.6.0
CRImage 1.31.0 3.6.0
CRISPRseek 1.23.4 3.6.0
crisprseekplus 1.9.0 3.6.0
CrispRVariants 1.11.1 3.6.0
crlmm 1.41.0 3.6.0
crossmeta 1.9.0 3.6.0
crosstalk 1.0.0 3.6.0
crul 0.7.4 3.6.0
CSAR 1.35.0 3.6.0
csaw 1.17.8 3.6.0
CSSP 1.21.0 3.6.0
ctc 1.57.0 3.6.0
CTDquerier 1.3.0 3.6.0
cTRAP 1.1.3 3.6.0
ctsGE 1.9.1 3.6.0
cubature 2.0.3 3.6.0
Cubist 0.2.2 3.6.0
cummeRbund 2.25.0 3.6.0
curatedBladderData 1.19.2 3.6.0
curatedMetagenomicData 1.13.3 3.6.0
curatedOvarianData 1.21.4 3.6.0
curatedTCGAData 1.5.10 3.6.0
curl 3.3 3.6.0
customProDB 1.23.1 3.6.0
cvAUC 1.1.0 3.6.0
CVE 1.9.0 3.6.0
cvTools 0.3.2 3.6.0
cycle 1.37.0 3.6.0
cydar 1.7.3 3.6.0
CytoDx 1.3.1 3.6.0
cytofast 0.99.14 3.6.0
cytolib 1.5.2 3.6.0
CytoML 1.9.6 3.6.0
d3heatmap 0.6.1.2 3.6.0
d3Network 0.5.2.1 3.6.0
dada2 1.11.3 3.6.0
dagLogo 1.21.1 3.6.0
daMA 1.55.0 3.6.0
DaMiRseq 1.7.3 3.6.0
DAPAR 1.15.12 3.6.0
DAPARdata 1.13.0 3.6.0
DART 1.31.0 3.6.0
data.table 1.12.2 3.6.0
data.tree 0.7.8 3.6.0
datasets 3.6.0 3.6.0
DBChIP 1.27.0 3.6.0
DBI 1.0.0 3.6.0
dbplyr 1.3.0 3.6.0
dbscan 1.1-3 3.6.0
dcGSA 1.11.1 3.6.0
DChIPRep 1.13.0 3.6.0
ddCt 1.39.0 3.6.0
ddPCRclust 1.3.0 3.6.0
DDRTree 0.1.5 3.6.0
debrowser 1.11.9 3.6.0
DECIPHER 2.11.2 3.6.0
deco 0.99.56 3.6.0
DEComplexDisease 1.3.0 3.6.0
decompTumor2Sig 1.99.1 3.6.0
DeconRNASeq 1.25.0 3.6.0
decontam 1.3.1 3.6.0
DEDS 1.57.0 3.6.0
DeepBlueR 1.9.0 3.6.0
deepSNV 1.29.1 3.6.0
DEFormats 1.11.1 3.6.0
DEGreport 1.19.1 3.6.0
DEGseq 1.37.1 3.6.0
Delaporte 7.0.1 3.6.0
DelayedArray 0.9.9 3.6.0
DelayedDataFrame 0.99.9 3.6.0
DelayedMatrixStats 1.5.2 3.6.0
deldir 0.1-16 3.6.0
deltaGseg 1.23.0 3.6.0
DeMAND 1.13.0 3.6.0
DeMixT 0.99.9 3.6.0
dendextend 1.10.0 3.6.0
dendsort 0.3.3 3.6.0
densityClust 0.3 3.6.0
DEoptimR 1.0-8 3.6.0
DEP 1.5.3 3.6.0
DepecheR 0.99.31 3.6.0
depmixS4 1.3-5 3.6.0
DEqMS 1.1.7 3.6.0
derfinder 1.17.1 3.6.0
derfinderData 2.1.0 3.6.0
derfinderHelper 1.17.1 3.6.0
derfinderPlot 1.17.1 3.6.0
desc 1.2.0 3.6.0
DEScan2 1.3.2 3.6.0
DescTools 0.99.28 3.6.0
DESeq 1.35.1 3.6.0
DESeq2 1.23.9 3.6.0
DEsingle 1.3.1 3.6.0
deSolve 1.21 3.6.0
destiny 2.13.0 3.6.0
DEsubs 1.9.1 3.6.0
devtools 2.0.2 3.6.0
DEXSeq 1.29.10 3.6.0
dexus 1.23.1 3.6.0
DFP 1.41.0 3.6.0
diagram 1.6.4 3.6.0
DiagrammeR 1.0.0 3.6.0
DiagrammeRsvg 0.1 3.6.0
dichromat 2.0-0 3.6.0
DiffBind 2.11.1 3.6.0
diffcoexp 1.3.1 3.6.0
DiffCorr 0.4.1 3.6.0
diffcyt 1.3.24 3.6.0
diffGeneAnalysis 1.65.0 3.6.0
diffHic 1.15.2 3.6.0
DiffLogo 2.7.0 3.6.0
diffloop 1.11.0 3.6.0
diffloopdata 1.11.0 3.6.0
diffobj 0.2.2 3.6.0
diffr 0.1 3.6.0
diffusr 0.1.4 3.6.0
diffuStats 1.3.1 3.6.0
digest 0.6.18 3.6.0
diggit 1.15.0 3.6.0
diggitdata 1.15.0 3.6.0
diptest 0.75-7 3.6.0
Director 1.9.0 3.6.0
DirichletMultinomial 1.25.1 3.6.0
discordant 1.7.1 3.6.0
discretecdAlgorithm 0.0.5 3.6.0
DiscriMiner 0.1-29 3.6.0
distillery 1.0-6 3.6.0
distr 2.8.0 3.6.0
distrEx 2.8.0 3.6.0
divergence 0.99.07 3.6.0
dks 1.29.0 3.6.0
DLBCL 1.23.0 3.6.0
DMCHMM 1.5.0 3.6.0
DMRcaller 1.15.2 3.6.0
DMRcate 1.19.0 3.6.0
DMRcatedata 1.19.0 3.6.0
DMRforPairs 1.19.0 3.6.0
DMRScan 1.9.0 3.6.0
dmrseq 1.3.11 3.6.0
dmt 0.8.20 3.6.0
DMwR 0.4.1 3.6.0
DNABarcodeCompatibility 0.99.9 3.6.0
DNABarcodes 1.13.0 3.6.0
DNAcopy 1.57.0 3.6.0
DNAshapeR 1.11.0 3.6.0
dnet 1.1.4 3.6.0
DO.db 2.9 3.6.0
doBy 4.6-2 3.6.0
docopt 0.6.1 3.6.0
doFuture 0.8.0 3.6.0
DominoEffect 1.3.1 3.6.0
doParallel 1.0.14 3.6.0
doppelgangR 1.11.1 3.6.0
DOQTL 1.19.0 3.6.0
doRNG 1.7.1 3.6.0
Doscheda 1.5.1 3.6.0
DOSE 3.9.4 3.6.0
doseR 0.99.15 3.6.0
doSNOW 1.0.16 3.6.0
dotCall64 1.0-0 3.6.0
downloader 0.4 3.6.0
dplyr 0.8.0.1 3.6.0
DPpackage 1.1-7.4 3.6.0
dqrng 0.1.1 3.6.0
drawProteins 1.3.0 3.6.0
drc 3.0-1 3.6.0
DRIMSeq 1.11.2 3.6.0
DriverNet 1.23.0 3.6.0
DropletUtils 1.3.13 3.6.0
drosgenome1.db 3.2.3 3.6.0
drosophila2probe 2.18.0 3.6.0
DrugVsDisease 2.25.2 3.6.0
DrugVsDiseasedata 1.19.0 3.6.0
dSimer 1.9.0 3.6.0
DSS 2.31.2 3.6.0
DT 0.5 3.6.0
DTA 2.29.0 3.6.0
dtw 1.20-1 3.6.0
dualKS 1.43.0 3.6.0
dunn.test 1.3.5 3.6.0
DupChecker 1.21.0 3.6.0
dupRadar 1.13.1 3.6.0
dyebias 1.43.0 3.6.0
dyebiasexamples 1.23.0 3.6.0
dynamicTreeCut 1.63-1 3.6.0
DynDoc 1.61.0 3.6.0
e1071 1.7-1 3.6.0
earth 5.1.0 3.6.0
EasyqpcR 1.25.0 3.6.0
easyRNASeq 2.19.2 3.6.0
EBarrays 2.47.0 3.6.0
EBcoexpress 1.27.0 3.6.0
ebdbNet 1.2.5 3.6.0
EBImage 4.25.0 3.6.0
EBSEA 1.11.0 3.6.0
EBSeq 1.23.1 3.6.0
EBSeqHMM 1.17.1 3.6.0
ecolicdf 2.18.0 3.6.0
ecoliLeucine 1.23.0 3.6.0
ecolitk 1.55.0 3.6.0
ecp 3.1.1 3.6.0
EDASeq 2.17.4 3.6.0
EDDA 1.21.1 3.6.0
edge 2.15.0 3.6.0
edgeR 3.25.3 3.6.0
eegc 1.9.0 3.6.0
egg 0.4.2 3.6.0
EGSEA 1.11.1 3.6.0
EGSEAdata 1.11.0 3.6.0
eiR 1.23.0 3.6.0
eisa 1.35.0 3.6.0
ELBOW 1.19.1 3.6.0
ellipse 0.4.1 3.6.0
ellipsis 0.1.0 3.6.0
ELMER 2.7.5 3.6.0
ELMER.data 2.7.0 3.6.0
emdbook 1.3.11 3.6.0
emdist 0.3-1 3.6.0
EMDomics 2.13.0 3.6.0
emmeans 1.3.3 3.6.0
emojifont 0.5.2 3.6.0
EmpiricalBrownsMethod 1.11.0 3.6.0
EMT 1.1 3.6.0
ENCODExplorer 2.9.0 3.6.0
energy 1.7-5 3.6.0
EnhancedVolcano 1.1.3 3.6.0
ENmix 1.19.2 3.6.0
EnrichedHeatmap 1.13.2 3.6.0
EnrichmentBrowser 2.13.2 3.6.0
enrichplot 1.3.2 3.6.0
enrichR 1.0 3.6.0
EnsDb.Hsapiens.v75 2.99.0 3.6.0
EnsDb.Hsapiens.v79 2.99.0 3.6.0
EnsDb.Hsapiens.v86 2.99.0 3.6.0
EnsDb.Mmusculus.v79 2.99.0 3.6.0
ensembldb 2.7.12 3.6.0
ensemblVEP 1.25.0 3.6.0
ensurer 1.1 3.6.0
entropy 1.2.1 3.6.0
EntropyExplorer 1.1 3.6.0
enviPat 2.4 3.6.0
ENVISIONQuery 1.31.0 3.6.0
EnvStats 2.3.1 3.6.0
Epi 2.35 3.6.0
EpiDISH 1.99.6 3.6.0
epigenomix 1.23.0 3.6.0
epihet 0.99.8 3.6.0
epivizr 2.13.0 3.6.0
epivizrChart 1.5.0 3.6.0
epivizrData 1.11.0 3.6.0
epivizrServer 1.11.0 3.6.0
epivizrStandalone 1.11.0 3.6.0
erccdashboard 1.17.1 3.6.0
erma 0.99.0 3.6.0
ERSSA 1.1.1 3.6.0
esATAC 1.5.4 3.6.0
esetVis 1.9.0 3.6.0
estimability 1.3 3.6.0
estrogen 1.29.0 3.6.0
etec16s 1.11.0 3.6.0
etm 1.0.4 3.6.0
etrunct 0.1 3.6.0
eudysbiome 1.13.1 3.6.0
eulerr 5.1.0 3.6.0
europepmc 0.3 3.6.0
evaluate 0.13 3.6.0
evaluomeR 0.99.84 3.6.0
evd 2.3-3 3.6.0
EventPointer 2.1.4 3.6.0
evmix 2.11 3.6.0
exactRankTests 0.8-29 3.6.0
ExCluster 1.1.1 3.6.0
ExiMiR 2.25.0 3.6.0
exomeCopy 1.29.0 3.6.0
exomePeak 2.17.0 3.6.0
ExperimentHub 1.9.3 3.6.0
ExperimentHubData 1.9.1 3.6.0
expint 0.1-5 3.6.0
expm 0.999-4 3.6.0
ExPosition 2.8.23 3.6.0
ExpressionAtlas 1.11.0 3.6.0
ExpressionView 1.35.0 3.6.0
extrafont 0.17 3.6.0
extrafontdb 1.0 3.6.0
extRemes 2.0-10 3.6.0
extremevalues 2.3.2 3.6.0
faahKO 1.23.1 3.6.0
fabia 2.29.1 3.6.0
factDesign 1.59.0 3.6.0
factoextra 1.0.5 3.6.0
FactoMineR 1.41 3.6.0
FamAgg 1.11.5 3.6.0
fansi 0.4.0 3.6.0
FANTOM3and4CAGE 1.19.0 3.6.0
farms 1.35.0 3.6.0
farver 1.1.0 3.6.0
fastcluster 1.1.25 3.6.0
fastICA 1.2-1 3.6.0
fastLiquidAssociation 1.19.0 3.6.0
fastmatch 1.1-0 3.6.0
FastqCleaner 1.1.0 3.6.0
fastseg 1.29.0 3.6.0
fBasics 3042.89 3.6.0
FCBF 1.1.1 3.6.0
fCCAC 1.9.0 3.6.0
fCI 1.13.0 3.6.0
FD 1.0-12 3.6.0
fda 2.4.8 3.6.0
FDb.InfiniumMethylation.hg18 2.2.0 3.6.0
FDb.InfiniumMethylation.hg19 2.2.0 3.6.0
FDb.UCSC.tRNAs 1.0.1 3.6.0
fdrame 1.55.0 3.6.0
fdrtool 1.2.15 3.6.0
feather 0.3.3 3.6.0
feature 1.2.13 3.6.0
FELLA 1.3.1 3.6.0
FEM 3.11.0 3.6.0
ff 2.2-14 3.6.0
ffbase 0.12.7 3.6.0
FField 0.1.0 3.6.0
ffpe 1.27.0 3.6.0
ffpeExampleData 1.21.0 3.6.0
fftwtools 0.9-8 3.6.0
FGNet 3.17.0 3.6.0
fgsea 1.9.5 3.6.0
fibroEset 1.25.0 3.6.0
fields 9.6 3.6.0
filehash 2.4-1 3.6.0
filematrix 1.3 3.6.0
FindMyFriends 1.13.0 3.6.0
findpython 1.0.5 3.6.0
fingerprint 3.5.7 3.6.0
FIs 1.11.0 3.6.0
FISHalyseR 1.17.0 3.6.0
fishpond 0.99.31 3.6.0
fit.models 0.5-14 3.6.0
fitdistrplus 1.0-14 3.6.0
FitHiC 1.9.0 3.6.0
flagme 1.39.1 3.6.0
flare 1.6.0 3.6.0
flashClust 1.01-2 3.6.0
Fletcher2013a 1.19.0 3.6.0
Fletcher2013b 1.19.0 3.6.0
flexclust 1.4-0 3.6.0
flexdashboard 0.5.1.1 3.6.0
flexmix 2.3-15 3.6.0
flowAI 1.13.7 3.6.0
flowBeads 1.21.1 3.6.0
flowBin 1.19.1 3.6.0
flowcatchR 1.17.0 3.6.0
flowCHIC 1.17.1 3.6.0
flowCL 1.21.1 3.6.0
flowClean 1.21.0 3.6.0
flowClust 3.21.3 3.6.0
flowCore 1.49.10 3.6.0
flowCyBar 1.19.1 3.6.0
flowDensity 1.17.2 3.6.0
flowFit 1.21.1 3.6.0
flowFitExampleData 1.19.0 3.6.0
flowFP 1.41.1 3.6.0
flowMap 1.21.1 3.6.0
flowMatch 1.19.1 3.6.0
flowMeans 1.43.1 3.6.0
flowMerge 2.31.2 3.6.0
flowPeaks 1.29.1 3.6.0
flowPloidy 1.9.0 3.6.0
flowPloidyData 1.9.0 3.6.0
flowPlots 1.31.1 3.6.0
flowQB 2.11.1 3.6.0
flowQBData 1.9.0 3.6.0
FlowRepositoryR 1.15.1 3.6.0
FlowSOM 1.15.1 3.6.0
FlowSorted.Blood.450k 1.21.0 3.6.0
FlowSorted.CordBloodNorway.450k 1.9.0 3.6.0
flowStats 3.41.3 3.6.0
flowTime 1.7.0 3.6.0
flowTrans 1.35.1 3.6.0
flowType 2.21.1 3.6.0
flowUtils 1.47.1 3.6.0
flowViz 1.47.4 3.6.0
flowVS 1.15.1 3.6.0
flowWorkspace 3.31.15 3.6.0
flowWorkspaceData 2.19.0 3.6.0
fmcsR 1.25.0 3.6.0
fmsb 0.6.3 3.6.0
FNN 1.1.3 3.6.0
focalCall 1.17.0 3.6.0
FoldGO 1.1.1 3.6.0
fontBitstreamVera 0.1.1 3.6.0
fontLiberation 0.1.0 3.6.0
fontquiver 0.2.1 3.6.0
forcats 0.4.0 3.6.0
foreach 1.4.4 3.6.0
forecast 8.5 3.6.0
foreign 0.8-71 3.6.0
forestplot 1.7.2 3.6.0
formatR 1.6 3.6.0
Formula 1.2-3 3.6.0
formula.tools 1.7.1 3.6.0
FourCSeq 1.17.0 3.6.0
fpc 2.1-11.1 3.6.0
fracdiff 1.4-2 3.6.0
freetypeharfbuzz 0.2.5 3.6.0
FRGEpistasis 1.19.0 3.6.0
frma 1.35.0 3.6.0
frmaExampleData 1.19.0 3.6.0
frmaTools 1.35.0 3.6.0
fs 1.2.7 3.6.0
FSelector 0.31 3.6.0
FunChIP 1.9.0 3.6.0
FunciSNP 1.27.0 3.6.0
FunciSNP.data 1.19.0 3.6.0
functional 0.6 3.6.0
funtooNorm 1.7.0 3.6.0
futile.logger 1.4.3 3.6.0
futile.options 1.0.1 3.6.0
future 1.12.0 3.6.0
future.apply 1.2.0 3.6.0
GA4GHclient 1.7.0 3.6.0
GA4GHshiny 1.5.0 3.6.0
gaga 2.29.1 3.6.0
gage 2.33.1 3.6.0
gageData 2.21.0 3.6.0
gaggle 1.51.0 3.6.0
gaia 2.27.0 3.6.0
gam 1.16 3.6.0
gamlss 5.1-3 3.6.0
gamlss.data 5.1-3 3.6.0
gamlss.dist 5.1-3 3.6.0
gap 1.1-22 3.6.0
GAPGOM 0.99.36 3.6.0
GAprediction 1.9.1 3.6.0
garfield 1.11.0 3.6.0
GARS 1.3.0 3.6.0
GateFinder 1.3.2 3.6.0
gatingMLData 2.23.0 3.6.0
gbm 2.1.5 3.6.0
gbRd 0.4-11 3.6.0
gcapc 1.7.0 3.6.0
gcatest 1.13.0 3.6.0
gclus 1.3.2 3.6.0
gCMAP 1.27.0 3.6.0
gCMAPWeb 1.23.0 3.6.0
gCrisprTools 1.11.2 3.6.0
gcrma 2.55.0 3.6.0
gcspikelite 1.21.0 3.6.0
gdata 2.18.0 3.6.0
GDCRNATools 1.3.2 3.6.0
GDSArray 1.3.0 3.6.0
gdsfmt 1.19.10 3.6.0
gdtools 0.1.7 3.6.0
geecc 1.17.1 3.6.0
geeM 0.10.1 3.6.0
geepack 1.2-1 3.6.0
GEM 1.9.0 3.6.0
genalg 0.2.0 3.6.0
genArise 1.59.0 3.6.0
genbankr 1.11.0 3.6.0
GeneAccord 1.1.0 3.6.0
GeneAnswers 2.25.0 3.6.0
geneAttribution 1.9.0 3.6.0
GeneBreak 1.13.0 3.6.0
geneClassifiers 1.7.0 3.6.0
GeneExpressionSignature 1.29.0 3.6.0
genefilter 1.65.0 3.6.0
genefu 2.15.0 3.6.0
GeneGA 1.33.0 3.6.0
GeneGeneInteR 1.9.0 3.6.0
geneLenDataBase 1.19.0 3.6.0
GeneMeta 1.55.0 3.6.0
GeneNet 1.2.13 3.6.0
GeneNetworkBuilder 1.25.0 3.6.0
GeneOverlap 1.19.0 3.6.0
geneplast 1.9.0 3.6.0
geneplotter 1.61.0 3.6.0
geneRecommender 1.55.0 3.6.0
GeneRegionScan 1.39.0 3.6.0
generics 0.0.2 3.6.0
geneRxCluster 1.19.0 3.6.0
GeneSelectMMD 2.27.0 3.6.0
GENESIS 2.13.9 3.6.0
GeneStructureTools 1.3.1 3.6.0
geNetClassifier 1.23.0 3.6.0
genetics 1.3.8.1.1 3.6.0
GeneticsDesign 1.51.0 3.6.0
GeneticsPed 1.45.0 3.6.0
geneXtendeR 1.9.0 3.6.0
GENIE3 1.5.4 3.6.0
GenKern 1.2-60 3.6.0
GENLIB 1.0.6 3.6.0
genoCN 1.35.0 3.6.0
GenoGAM 2.1.9 3.6.0
genomation 1.15.0 3.6.0
genomationData 1.15.0 3.6.0
GenomeGraphs 1.43.0 3.6.0
GenomeInfoDb 1.19.3 3.6.0
GenomeInfoDbData 1.2.1 3.6.0
genomeIntervals 1.39.0 3.6.0
genomes 3.13.0 3.6.0
genomewidesnp5Crlmm 1.0.6 3.6.0
genomewidesnp6Crlmm 1.0.7 3.6.0
GenomicAlignments 1.19.1 3.6.0
GenomicDataCommons 1.7.3 3.6.0
GenomicFeatures 1.35.9 3.6.0
GenomicFiles 1.19.0 3.6.0
GenomicInteractions 1.17.0 3.6.0
GenomicRanges 1.35.1 3.6.0
GenomicScores 1.7.0 3.6.0
GenomicTuples 1.17.0 3.6.0
Genominator 1.37.0 3.6.0
genoset 1.39.0 3.6.0
genotypeeval 1.15.0 3.6.0
genphen 1.11.23 3.6.0
GenRank 1.11.0 3.6.0
GenSA 1.1.7 3.6.0
GenVisR 1.15.3 3.6.0
GeoDE 1.0 3.6.0
GEOmap 2.4-4 3.6.0
GEOmetadb 1.45.0 3.6.0
geometry 0.4.1 3.6.0
GEOquery 2.51.5 3.6.0
GEOsubmission 1.35.0 3.6.0
gep2pep 1.3.1 3.6.0
gespeR 1.15.1 3.6.0
getopt 1.20.3 3.6.0
GetoptLong 0.1.7 3.6.0
GeuvadisTranscriptExpr 1.11.0 3.6.0
geuvPack 1.15.0 3.6.0
geuvStore2 1.13.0 3.6.0
GEWIST 1.27.0 3.6.0
GFA 1.0.3 3.6.0
GGally 1.4.0 3.6.0
GGBase 3.45.0 3.6.0
ggbeeswarm 0.6.0 3.6.0
ggbio 1.31.2 3.6.0
ggcorrplot 0.1.2 3.6.0
ggcyto 1.11.4 3.6.0
GGdata 1.21.0 3.6.0
ggdendro 0.1-20 3.6.0
ggExtra 0.8 3.6.0
ggforce 0.2.1 3.6.0
ggfortify 0.4.6 3.6.0
ggimage 0.2.1 3.6.0
ggiraph 0.6.0 3.5.0
ggm 2.3 3.6.0
ggmcmc 1.2 3.6.0
ggnetwork 0.5.1 3.6.0
ggplot2 3.1.1 3.6.0
ggplotify 0.0.3 3.6.0
ggpmisc 0.3.1 3.6.0
ggpubr 0.2 3.6.0
ggraph 1.0.2 3.6.0
ggrepel 0.8.0 3.6.0
ggridges 0.5.1 3.6.0
ggsci 2.9 3.6.0
ggseqlogo 0.1 3.6.0
ggsignif 0.5.0 3.6.0
ggthemes 4.1.0 3.6.0
GGtools 5.19.0 3.6.0
ggtree 1.15.6 3.6.0
ggvis 0.4.4 3.6.0
gh 1.0.1 3.6.0
GIGSEA 1.1.0 3.6.0
girafe 1.35.0 3.6.0
GISPA 1.7.0 3.6.0
gistr 0.4.2 3.6.0
git2r 0.25.2 3.6.0
GLAD 2.47.0 3.6.0
GladiaTOX 0.99.15 3.6.0
glasso 1.10 3.6.0
Glimma 1.11.1 3.6.0
glm2 1.2.1 3.6.0
glmnet 2.0-16 3.6.0
glmSparseNet 1.1.0 3.6.0
GlobalAncova 4.1.0 3.6.0
GlobalOptions 0.1.0 3.6.0
globals 0.12.4 3.6.0
globalSeq 1.11.2 3.6.0
globaltest 5.37.1 3.6.0
glpkAPI 1.3.1 3.6.0
glue 1.3.1 3.6.0
GmapGenome.Hsapiens.rCRS 1.0 3.6.0
gmapR 1.25.3 3.6.0
gmm 1.6-2 3.6.0
gmodels 2.18.1 3.6.0
gmp 0.5-13.5 3.6.0
GMRP 1.11.1 3.6.0
GNET2 0.99.12 3.6.0
GO.db 3.7.0 3.6.0
GOexpress 1.17.1 3.6.0
goftest 1.1-1 3.6.0
GOfuncR 1.3.3 3.6.0
GOFunction 1.31.0 3.6.0
golubEsets 1.25.0 3.6.0
googleAuthR 0.7.0 3.6.0
googleVis 0.6.3 3.6.0
GOpro 1.9.0 3.6.0
goProfiles 1.45.0 3.6.0
goric 1.1-0 3.6.0
GOSemSim 2.9.1 3.6.0
goseq 1.35.1 3.6.0
GOSim 1.21.0 3.6.0
goSTAG 1.7.1 3.6.0
GOstats 2.49.0 3.6.0
GOsummaries 2.19.0 3.6.0
GOTHiC 1.19.2 3.6.0
goTools 1.57.0 3.6.0
gower 0.2.0 3.6.0
gpart 1.1.3 3.6.0
GPfit 1.0-8 3.6.0
gplots 3.0.1.1 3.6.0
gpls 1.55.0 3.6.0
gprege 1.27.0 3.6.0
gProfileR 0.6.7 3.6.0
gptk 1.08 3.6.0
gQTLBase 1.15.0 3.6.0
gQTLstats 1.15.1 3.6.0
gRain 1.3-0 3.6.0
graper 0.99.3 3.6.0
graph 1.61.1 3.6.0
GraphAlignment 1.47.0 3.6.0
GraphAT 1.55.0 3.6.0
graphics 3.6.0 3.6.0
graphite 1.29.2 3.6.0
GraphPAC 1.25.0 3.6.0
grasp2db 1.1.0 3.6.0
gRbase 1.8-3.4 3.6.0
grDevices 3.6.0 3.6.0
GRENITS 1.35.0 3.6.0
GreyListChIP 1.15.0 3.6.0
grid 3.6.0 3.6.0
gridBase 0.4-7 3.6.0
gridExtra 2.3 3.6.0
gridGraphics 0.3-0 3.6.0
gridSVG 1.7-0 3.6.0
grImport 0.9-1.1 3.6.0
grImport2 0.1-4 3.6.0
GRmetrics 1.9.1 3.6.0
grndata 1.15.0 3.6.0
groHMM 1.17.0 3.6.0
grr 0.9.5 3.6.0
GRridge 1.7.4 3.6.0
GSA 1.03.1 3.6.0
GSALightning 1.11.0 3.6.0
GSAR 1.17.1 3.6.0
GSBenchMark 1.3.0 3.6.0
GSCA 2.13.0 3.6.0
GSE62944 1.11.0 3.6.0
GSEABase 1.45.0 3.6.0
GSEABenchmarkeR 1.3.2 3.6.0
GSEAlm 1.43.0 3.6.0
gsean 1.3.0 3.6.0
gsl 1.9-10.3 3.6.0
gsmoothr 0.1.7 3.6.0
GSReg 1.17.0 3.6.0
GSRI 2.31.0 3.6.0
gss 2.1-9 3.6.0
gsubfn 0.7 3.6.0
GSVA 1.31.0 3.6.0
GSVAdata 1.19.0 3.6.0
gtable 0.3.0 3.6.0
gtools 3.8.1 3.6.0
gtrellis 1.15.2 3.6.0
GUIDEseq 1.13.1 3.6.0
Guitar 1.21.1 3.6.0
Gviz 1.27.6 3.6.0
gwascat 2.15.1 3.6.0
GWASdata 1.21.0 3.6.0
GWASExactHW 1.01 3.6.0
GWASTools 1.29.1 3.6.0
gwasurvivr 1.1.0 3.6.0
gWidgets 0.0-54.1 3.6.0
gWidgets2 1.0-8 3.6.0
gWidgets2RGtk2 1.0-7 3.6.0
gWidgetsRGtk2 0.0-86 3.6.0
gWidgetstcltk 0.0-55 3.6.0
h5vc 2.17.1 3.6.0
h5vcData 2.3.0 3.6.0
hapFabia 1.25.1 3.6.0
haplo.stats 1.7.9 3.6.0
hapmap100kxba 1.25.0 3.6.0
hapmapsnp5 1.25.0 3.6.0
hapmapsnp6 1.25.0 3.6.0
HardyWeinberg 1.6.1 3.6.0
Harman 1.11.0 3.6.0
HarmanData 1.11.0 3.6.0
HarmonizedTCGAData 1.5.0 3.6.0
Harshlight 1.55.0 3.6.0
hash 2.2.6.1 3.6.0
hashmap 0.2.2 3.6.0
haven 2.1.0 3.6.0
HDCytoData 1.3.8 3.6.0
HDF5Array 1.11.11 3.6.0
hdf5r 1.1.1 3.6.0
HDTD 1.17.0 3.6.0
healthyFlowData 1.21.0 3.6.0
heatmap.plus 1.3 3.6.0
heatmap3 1.1.6 3.6.0
heatmaply 0.15.2 3.6.0
heatmaps 1.7.0 3.6.0
Heatplus 2.29.0 3.6.0
HEEBOdata 1.21.0 3.6.0
HelloRanges 1.9.0 3.6.0
HelloRangesData 1.9.0 3.6.0
HELP 1.41.0 3.6.0
HEM 1.55.0 3.6.0
hexbin 1.27.2 3.6.0
hgfocus.db 3.2.3 3.6.0
hgfocuscdf 2.18.0 3.6.0
hgfocusprobe 2.18.0 3.6.0
hgu133a.db 3.2.3 3.6.0
hgu133a2.db 3.2.3 3.6.0
hgu133acdf 2.18.0 3.6.0
hgu133afrmavecs 1.5.0 3.6.0
hgu133aprobe 2.18.0 3.6.0
hgu133atagcdf 2.18.0 3.6.0
hgu133atagprobe 2.18.0 3.6.0
hgu133plus2.db 3.2.3 3.6.0
hgu133plus2cdf 2.18.0 3.6.0
hgu133plus2CellScore 1.3.0 3.6.0
hgu133plus2probe 2.18.0 3.6.0
hgu95a.db 3.2.3 3.6.0
hgu95acdf 2.18.0 3.6.0
hgu95av2 2.2.0 3.6.0
hgu95av2.db 3.2.3 3.6.0
hgu95av2cdf 2.18.0 3.6.0
hgu95av2probe 2.18.0 3.6.0
hgug4112a.db 3.2.3 3.6.0
HH 3.1-35 3.6.0
hiAnnotator 1.17.0 3.6.0
HIBAG 1.19.2 3.6.0
HiCBricks 1.1.21 3.6.0
HiCcompare 1.5.3 3.6.0
HiCDataHumanIMR90 1.3.0 3.6.0
HiCDataLymphoblast 1.19.0 3.6.0
hicrep 1.7.0 3.6.0
hierGWAS 1.13.0 3.6.0
hierinf 1.1.1 3.6.0
highcharter 0.7.0 3.6.0
highlight 0.4.7.2 3.6.0
highr 0.8 3.6.0
HilbertCurve 1.13.2 3.6.0
HilbertVis 1.41.0 3.6.0
hipathia 1.5.0 3.6.0
hiReadsProcessor 1.19.0 3.6.0
HIREewas 1.1.2 3.6.0
HiTC 1.27.0 3.6.0
HiveR 0.3.42 3.6.0
hmdbQuery 1.3.0 3.6.0
Hmisc 4.2-0 3.6.0
HMMcopy 1.25.0 3.6.0
hms 0.4.2 3.6.0
hom.Dm.inp.db 3.1.2 3.6.0
hom.Hs.inp.db 3.1.2 3.6.0
hom.Mm.inp.db 3.1.2 3.6.0
hom.Rn.inp.db 3.1.2 3.6.0
hom.Sc.inp.db 3.1.2 3.6.0
Homo.sapiens 1.3.1 3.6.0
hopach 2.43.0 3.6.0
howmany 0.3-1 3.6.0
HPAanalyze 1.1.1 3.6.0
hpar 1.25.1 3.6.0
HSMMSingleCell 1.3.0 3.6.0
htmlTable 1.13.1 3.6.0
htmltools 0.3.6 3.6.0
HTMLUtils 0.1.7 3.6.0
htmlwidgets 1.3 3.6.0
HTqPCR 1.37.0 3.6.0
HTSanalyzeR 2.35.1 3.6.0
HTSCluster 2.0.8 3.6.0
htSeqTools 1.31.1 3.6.0
HTSFilter 1.23.1 3.6.0
httpcode 0.2.0 3.6.0
httptest 3.2.2 3.6.0
httpuv 1.5.1 3.6.0
httr 1.4.0 3.6.0
hu6800.db 3.2.3 3.6.0
huge 1.3.2 3.6.0
hugene10sttranscriptcluster.db 8.7.0 3.6.0
human.db0 3.7.1 3.6.0
human370v1cCrlmm 1.0.2 3.6.0
human610quadv1bCrlmm 1.0.3 3.6.0
HumanAffyData 1.9.0 3.6.0
humanCHRLOC 2.1.6 3.6.0
humanStemCell 0.23.0 3.6.0
hunspell 3.0 3.6.0
hwriter 1.3.2 3.6.0
HybridMTest 1.27.0 3.6.0
hypeR 1.00.0 3.6.0
hyperdraw 1.35.0 3.6.0
hypergea 1.3.6 3.6.0
hypergraph 1.55.0 3.6.0
iASeq 1.27.1 3.6.0
iasva 1.1.1 3.6.0
iBBiG 1.27.0 3.6.0
ibh 1.31.0 3.6.0
ic.infer 1.1-6 3.6.0
iC10 1.5 3.6.0
iC10TrainingData 1.3.1 3.6.0
ica 1.0-2 3.6.0
iCARE 1.11.6 3.6.0
Icens 1.55.0 3.6.0
icetea 1.1.1 3.6.0
iCheck 1.13.0 3.6.0
iChip 1.37.0 3.6.0
iCluster 2.1.0 3.6.0
iClusterPlus 1.19.0 3.6.0
iCNV 1.3.1 3.6.0
iCOBRA 1.11.1 3.6.0
ICS 1.3-1 3.6.0
ICSNP 1.1-1 3.6.0
ideal 1.7.4 3.6.0
IdeoViz 1.19.0 3.6.0
idiogram 1.59.0 3.6.0
IdMappingAnalysis 1.27.0 3.6.0
IdMappingRetrieval 1.31.0 3.6.0
IDPmisc 1.1.19 3.6.0
idr 1.2 3.6.0
ifultools 2.0-5 3.6.0
iGC 1.13.0 3.6.0
igraph 1.2.4 3.6.0
igraphdata 1.0.1 3.6.0
igvR 1.3.6 3.6.0
IHW 1.11.1 3.6.0
Illumina450ProbeVariants.db 1.19.0 3.6.0
IlluminaDataTestFiles 1.21.0 3.6.0
IlluminaHumanMethylation27kanno.ilmn12.hg19 0.6.0 3.6.0
IlluminaHumanMethylation27kmanifest 0.4.0 3.6.0
IlluminaHumanMethylation450kanno.ilmn12.hg19 0.6.0 3.6.0
IlluminaHumanMethylation450kmanifest 0.4.0 3.6.0
IlluminaHumanMethylationEPICanno.ilm10b2.hg19 0.6.0 3.6.0
IlluminaHumanMethylationEPICanno.ilm10b4.hg19 0.6.0 3.6.0
IlluminaHumanMethylationEPICmanifest 0.3.0 3.6.0
illuminaHumanv1.db 1.26.0 3.6.0
illuminaHumanv3.db 1.26.0 3.6.0
illuminaHumanv4.db 1.26.0 3.6.0
illuminaio 0.25.0 3.6.0
imageHTS 1.33.1 3.6.0
IMAS 1.7.1 3.6.0
Imetagene 1.13.0 3.6.0
IMMAN 1.3.02 3.6.0
ImmuneSpaceR 1.11.5 3.6.0
immunoClust 1.15.1 3.6.0
imp4p 0.7 3.6.0
IMPCdata 1.19.0 3.6.0
import 1.1.0 3.6.0
ImpulseDE 1.9.0 3.6.0
ImpulseDE2 1.7.1 3.6.0
impute 1.57.0 3.6.0
imputeLCMD 2.0 3.6.0
inaparc 0.2.0 3.6.0
INDEED 1.1.1 3.6.0
ineq 0.2-13 3.6.0
influenceR 0.1.0 3.6.0
infotheo 1.2.0 3.6.0
ini 0.3.1 3.6.0
inline 0.3.15 3.6.0
InPAS 1.15.1 3.6.0
INPower 1.19.0 3.6.0
INSPEcT 1.13.15 3.6.0
InTAD 1.3.0 3.6.0
intansv 1.23.0 3.6.0
InteractionSet 1.11.2 3.6.0
interactiveDisplay 1.21.0 3.6.0
interactiveDisplayBase 1.21.0 3.6.0
IntEREst 1.7.3 3.6.0
intergraph 2.0-2 3.6.0
InterMineR 1.5.2 3.6.0
intervals 0.15.1 3.6.0
IntramiRExploreR 1.5.0 3.6.0
inum 1.0-0 3.6.0
InvariantCausalPrediction 0.7-2 3.6.0
inveRsion 1.31.0 3.6.0
IONiseR 2.7.0 3.6.0
iPAC 1.27.0 3.6.0
ipdDb 1.1.0 3.6.0
IPO 1.9.1 3.6.0
IPPD 1.31.0 3.6.0
ipred 0.9-8 3.6.0
IRanges 2.17.4 3.6.0
irlba 2.3.3 3.6.0
irr 0.84.1 3.6.0
isa2 0.3.5 3.6.0
iSEE 1.3.8 3.6.0
iSeq 1.35.0 3.6.0
ismev 1.42 3.6.0
Iso 0.0-17 3.6.0
isobar 1.29.1 3.6.0
IsoCorrectoR 1.1.4 3.6.0
IsoCorrectoRGUI 0.99.7 3.6.0
IsoformSwitchAnalyzeR 1.5.6 3.6.0
IsoGene 1.0-24 3.6.0
IsoGeneGUI 2.19.0 3.6.0
ISoLDE 1.11.1 3.6.0
isomiRs 1.11.1 3.6.0
isva 1.9 3.6.0
ITALICS 2.43.0 3.6.0
ITALICSData 2.21.0 3.6.0
iterativeBMA 1.41.0 3.6.0
iterativeBMAsurv 1.41.0 3.6.0
iterators 1.0.10 3.6.0
iterClust 1.5.0 3.6.0
iteremoval 1.3.0 3.6.0
itertools 0.1-3 3.6.0
IVAS 2.3.1 3.6.0
ivygapSE 1.5.1 3.6.0
IWTomics 1.7.0 3.6.0
jackstraw 1.3 3.6.0
JADE 2.0-1 3.6.0
JASPAR2014 1.19.0 3.6.0
JASPAR2016 1.11.0 3.6.0
JASPAR2018 1.1.1 3.6.0
JctSeqData 1.13.0 3.6.0
joda 1.31.0 3.6.0
jomo 2.6-7 3.6.0
jpeg 0.1-8 3.6.0
jsonlite 1.6 3.6.0
JunctionSeq 1.13.1 3.6.0
kableExtra 1.1.0 3.6.0
kappalab 0.4-7 3.6.0
karyoploteR 1.9.15 3.6.0
KCsmart 2.41.0 3.6.0
kebabs 1.17.0 3.6.0
KEGG.db 3.2.3 3.6.0
KEGGandMetacoreDzPathwaysGEO 1.3.0 3.6.0
KEGGdzPathwaysGEO 1.21.0 3.6.0
KEGGgraph 1.43.3 3.6.0
KEGGlincs 1.9.1 3.6.0
keggorthology 2.35.0 3.6.0
KEGGprofile 1.25.1 3.6.0
KEGGREST 1.23.0 3.6.0
kernlab 0.9-27 3.6.0
KernSmooth 2.23-15 3.6.0
kimisc 0.4 3.6.0
kimod 1.11.0 3.6.0
kinship2 1.6.4 3.6.0
KinSwingR 1.1.3 3.6.0
kissDE 1.3.0 3.6.0
kknn 1.3.1 3.6.0
klaR 0.6-14 3.6.0
km.ci 0.5-2 3.6.0
KMsurv 0.1-5 3.6.0
knitcitations 1.0.8 3.6.0
knitr 1.22 3.6.0
knitrBootstrap 1.0.2 3.6.0
KOdata 1.9.0 3.6.0
kohonen 3.0.8 3.6.0
kpeaks 0.1.0 3.6.0
kpmt 0.1.0 3.6.0
ks 1.11.4 3.6.0
kza 4.1.0 3.6.0
labeling 0.3 3.6.0
labelled 2.1.0 3.6.0
laeken 0.5.0 3.6.0
lambda.r 1.2.3 3.6.0
LaplacesDemon 16.1.1 3.6.0
lapmix 1.49.0 3.6.0
lars 1.2 3.6.0
lasso2 1.2-20 3.6.0
lassopv 0.2.0 3.6.0
lassoshooting 0.1.5-1 3.6.0
later 0.8.0 3.6.0
latex2exp 0.4.0 3.6.0
lattice 0.20-38 3.6.0
latticeExtra 0.6-28 3.6.0
lava 1.6.5 3.6.0
lavaan 0.6-3 3.6.0
lazyeval 0.2.2 3.6.0
LBE 1.51.0 3.6.0
ldblock 1.13.2 3.6.0
LEA 2.5.0 3.6.0
leaps 3.0 3.6.0
LearnBayes 2.15.1 3.6.0
learnr 0.9.2.1 3.6.0
LedPred 1.17.0 3.6.0
leeBamViews 1.19.0 3.6.0
les 1.33.0 3.6.0
leukemiasEset 1.19.0 3.6.0
levi 1.1.0 3.6.0
lfa 1.13.0 3.6.0
lhs 1.0.1 3.6.0
libcoin 1.0-4 3.6.0
LiblineaR 2.10-8 3.6.0
LIM 1.4.6 3.6.0
limma 3.39.14 3.6.0
limmaGUI 1.59.0 3.6.0
limSolve 1.5.5.3 3.6.0
LINC 1.11.0 3.6.0
LineagePulse 1.3.1 3.6.0
linkcomm 1.0-11 3.6.0
Linnorm 2.7.2 3.6.0
lintr 1.0.3 3.6.0
LiquidAssociation 1.37.0 3.6.0
listenv 0.7.0 3.6.0
listviewer 2.1.0 3.6.0
lmdme 1.25.0 3.6.0
lme4 1.1-21 3.6.0
lmerTest 3.1-0 3.6.0
LMGene 2.39.0 3.6.0
Lmoments 1.3-1 3.6.0
lmtest 0.9-36 3.6.0
LOBSTAHS 1.9.1 3.6.0
locfdr 1.1-8 3.6.0
locfit 1.5-9.1 3.6.0
loci2path 1.3.0 3.6.0
log4r 0.2 3.6.0
logging 0.9-107 3.6.0
logicFS 2.3.0 3.6.0
LogicReg 1.5.10 3.6.0
logistf 1.23 3.6.0
logitT 1.41.0 3.6.0
Logolas 1.7.0 3.6.0
logspline 2.1.12 3.6.0
lokern 1.1-8 3.6.0
lol 1.31.0 3.6.0
LOLA 1.13.0 3.6.0
longitudinal 1.1.12 3.6.0
loo 2.1.0 3.6.0
LoomExperiment 1.1.7 3.6.0
loose.rock 1.0.9 3.6.0
LowMACA 1.13.1 3.6.0
LowMACAAnnotation 0.99.3 3.6.0
LPE 1.57.0 3.6.0
LPEadj 1.43.0 3.6.0
lpNet 2.15.0 3.6.0
lpSolve 5.6.13 3.6.0
lpSolveAPI 5.5.2.0-17 3.6.0
lpsymphony 1.11.0 3.6.0
LRBase.Hsa.eg.db 1.0.0 3.6.0
LRBase.Mmu.eg.db 1.0.0 3.6.0
LRBaseDbi 1.1.0 3.6.0
lsa 0.73.1 3.6.0
LSD 4.0-0 3.6.0
lsei 1.2-0 3.6.0
lsmeans 2.30-0 3.6.0
lsr 0.5 3.6.0
lubridate 1.7.4 3.6.0
lumi 2.35.0 3.6.0
lumiBarnes 1.23.0 3.6.0
lumiHumanAll.db 1.22.0 3.6.0
lumiHumanIDMapping 1.10.1 3.6.0
LungCancerACvsSCCGEO 1.19.0 3.6.0
LungCancerLines 0.21.0 3.6.0
lungExpression 0.21.0 3.6.0
LVSmiRNA 1.33.0 3.6.0
lydata 1.9.0 3.6.0
LymphoSeq 1.11.0 3.6.0
LymphoSeqDB 0.99.2 3.6.0
M3C 1.5.85 3.6.0
M3D 1.17.0 3.6.0
M3DExampleData 1.9.0 3.6.0
M3Drop 1.9.4 3.6.0
maanova 1.53.0 3.6.0
macat 1.57.0 3.6.0
maCorrPlot 1.53.0 3.6.0
MACPET 1.3.3 3.6.0
macrophage 0.99.2 3.6.0
made4 1.57.0 3.6.0
MADSEQ 1.9.0 3.6.0
MafDb.1Kgenomes.phase1.hs37d5 3.7.1 3.6.0
MafDb.1Kgenomes.phase3.hs37d5 3.7.0 3.6.0
MafDb.ESP6500SI.V2.SSA137.hs37d5 3.7.0 3.6.0
MafDb.ExAC.r1.0.hs37d5 3.7.0 3.6.0
MafDb.gnomADex.r2.0.1.hs37d5 3.8.0 3.6.0
maftools 1.9.30 3.6.0
MAGeCKFlute 1.3.1 3.6.0
magic 1.5-9 3.6.0
magicaxis 2.0.7 3.6.0
magick 2.0 3.6.0
magrittr 1.5 3.6.0
maigesPack 1.47.0 3.6.0
MAIT 1.17.3 3.6.0
makecdfenv 1.59.0 3.6.0
MALDIquant 1.19.2 3.6.0
manipulate 1.0.1 3.6.0
manipulateWidget 0.10.0 3.6.0
MANOR 1.55.0 3.6.0
manta 1.29.1 3.6.0
MantelCorr 1.53.0 3.6.0
mapdata 2.3.0 3.6.0
mAPKL 1.13.0 3.6.0
mAPKLData 1.15.0 3.6.0
mapplots 1.5.1 3.6.0
mapproj 1.2.6 3.6.0
maPredictDSC 1.21.0 3.6.0
maps 3.3.0 3.6.0
mapscape 1.7.0 3.6.0
maptools 0.9-5 3.6.0
maptpx 1.9-2 3.6.0
maptree 1.4-7 3.6.0
maqcExpression4plex 1.27.0 3.6.0
MAQCsubset 1.21.0 3.6.0
MAQCsubsetAFX 1.21.0 3.6.0
markdown 0.9 3.6.0
marray 1.61.0 3.6.0
martini 1.3.1 3.6.0
maser 1.1.0 3.6.0
maSigPro 1.55.0 3.6.0
maskBAD 1.27.0 3.6.0
MASS 7.3-51.4 3.6.0
MassArray 1.35.1 3.6.0
massiR 1.19.0 3.6.0
MassSpecWavelet 1.49.1 3.6.0
MAST 1.9.2 3.6.0
matchBox 1.25.0 3.6.0
Matching 4.9-5 3.6.0
matlab 1.0.2 3.6.0
Matrix 1.2-17 3.6.0
Matrix.utils 0.9.7 3.6.0
matrixcalc 1.0-3 3.6.0
MatrixModels 0.4-1 3.6.0
MatrixRider 1.15.0 3.6.0
matrixStats 0.54.0 3.6.0
matter 1.9.10 3.6.0
MaxContrastProjection 1.7.1 3.6.0
maxLik 1.3-4 3.6.0
maxstat 0.7-25 3.6.0
MBA 0.0-9 3.6.0
MBAmethyl 1.17.0 3.6.0
MBASED 1.17.0 3.6.0
MBCB 1.37.0 3.6.0
mboost 2.9-1 3.6.0
mBPCR 1.37.0 3.6.0
MBttest 1.11.0 3.6.0
mcaGUI 1.31.0 3.6.0
MCbiclust 1.7.1 3.6.0
mcbiopi 1.1.6 3.6.0
MCL 1.0 3.6.0
mclust 5.4.3 3.6.0
mcmc 0.9-6 3.6.0
MCMCglmm 2.28 3.6.0
MCMCpack 1.4-4 3.6.0
MCRestimate 2.39.0 3.6.0
mCSEA 1.3.4 3.6.0
mCSEAdata 1.3.0 3.6.0
mdgsa 1.15.0 3.6.0
mdp 1.3.0 3.6.0
mdqc 1.45.0 3.6.0
MDTS 1.3.0 3.6.0
MEAL 1.13.0 3.6.0
MeasurementError.cor 1.55.0 3.6.0
MEDIPS 1.35.0 3.6.0
MEDIPSData 1.19.0 3.6.0
MEDME 1.43.0 3.6.0
MEEBOdata 1.21.0 3.6.0
mefa 3.2-7 3.6.0
MEIGOR 1.17.0 3.6.0
Melissa 0.99.9 3.6.0
memoise 1.1.0 3.6.0
memuse 4.0-0 3.6.0
MergeMaid 2.55.0 3.6.0
Mergeomics 1.11.0 3.6.0
MeSH.Aca.eg.db 1.12.0 3.6.0
MeSH.AOR.db 1.12.0 3.6.0
MeSH.Bsu.168.eg.db 1.12.0 3.6.0
MeSH.Cel.eg.db 1.12.0 3.6.0
MeSH.db 1.12.0 3.6.0
MeSH.Hsa.eg.db 1.12.0 3.6.0
MeSH.Mmu.eg.db 1.12.0 3.6.0
MeSH.PCR.db 1.12.0 3.6.0
MeSH.Syn.eg.db 1.12.0 3.6.0
MeSHDbi 1.19.0 3.6.0
meshes 1.9.1 3.6.0
meshr 1.19.0 3.6.0
MESS 0.5.5 3.6.0
messina 1.19.0 3.6.0
metaArray 1.61.0 3.6.0
Metab 1.17.1 3.6.0
metabomxtr 1.17.1 3.6.0
MetaboSignal 1.13.0 3.6.0
metaCCA 1.11.0 3.6.0
MetaCyto 1.5.1 3.6.0
metafor 2.0-0 3.6.0
metagene 2.15.1 3.6.0
metagenomeFeatures 2.3.4 3.6.0
metagenomeSeq 1.25.3 3.6.0
metahdep 1.41.0 3.6.0
metaMA 3.1.2 3.6.0
metaMS 1.19.1 3.6.0
metaMSdata 1.19.0 3.6.0
MetaNeighbor 1.3.1 3.6.0
metap 1.1 3.6.0
metaSeq 1.23.1 3.6.0
metaseqR 1.23.1 3.6.0
metavizr 1.7.1 3.6.0
MetCirc 1.13.2 3.6.0
methimpute 1.5.1 3.6.0
methInheritSim 1.5.1 3.6.0
methods 3.6.0 3.6.0
MethPed 1.11.1 3.6.0
MethTargetedNGS 1.15.0 3.6.0
methVisual 1.35.0 3.6.0
methyAnalysis 1.25.0 3.6.0
MethylAid 1.17.0 3.6.0
MethylAidData 1.15.0 3.6.0
methylGSA 1.1.4 3.6.0
methylInheritance 1.7.2 3.6.0
methylKit 1.9.3 3.6.0
MethylMix 2.13.0 3.6.0
methylMnM 1.21.0 3.6.0
methylPipe 1.17.1 3.6.0
MethylSeekR 1.23.0 3.6.0
methylumi 2.29.0 3.6.0
methyvim 1.5.0 3.6.0
methyvimData 1.5.0 3.6.0
MetID 1.1.0 3.6.0
MetNet 1.1.1 3.6.0
mfa 1.5.1 3.6.0
Mfuzz 2.43.0 3.6.0
mgcv 1.8-28 3.6.0
MGFM 1.17.0 3.6.0
MGFR 1.9.2 3.6.0
mgsa 1.31.0 3.6.0
mGSZ 1.0 3.6.0
mgug4104a.db 3.2.3 3.6.0
mhsmm 0.4.16 3.6.0
mi 1.0 3.6.0
mice 3.4.0 3.6.0
MiChip 1.37.0 3.6.0
microbenchmark 1.4-6 3.6.0
microbiome 1.5.31 3.6.0
microRNA 1.41.0 3.6.0
MIGSA 1.7.2 3.6.0
MIGSAdata 1.7.0 3.6.0
mimager 1.7.0 3.6.0
mime 0.6 3.6.0
MIMOSA 1.21.1 3.6.0
MineICA 1.23.0 3.6.0
minet 3.41.0 3.6.0
minfi 1.29.4 3.6.0
minfiData 0.29.0 3.6.0
minfiDataEPIC 1.9.0 3.6.0
MinimumDistance 1.27.0 3.6.0
minionSummaryData 1.13.0 3.6.0
miniUI 0.1.1.1 3.6.0
minpack.lm 1.2-1 3.6.0
minqa 1.2.4 3.6.0
MiPP 1.55.0 3.6.0
MIRA 1.5.1 3.6.0
MiRaGE 1.25.1 3.6.0
mirbase.db 1.2.0 3.6.0
miRBaseConverter 1.7.0 3.6.0
miRBaseVersions.db 1.1.0 3.6.0
miRcomp 1.13.0 3.6.0
miRcompData 1.13.0 3.6.0
mirIntegrator 1.13.0 3.6.0
miRmine 1.5.0 3.6.0
mirna10cdf 2.18.0 3.6.0
miRNAmeConverter 1.11.0 3.6.0
miRNApath 1.43.0 3.6.0
miRNAtap 1.17.0 3.6.0
miRNAtap.db 0.99.10 3.6.0
miRNATarget 1.21.0 3.6.0
miRsponge 1.9.3 3.6.0
miRspongeR 1.9.3 3.6.0
Mirsynergy 1.19.0 3.6.0
misc3d 0.8-4 3.6.0
miscTools 0.6-22 3.6.0
missForest 1.4 3.6.0
missMethyl 1.17.1 3.6.0
missRows 1.3.0 3.6.0
mitml 0.3-7 3.6.0
mitoODE 1.21.1 3.6.0
mitoODEdata 1.19.0 3.6.0
mixOmics 6.7.1 3.6.0
mixsmsn 1.1-5 3.6.0
mixsqp 0.1-97 3.6.0
mixtools 1.1.0 3.6.0
mlbench 2.1-1 3.6.0
MLInterfaces 1.63.2 3.6.0
mlm4omics 1.1.1 3.6.0
mlogit 0.4-1 3.6.0
MLP 1.31.0 3.6.0
mlr 2.13 3.6.0
MLSeq 2.1.1 3.6.0
MMDiff2 1.11.0 3.6.0
MMDiffBamSubset 1.19.0 3.6.0
MmPalateMiRNA 1.33.0 3.6.0
mnlogit 1.2.5 3.6.0
mnormt 1.5-5 3.6.0
MODA 1.9.0 3.6.0
modeest 2.3.3 3.6.0
ModelMetrics 1.2.2 3.6.0
modelr 0.1.4 3.6.0
modeltools 0.2-22 3.6.0
modes 0.7.0 3.6.0
Modstrings 0.99.23 3.6.0
MOFA 0.99.14 3.6.0
MOFAdata 0.99.6 3.6.0
mogene10sttranscriptcluster.db 8.7.0 3.6.0
mogsa 1.17.5 3.6.0
moments 0.14 3.6.0
mongolite 2.0.1 3.6.0
monocle 2.11.1 3.6.0
MoonlightR 1.9.0 3.6.0
MoPS 1.17.0 3.6.0
mosaics 2.21.0 3.6.0
mosaicsExample 1.21.0 3.6.0
motifbreakR 1.13.0 3.6.0
motifcounter 1.7.0 3.6.0
MotifDb 1.25.0 3.6.0
motifmatchr 1.5.0 3.6.0
motifRG 1.27.0 3.6.0
motifStack 1.27.4 3.6.0
MotIV 1.39.0 3.6.0
mouse4302.db 3.2.3 3.6.0
mouse4302cdf 2.18.0 3.6.0
mouse4302frmavecs 1.5.0 3.6.0
MPFE 1.19.0 3.6.0
mpm 1.0-22 3.6.0
mpmi 0.42 3.6.0
mppa 1.0 3.6.0
mpra 1.5.4 3.6.0
MPRAnalyze 1.1.1 3.6.0
mQTL 1.0 3.6.0
mRMRe 2.0.9 3.6.0
msa 1.15.0 3.6.0
msd16s 1.3.0 3.6.0
msdata 0.23.0 3.6.0
msgbsR 1.7.1 3.6.0
MSGFgui 1.17.1 3.6.0
MSGFplus 1.17.1 3.6.0
msgps 1.3.1 3.6.0
msigdbr 6.2.1 3.6.0
msm 1.6.7 3.6.0
msmsEDA 1.21.1 3.6.0
msmsTests 1.21.1 3.6.0
MSnbase 2.9.3 3.6.0
MSnID 1.17.1 3.6.0
msPurity 1.9.8 3.6.0
msPurityData 1.11.1 3.6.0
msqc1 1.11.1 3.6.0
MSstats 3.15.1 3.6.0
MSstatsBioData 1.5.0 3.6.0
MSstatsQC 2.1.1 3.6.0
MSstatsQCgui 1.3.1 3.6.0
MSstatsTMT 1.1.2 3.6.0
mstate 0.2.11 3.6.0
mtbls2 1.13.1 3.6.0
MTseeker 1.1.6 3.6.0
MTseekerData 1.1.0 3.6.0
MUGAExampleData 1.3.0 3.6.0
Mulcom 1.33.0 3.6.0
multcomp 1.4-10 3.6.0
multcompView 0.1-7 3.6.0
MultiAssayExperiment 1.9.18 3.6.0
multiClust 1.13.0 3.6.0
multicool 0.1-10 3.6.0
MultiDataSet 1.11.0 3.6.0
multiHiCcompare 1.1.3 3.6.0
MultiMed 2.5.0 3.6.0
multiMiR 1.5.0 3.6.0
multiOmicsViz 1.7.0 3.6.0
multiscan 1.43.0 3.6.0
multtest 2.39.0 3.6.0
munsell 0.5.0 3.6.0
Mus.musculus 1.3.1 3.6.0
muscle 3.25.0 3.6.0
muStat 1.7.0 3.6.0
MutationalPatterns 1.9.0 3.6.0
MVCClass 1.57.0 3.6.0
mvoutData 1.19.0 3.6.0
mvoutlier 2.0.9 3.6.0
mvtnorm 1.0-10 3.6.0
MWASTools 1.7.0 3.6.0
mygene 1.19.0 3.6.0
myvariant 1.13.0 3.6.0
mzID 1.21.1 3.6.0
mzR 2.17.2 3.6.0
nabor 0.5.0 3.6.0
NADA 1.6-1 3.6.0
NADfinder 1.7.3 3.6.0
naivebayes 0.9.5 3.6.0
NanoStringDiff 1.13.0 3.6.0
NanoStringQCPro 1.15.0 3.6.0
NarrowPeaks 1.27.0 3.6.0
NbClust 3.0 3.6.0
nbconvertR 1.0.2 3.6.0
NBPSeq 0.3.0 3.6.0
NBSplice 1.1.7 3.6.0
ncdf4 1.16.1 3.6.0
ncdfFlow 2.29.3 3.6.0
ndexr 1.5.1 3.6.0
NeighborNet 1.1.0 3.6.0
nem 2.57.0 3.6.0
netbenchmark 1.15.0 3.6.0
netbiov 1.17.0 3.6.0
nethet 1.15.0 3.6.0
NetPathMiner 1.19.5 3.6.0
NetPreProc 1.1 3.6.0
netprioR 1.9.1 3.6.0
netReg 1.7.1 3.6.0
netresponse 1.43.0 3.6.0
NetSAM 1.23.0 3.6.0
netSmooth 1.3.0 3.6.0
network 1.15 3.6.0
networkBMA 2.23.0 3.6.0
networkD3 0.4 3.6.0
NGScopy 1.17.1 3.6.0
NGScopyData 1.3.0 3.6.0
nipals 0.5 3.6.0
NISTunits 1.0.1 3.6.0
nlcv 0.3.5 3.6.0
nleqslv 3.3.2 3.6.0
nlme 3.1-138 3.6.0
nloptr 1.2.1 3.6.0
NLP 0.2-0 3.6.0
nls2 0.2 3.6.0
NMF 0.21.0 3.6.0
NMFN 2.0 3.6.0
NMI 2.0 3.6.0
nnet 7.3-12 3.6.0
nnlasso 0.3 3.6.0
NNLM 0.4.2 3.6.0
nnls 1.4 3.6.0
nnNorm 2.47.0 3.6.0
nnTensor 0.99.4 3.6.0
NOISeq 2.27.1 3.6.0
nondetects 2.13.0 3.6.0
nor1mix 1.2-3 3.6.0
norm 1.0-9.5 3.6.0
normalize450K 1.11.0 3.6.0
NormalyzerDE 1.1.15 3.6.0
NormqPCR 1.29.0 3.6.0
normr 1.9.0 3.6.0
nortest 1.0-4 3.6.0
Nozzle.R1 1.1-1 3.6.0
npGSEA 1.19.0 3.6.0
npsurv 0.4-0 3.6.0
nsprcomp 0.5.1-2 3.6.0
NTW 1.33.0 3.6.0
nucleoSim 1.11.0 3.6.0
nucleR 2.15.0 3.6.0
nuCpos 1.1.5 3.6.0
numbers 0.7-1 3.6.0
numDeriv 2016.8-1 3.6.0
NuPoP 1.33.0 3.6.0
objectProperties 0.6.5 3.6.0
objectSignals 0.10.2 3.6.0
occugene 1.43.0 3.6.0
OCplus 1.57.0 3.6.0
odseq 1.11.0 3.6.0
OGSA 1.13.0 3.6.0
oligo 1.47.0 3.6.0
oligoClasses 1.45.0 3.6.0
oligoData 1.8.0 3.6.0
OLIN 1.61.0 3.6.0
OLINgui 1.57.0 3.6.0
OmaDB 1.99.2 3.6.0
omicade4 1.23.0 3.6.0
OmicCircos 1.21.0 3.6.0
omicplotR 1.3.0 3.6.0
omicRexposome 1.5.1 3.6.0
OmicsMarkeR 1.15.0 3.6.0
OMICsPCA 1.1.1 3.6.0
OMICsPCAdata 1.1.0 3.6.0
omicsPrint 1.3.1 3.6.0
Onassis 1.5.4 3.6.0
OnassisJavaLibs 1.5.2 3.6.0
oncomix 1.5.0 3.6.0
OncoScore 1.11.0 3.6.0
OncoSimulR 2.13.2 3.6.0
Oncotree 0.3.3 3.6.0
oneSENSE 1.5.1 3.6.0
onlineFDR 1.1.1 3.6.0
ontologyIndex 2.5 3.6.0
ontologyPlot 1.4 3.6.0
ontoProc 1.5.10 3.6.0
opencpu 2.1.1 3.6.0
openCyto 1.21.3 3.6.0
OpenImageR 1.1.5 3.6.0
openPrimeR 1.5.1 3.6.0
openPrimeRui 1.5.1 3.6.0
openssl 1.3 3.6.0
openxlsx 4.1.0 3.6.0
operator.tools 1.6.3 3.6.0
oposSOM 2.1.1 3.6.0
oppar 1.11.0 3.6.0
optimx 2018-7.10 3.6.0
optparse 1.6.2 3.6.0
OPWeight 1.5.1 3.6.0
ORCME 2.0.2 3.6.0
OrderedList 1.55.0 3.6.0
ordinal 2019.3-9 3.6.0
ore 1.6.2 3.6.0
ORFik 1.3.13 3.6.0
org.Ag.eg.db 3.7.0 3.6.0
org.At.tair.db 3.7.0 3.6.0
org.Bt.eg.db 3.7.0 3.6.0
org.Ce.eg.db 3.7.0 3.6.0
org.Cf.eg.db 3.7.0 3.6.0
org.Dm.eg.db 3.7.0 3.6.0
org.Dr.eg.db 3.7.0 3.6.0
org.EcK12.eg.db 3.7.0 3.6.0
org.EcSakai.eg.db 3.7.0 3.6.0
org.Gg.eg.db 3.7.0 3.6.0
org.Hs.eg.db 3.7.0 3.6.0
org.Mm.eg.db 3.7.0 3.6.0
org.Mmu.eg.db 3.7.0 3.6.0
org.Pf.plasmo.db 3.7.0 3.6.0
org.Pt.eg.db 3.7.0 3.6.0
org.Rn.eg.db 3.7.0 3.6.0
org.Sc.sgd.db 3.7.0 3.6.0
org.Ss.eg.db 3.7.0 3.6.0
org.Xl.eg.db 3.7.0 3.6.0
Organism.dplyr 1.11.2 3.6.0
OrganismDbi 1.25.0 3.6.0
OrgMassSpecR 0.5-3 3.6.0
ORIClust 1.0-1 3.6.0
origami 1.0.0 3.6.0
orQA 0.2.1 3.6.0
OSAT 1.31.0 3.6.0
Oscope 1.13.1 3.6.0
OTUbase 1.33.0 3.6.0
OutlierD 1.47.0 3.6.0
outliers 0.14 3.6.0
OUTRIDER 1.1.4 3.6.0
OVESEG 0.99.2 3.6.0
PAA 1.17.0 3.6.0
packrat 0.5.0 3.6.0
PADOG 1.25.0 3.6.0
paintmap 1.0 3.6.0
PAIRADISE 0.99.6 3.6.0
paircompviz 1.21.0 3.6.0
pairsD3 0.1.0 3.6.0
pamr 1.56 3.6.0
pan 1.6 3.6.0
pandaR 1.15.0 3.6.0
pander 0.6.3 3.6.0
panelcn.mops 1.5.0 3.6.0
panp 1.53.0 3.6.0
PANR 1.29.1 3.6.0
PANTHER.db 1.0.4 3.6.0
PanVizGenerator 1.11.0 3.6.0
PAPi 1.23.1 3.6.0
parallel 3.6.0 3.6.0
parallelMap 1.3 3.6.0
ParamHelpers 1.12 3.6.0
parathyroidSE 1.21.0 3.6.0
parcor 0.2-6 3.6.0
parglms 1.15.1 3.6.0
parmigene 1.0.2 3.6.0
parody 1.41.0 3.6.0
party 1.3-3 3.6.0
partykit 1.2-3 3.6.0
pasilla 1.11.0 3.6.0
pasillaBamSubset 0.21.0 3.6.0
PasillaTranscriptExpr 1.11.0 3.6.0
pastecs 1.3.21 3.6.0
Path2PPI 1.13.0 3.6.0
pathifier 1.21.0 3.6.0
PathNet 1.23.0 3.6.0
PathNetData 1.19.0 3.6.0
pathological 0.1-2 3.6.0
PathoStat 1.9.4 3.6.0
pathprint 1.13.0 3.6.0
pathprintGEOData 1.13.0 3.6.0
pathRender 1.51.0 3.6.0
pathVar 1.13.0 3.6.0
pathview 1.23.3 3.6.0
pathwayPCA 0.99.5 3.6.0
PathwaySplice 1.7.1 3.6.0
paxtoolsr 1.17.0 3.6.0
pbapply 1.4-0 3.6.0
Pbase 0.23.1 3.6.0
pbivnorm 0.6.0 3.6.0
pbkrtest 0.4-7 3.6.0
pcaExplorer 2.9.5 3.6.0
pcaGoPromoter 1.27.0 3.6.0
pcaGoPromoter.Hs.hg19 1.19.0 3.6.0
pcaGoPromoter.Mm.mm9 1.19.0 3.6.0
pcaGoPromoter.Rn.rn4 1.19.0 3.6.0
pcaMethods 1.75.1 3.6.0
PCAN 1.11.0 3.6.0
pcaPP 1.9-73 3.6.0
PCAtools 0.99.13 3.6.0
PCHiCdata 1.11.0 3.6.0
PCIT 1.5-3 3.6.0
pcot2 1.51.0 3.6.0
PCpheno 1.45.0 3.6.0
pcxn 2.5.0 3.6.0
pcxnData 2.5.0 3.6.0
pd.atdschip.tiling 0.21.0 3.6.0
pd.charm.hg18.example 0.99.4 3.6.0
pd.genomewidesnp.5 3.14.1 3.6.0
pd.genomewidesnp.6 3.14.1 3.6.0
pd.hg.u133a.2 3.12.0 3.6.0
pd.hg.u95a 3.12.0 3.6.0
pd.hg.u95av2 3.12.0 3.6.0
pd.hg18.60mer.expr 3.12.0 3.6.0
pd.huex.1.0.st.v2 3.14.1 3.6.0
pd.hugene.1.0.st.v1 3.14.1 3.6.0
pd.mapping250k.nsp 3.12.0 3.6.0
pd.mapping250k.sty 3.12.0 3.6.0
pd.mapping50k.hind240 3.12.0 3.6.0
pd.mapping50k.xba240 3.12.0 3.6.0
pdftools 2.2 3.5.2
pdInfoBuilder 1.47.1 3.6.0
pdist 1.2 3.6.0
PECA 1.19.0 3.6.0
penalized 0.9-51 3.6.0
pepDat 1.3.0 3.6.0
PepsNMR 1.1.3 3.6.0
PepsNMRData 1.1.0 3.6.0
pepStat 1.17.0 3.6.0
pepXMLTab 1.17.1 3.6.0
PerfMeas 1.2.1 3.6.0
PerformanceAnalytics 1.5.2 3.6.0
permute 0.9-5 3.6.0
perturbatr 1.3.1 3.6.0
PFAM.db 3.7.0 3.6.0
PGA 1.13.1 3.6.0
pgca 1.7.1 3.6.0
PGSEA 1.57.0 3.6.0
phangorn 2.5.3 3.6.0
phantasus 1.3.4 3.6.0
PharmacoGx 1.13.0 3.6.0
phastCons100way.UCSC.hg19 3.7.2 3.6.0
phastCons100way.UCSC.hg38 3.7.1 3.6.0
pheatmap 1.0.12 3.6.0
phemd 0.99.37 3.6.0
phenopath 1.7.2 3.6.0
phenoTest 1.31.0 3.6.0
PhenStat 2.19.0 3.6.0
philr 1.9.1 3.6.0
phosphonormalizer 1.7.0 3.6.0
phylobase 0.8.6 3.6.0
phyloseq 1.27.2 3.6.0
Pi 1.11.0 3.6.0
piano 1.23.0 3.6.0
picante 1.8 3.6.0
pickgene 1.55.0 3.6.0
PICS 2.27.0 3.6.0
Pigengene 1.9.18 3.6.0
pillar 1.3.1 3.6.0
pinfsc50 1.1.0 3.6.0
PING 2.27.0 3.6.0
pingr 1.1.2 3.6.0
pint 1.33.0 3.6.0
pixmap 0.4-11 3.6.0
pkgbuild 1.0.3 3.6.0
pkgconfig 2.0.2 3.6.0
pkgDepTools 1.49.0 3.6.0
pkgdown 1.3.0 3.6.0
pkgload 1.0.2 3.6.0
pkgmaker 0.27 3.6.0
plasFIA 1.11.1 3.6.0
plasmodiumanophelescdf 2.18.0 3.6.0
plateCore 1.41.1 3.6.0
plethy 1.21.0 3.6.0
plgem 1.55.1 3.6.0
plier 1.53.0 3.6.0
plogr 0.2.0 3.6.0
plot3D 1.1.1 3.6.0
plotGrouper 1.1.1 3.6.0
plotly 4.8.0 3.6.0
plotmo 3.5.4 3.6.0
plotrix 3.7-5 3.6.0
PLPE 1.43.0 3.6.0
plrs 1.23.0 3.6.0
pls 2.7-1 3.6.0
plsgenomics 1.5-2 3.6.0
plspm 0.4.9 3.6.0
plsVarSel 0.9.4 3.6.0
plw 1.43.0 3.6.0
plyr 1.8.4 3.6.0
plyranges 1.3.4 3.6.0
PMA 1.1 3.6.0
PMCMR 4.3 3.6.0
pmm 1.15.0 3.6.0
png 0.1-7 3.6.0
podkat 1.15.1 3.6.0
pogos 1.3.1 3.6.0
poibin 1.3 3.6.0
PoiClaClu 1.0.2.1 3.6.0
poilog 0.4 3.6.0
polspline 1.1.14 3.6.0
polyclip 1.10-0 3.6.0
polyester 1.19.0 3.6.0
Polyfit 1.17.1 3.6.0
polylabelr 0.1.0 3.6.0
polynom 1.4-0 3.6.0
PolynomF 1.1-0 3.6.0
PolyPhen.Hsapiens.dbSNP131 1.0.2 3.6.0
POST 1.7.0 3.6.0
PoTRA 0.99.83 3.6.0
PowerExplorer 1.3.1 3.6.0
poweRlaw 0.70.2 3.6.0
powerTCR 1.3.0 3.6.0
ppclust 0.1.2 3.6.0
ppcor 1.1 3.6.0
ppiData 0.21.0 3.6.0
PPInfer 1.9.1 3.6.0
ppiStats 1.49.0 3.6.0
ppls 1.6-1.1 3.6.0
pqsfinder 1.99.6 3.6.0
prabclus 2.2-7 3.6.0
pracma 2.2.2 3.6.0
prada 1.59.1 3.6.0
praise 1.0.0 3.6.0
pram 0.99.18 3.6.0
prebs 1.23.1 3.6.0
prebsdata 1.19.0 3.6.0
PrecisionTrialDrawer 0.99.17 3.6.0
precrec 0.10 3.6.0
PREDA 1.29.0 3.6.0
PREDAsampledata 0.23.0 3.6.0
predictionet 1.29.0 3.6.0
preprocessCore 1.45.0 3.6.0
preseqR 4.0.0 3.6.0
prettycode 1.0.2 3.6.0
prettydoc 0.2.1 3.6.0
prettyGraphs 2.1.6 3.6.0
prettyunits 1.0.2 3.6.0
primirTSS 1.1.1 3.6.0
PRIMME 2.2-0 3.6.0
PrInCE 0.99.13 3.6.0
princurve 2.1.3 3.6.0
printr 0.1 3.6.0
Prize 1.13.1 3.6.0
proBAMr 1.17.1 3.6.0
proBatch 0.99.25 3.6.0
pROC 1.14.0 3.6.0
PROcess 1.59.1 3.6.0
processx 3.3.0 3.6.0
procoil 2.11.0 3.6.0
ProCoNA 1.21.1 3.6.0
prodlim 2018.04.18 3.6.0
proFIA 1.9.1 3.6.0
profileModel 0.6.0 3.6.0
profileScoreDist 1.11.0 3.6.0
profmem 0.5.0 3.6.0
profvis 0.3.5 3.6.0
progeny 1.5.1 3.6.0
progress 1.2.0 3.6.0
projectR 0.99.628 3.6.0
pRoloc 1.23.2 3.6.0
pRolocdata 1.21.0 3.6.0
pRolocGUI 1.17.0 3.6.0
PROMISE 1.35.0 3.6.0
promises 1.0.1 3.6.0
PROPER 1.15.1 3.6.0
PROPS 1.5.0 3.6.0
Prostar 1.15.17 3.6.0
proteinProfiles 1.23.0 3.6.0
ProteomicsAnnotationHubData 1.13.0 3.6.0
ProteoMM 1.1.1 3.6.0
proteoQC 1.19.1 3.6.0
ProtGenerics 1.15.0 3.6.0
protiq 1.2 3.6.0
proto 1.0.0 3.6.0
protolite 1.8 3.6.0
protViz 0.4.0 3.6.0
proxy 0.4-23 3.6.0
prozor 0.2.11 3.6.0
PRROC 1.3.1 3.6.0
pryr 0.1.4 3.6.0
ps 1.3.0 3.6.0
PSCBS 0.64.0 3.6.0
pscl 1.5.2 3.6.0
PSEA 1.17.0 3.6.0
psichomics 1.9.2 3.6.0
PSICQUIC 1.21.0 3.6.0
pspline 1.0-18 3.6.0
psych 1.8.12 3.6.0
psygenet2r 1.15.0 3.6.0
PtH2O2lipids 1.9.0 3.6.0
ptw 1.9-13 3.6.0
puma 3.25.0 3.6.0
pumadata 2.19.0 3.6.0
PureCN 1.13.22 3.6.0
purrr 0.3.2 3.6.0
pvac 1.31.0 3.6.0
pvca 1.23.0 3.6.0
pvclust 2.0-0 3.6.0
Pviz 1.17.0 3.6.0
PWMEnrich 4.19.0 3.6.0
PWMEnrich.Dmelanogaster.background 4.17.0 3.6.0
PWMEnrich.Hsapiens.background 4.17.0 3.6.0
PWMEnrich.Mmusculus.background 4.17.0 3.6.0
pwOmics 1.15.0 3.6.0
qap 0.1-1 3.6.0
qckitfastq 0.99.22 3.6.0
qcmetrics 1.21.1 3.6.0
QDNAseq 1.19.0 3.6.0
qgraph 1.6.1 3.6.0
qlcMatrix 0.9.7 3.6.0
qpcR 1.4-1 3.6.0
qpcrNorm 1.41.0 3.6.0
qpdf 1.1 3.6.0
qpgraph 2.17.0 3.6.0
qPLEXanalyzer 1.1.3 3.6.0
qPLEXdata 1.1.1 3.6.0
qqman 0.1.4 3.6.0
qrqc 1.37.1 3.6.0
qsea 1.9.1 3.6.0
qsmooth 0.99.10 3.6.0
QSutils 1.1.0 3.6.0
qtl 1.44-9 3.6.0
QTLRel 1.1 3.6.0
quadprog 1.5-6 3.6.0
QUALIFIER 1.27.1 3.6.0
quantmod 0.4-14 3.6.0
quantreg 5.38 3.6.0
quantro 1.17.5 3.6.0
quantsmooth 1.49.0 3.6.0
QuartPAC 1.15.0 3.6.0
QuasR 1.23.18 3.6.0
QuaternaryProd 1.17.0 3.6.0
QUBIC 1.11.0 3.6.0
QUBICdata 1.11.0 3.6.0
questionr 0.7.0 3.6.0
qusage 2.17.0 3.6.0
qvalue 2.15.0 3.6.0
R.cache 0.13.0 3.6.0
R.devices 2.16.0 3.6.0
R.filesets 2.12.1 3.6.0
R.huge 0.9.0 3.6.0
R.matlab 3.6.2 3.6.0
R.methodsS3 1.7.1 3.6.0
R.oo 1.22.0 3.6.0
R.rsp 0.43.1 3.6.0
R.utils 2.8.0 3.6.0
r2glmm 0.1.2 3.6.0
R2HTML 2.3.2 3.6.0
R3CPET 1.15.0 3.6.0
r3Cseq 1.29.1 3.6.0
R453Plus1Toolbox 1.33.0 3.6.0
R4RNA 1.11.0 3.6.0
R6 2.4.0 3.6.0
radiant.data 0.9.9 3.6.0
rae230a.db 3.2.3 3.6.0
rae230aprobe 2.18.0 3.6.0
rafalib 1.0.0 3.6.0
RaggedExperiment 1.7.5 3.6.0
rain 1.17.0 3.6.0
rama 1.57.0 3.6.0
ramwas 1.7.2 3.6.0
randomForest 4.6-14 3.6.0
RandomWalkRestartMH 1.3.0 3.6.0
randPack 1.29.0 3.6.0
randtests 1.0 3.6.0
ranger 0.11.2 3.6.0
RankProd 3.9.0 3.6.0
RANKS 1.0 3.6.0
RANN 2.6.1 3.6.0
rapidjsonr 1.1 3.6.0
rappdirs 0.3.1 3.6.0
rapportools 1.0 3.6.0
RareVariantVis 2.11.0 3.6.0
Rariant 1.19.0 3.6.0
rARPACK 0.11-0 3.6.0
raster 2.8-19 3.6.0
rat2302.db 3.2.3 3.6.0
Rattus.norvegicus 1.3.1 3.6.0
rbamtools 2.16.11.2 3.6.0
rBayesianOptimization 1.1.0 3.6.0
RbcBook1 1.51.0 3.6.0
rbenchmark 1.0.0 3.6.0
RBGL 1.59.5 3.6.0
RBioinf 1.43.0 3.6.0
rBiopaxParser 2.23.0 3.6.0
RBM 1.15.0 3.6.0
rbokeh 0.5.0 3.6.0
Rbowtie 1.23.3 3.6.0
Rbowtie2 1.5.0 3.6.0
rbsurv 2.41.0 3.6.0
Rcade 1.25.0 3.6.0
RCAS 1.9.0 3.6.0
RCASPAR 1.29.0 3.6.0
rcdk 3.4.7.1 3.6.0
rcdklibs 2.0 3.6.0
rcellminer 2.5.0 3.6.0
rcellminerData 2.5.0 3.6.0
rCGH 1.13.0 3.6.0
Rchemcpp 2.21.1 3.6.0
rChoiceDialogs 1.0.6 3.6.0
RchyOptimyx 2.23.0 3.6.0
RCircos 1.2.1 3.6.0
RcisTarget 1.3.5 3.6.0
RcisTarget.hg19.motifDBs.cisbpOnly.500bp 1.3.0 3.6.0
rclipboard 0.1.1 3.6.0
RCM 0.99.1 3.6.0
rcmdcheck 1.3.2 3.6.0
RcmdrMisc 2.5-1 3.6.0
RColorBrewer 1.1-2 3.6.0
rcompanion 2.1.1 3.6.0
Rcpi 1.19.2 3.6.0
Rcpp 1.0.1 3.6.0
RcppAnnoy 0.0.11 3.6.0
RcppArmadillo 0.9.300.2.0 3.6.0
RcppClassic 0.9.11 3.6.0
RcppEigen 0.3.3.5.0 3.6.0
RcppGSL 0.3.6 3.6.0
RcppHNSW 0.1.0 3.6.0
RcppNumerical 0.3-2 3.6.0
RcppParallel 4.4.2 3.6.0
RcppProgress 0.4.1 3.6.0
RcppRoll 0.3.0 3.6.0
RcppZiggurat 0.1.5 3.6.0
Rcsdp 0.1.55 3.6.0
RCurl 1.95-4.12 3.6.0
RCy3 2.3.12 3.6.0
RCyjs 2.5.12 3.6.0
rda 1.0.2-2.1 3.6.0
RDAVIDWebService 1.21.0 3.6.0
rDGIdb 1.9.0 3.6.0
Rdisop 1.43.3 3.6.0
Rdpack 0.10-1 3.6.0
rdrop2 0.8.1 3.6.0
RDRToolbox 1.33.1 3.6.0
reactome.db 1.66.0 3.6.0
ReactomePA 1.27.0 3.6.0
readat 1.9.0 3.6.0
readbitmap 0.1.5 3.6.0
ReadqPCR 1.29.0 3.6.0
readr 1.3.1 3.6.0
readstata13 0.9.2 3.6.0
readxl 1.3.1 3.6.0
reb 1.61.0 3.6.0
REBET 1.1.0 3.6.0
rebus 0.1-3 3.6.0
rebus.base 0.0-3 3.6.0
rebus.datetimes 0.0-1 3.6.0
rebus.numbers 0.0-1 3.6.0
rebus.unicode 0.0-2 3.6.0
recipes 0.1.5 3.6.0
RecordLinkage 0.4-11 3.6.0
recount 1.9.2 3.6.0
recoup 1.11.1 3.6.0
RedeR 1.31.0 3.6.0
REDseq 1.29.0 3.6.0
RefFreeEWAS 2.2 3.6.0
refGenome 1.7.3.1 3.6.0
RefManageR 1.2.12 3.6.0
RefNet 1.19.0 3.6.0
RefPlus 1.53.0 3.6.0
regioneR 1.15.2 3.6.0
regionReport 1.17.1 3.6.0
registry 0.5-1 3.6.0
regress 1.3-15 3.6.0
regsplice 1.9.1 3.6.0
relations 0.6-8 3.6.0
reldist 1.6-6 3.6.0
relimp 1.0-5 3.6.0
rematch 1.0.1 3.6.0
rematch2 2.0.1 3.6.0
remotes 2.0.2 3.6.0
REMP 1.7.1 3.6.0
rentrez 1.2.1 3.6.0
ReorderCluster 1.0 3.6.0
Repitools 1.29.0 3.6.0
repmis 0.5 3.6.0
repo 2.1.3 3.6.0
ReportingTools 2.23.1 3.6.0
reportr 1.3.0 3.6.0
reprex 0.2.1 3.6.0
ReQON 1.29.0 3.6.0
reshape 0.8.8 3.6.0
reshape2 1.4.3 3.6.0
restfulSE 1.5.1 3.6.0
restfulSEData 1.5.0 3.6.0
reticulate 1.11.1 3.6.0
reutils 0.2.3 3.6.0
rex 1.1.2 3.6.0
rexposome 1.5.0 3.6.0
Rfast 1.9.3 3.6.0
RFOC 3.4-6 3.6.0
RforProteomics 1.21.0 3.6.0
rfPermute 2.1.6 3.6.0
rfPred 1.21.0 3.6.0
rGADEM 2.31.0 3.6.0
RGalaxy 1.27.0 3.6.0
rgeos 0.4-2 3.6.0
rgexf 0.15.3 3.6.0
Rgin 1.3.1 3.6.0
rgl 0.100.19 3.6.0
RGMQL 1.3.0 3.6.0
RGMQLlib 1.3.0 3.6.0
RGraph2js 1.11.0 3.6.0
Rgraphviz 2.27.0 3.6.0
rGREAT 1.15.1 3.6.0
RGSEA 1.17.0 3.6.0
rgsepd 1.15.16 3.6.0
RGtk2 2.20.36 3.6.0
rhandsontable 0.3.7 3.6.0
rhdf5 2.27.15 3.6.0
rhdf5client 1.5.1 3.6.0
Rhdf5lib 1.5.4 3.6.0
Rhisat2 0.99.6 3.6.0
RhpcBLASctl 0.18-205 3.6.0
Rhtslib 1.15.5 3.6.0
rHVDM 1.49.0 3.6.0
RiboProfiling 1.13.0 3.6.0
riboSeqR 1.17.0 3.6.0
RImmPort 1.11.0 3.6.0
Ringo 1.47.0 3.6.0
rintrojs 0.2.0 3.6.0
rio 0.5.16 3.6.0
rioja 0.9-15.2 3.6.0
RIPSeeker 1.23.0 3.6.0
Risa 1.25.0 3.6.0
RISmed 2.1.7 3.6.0
RITAN 1.7.0 3.6.0
RITANdata 1.7.0 3.6.0
RIVER 1.7.0 3.6.0
rjags 4-8 3.6.0
rJava 0.9-11 3.6.0
RJMCMCNucleosomes 1.7.0 3.6.0
rjson 0.2.20 3.6.0
RJSONIO 1.3-1.1 3.6.0
Rlab 2.15.1 3.6.0
Rlabkey 2.2.5 3.6.0
rlang 0.3.4 3.6.0
rlecuyer 0.3-4 3.6.0
rlist 0.4.6.1 3.6.0
RLMM 1.45.0 3.6.0
Rmagpie 1.39.0 3.6.0
RMallow 1.0 3.6.0
RMariaDB 1.0.6 3.6.0
rmarkdown 1.12 3.6.0
RMassBank 2.11.2 3.6.0
RMassBankData 1.21.0 3.6.0
rMAT 3.33.1 3.6.0
rmelting 0.99.7 3.6.0
rmeta 3.0 3.6.0
RmiR 1.39.0 3.6.0
RmiR.Hs.miRNA 1.0.7 3.6.0
Rmisc 1.5 3.6.0
Rmixmod 2.1.2.2 3.6.0
Rmmquant 1.1.2 3.6.0
Rmpfr 0.7-2 3.6.0
Rmpi 0.6-9 3.6.0
rms 5.1-3 3.6.0
RMTstat 0.3 3.6.0
rmutil 1.1.3 3.6.0
RMySQL 0.10.17 3.5.2
RNAdecay 1.3.1 3.6.0
RNAinteract 1.31.1 3.6.0
RNAither 2.31.1 3.6.0
RNAprobR 1.15.0 3.6.0
rnaseqcomp 1.13.0 3.6.0
RNAseqData.HNRNPC.bam.chr14 0.21.0 3.6.0
rnaSeqMap 2.41.1 3.6.0
RNASeqPower 1.23.1 3.6.0
RNASeqR 1.1.3 3.6.0
RNASeqRData 1.1.0 3.6.0
RnaSeqSampleSize 1.15.2 3.6.0
RnaSeqSampleSizeData 1.15.0 3.6.0
RnBeads 2.1.0 3.6.0
RnBeads.hg19 1.15.0 3.6.0
rncl 0.8.3 3.6.0
RNeXML 2.3.0 3.6.0
rngtools 1.3.1 3.6.0
RNifti 0.10.0 3.6.0
Rnits 1.17.2 3.6.0
roar 1.19.0 3.6.0
robCompositions 2.0.10 3.6.0
robust 0.4-18 3.6.0
robustbase 0.93-4 3.6.0
RobustRankAggreg 1.1 3.6.0
ROC 1.59.0 3.6.0
ROCR 1.0-7 3.6.0
Roleswitch 1.21.0 3.6.0
rols 2.11.1 3.6.0
ROntoTools 2.11.0 3.6.0
Rook 1.1-1 3.6.0
rootSolve 1.7 3.6.0
ropls 1.15.26 3.6.0
ROTS 1.11.2 3.6.0
roxygen2 6.1.1 3.6.0
RPA 1.39.0 3.6.0
rpart 4.1-13 3.6.0
rpart.plot 3.0.6 3.6.0
rphast 1.6.9 3.6.0
RPMG 2.2-2 3.6.0
RPMM 1.25 3.6.0
RPostgreSQL 0.6-2 3.6.0
rPref 1.3 3.6.0
rprojroot 1.3-2 3.6.0
RProtoBufLib 1.5.0 3.6.0
RpsiXML 2.25.0 3.6.0
rpx 1.19.1 3.6.0
Rqc 1.17.3 3.6.0
rqt 1.9.0 3.6.0
rqubic 1.29.0 3.6.0
rrcov 1.4-7 3.6.0
rRDP 1.17.0 3.6.0
rRDPData 1.3.0 3.6.0
RRHO 1.23.0 3.6.0
Rsamtools 1.99.5 3.6.0
rsbml 2.41.1 3.6.0
rsconnect 0.8.13 3.6.0
rScudo 0.99.6 3.6.0
RSEIS 3.8-3 3.6.0
RSeqAn 1.3.2 3.6.0
Rserve 1.7-3 3.6.0
rSFFreader 0.31.0 3.6.0
rsm 2.10 3.6.0
RSNNS 0.4-11 3.6.0
rsnps 0.3.0 3.6.0
Rsolnp 1.16 3.6.0
RSpectra 0.14-0 3.6.0
RSQLite 2.1.1 3.6.0
rstan 2.18.2 3.6.0
rstantools 1.5.1 3.6.0
rstudioapi 0.10 3.6.0
Rsubread 1.33.33 3.6.0
rsvd 1.0.0 3.6.0
rsvg 1.3 3.5.0
RSVGTipsDevice 1.0-7 3.6.0
RSVSim 1.23.1 3.6.0
rTANDEM 1.23.1 3.6.0
RTCA 1.35.1 3.6.0
RTCGA 1.13.1 3.6.0
RTCGA.clinical 20151101.13.0 3.6.0
RTCGA.CNV 1.11.0 3.6.0
RTCGA.methylation 1.11.0 3.6.0
RTCGA.miRNASeq 1.11.0 3.6.0
RTCGA.mRNA 1.11.0 3.6.0
RTCGA.mutations 20151101.13.0 3.6.0
RTCGA.PANCAN12 1.11.0 3.6.0
RTCGA.rnaseq 20151101.13.0 3.6.0
RTCGA.RPPA 1.11.0 3.6.0
RTCGAToolbox 2.13.9 3.6.0
rTensor 1.4 3.6.0
rtfbs 0.3.9 3.6.0
RTN 2.7.3 3.6.0
RTNduals 1.7.2 3.6.0
RTNsurvival 1.7.4 3.6.0
RTopper 1.29.0 3.6.0
rtracklayer 1.43.3 3.6.0
Rtreemix 1.45.0 3.6.0
rTRM 1.21.0 3.6.0
rTRMui 1.21.0 3.6.0
Rtsne 0.15 3.6.0
Rttf2pt1 1.3.7 3.6.0
runibic 1.5.0 3.6.0
RUnit 0.4.32 3.6.0
ruv 0.9.7 3.6.0
RUVcorr 1.15.0 3.6.0
RUVnormalize 1.17.0 3.6.0
RUVnormalizeData 1.3.0 3.6.0
RUVSeq 1.17.1 3.6.0
rvcheck 0.1.3 3.6.0
rvest 0.3.2 3.6.0
RVS 1.5.4 3.6.0
Rwave 2.4-8 3.6.0
RWeka 0.4-40 3.6.0
RWekajars 3.9.3-1 3.6.0
rWikiPathways 1.3.4 3.6.0
s4vd 1.1-1 3.6.0
S4Vectors 0.21.22 3.6.0
safe 3.23.0 3.6.0
sagenhaft 1.53.0 3.6.0
SAGx 1.57.0 3.6.0
samExploreR 1.7.1 3.6.0
sampleClassifier 1.7.1 3.6.0
sampleClassifierData 1.7.0 3.6.0
sampling 2.8 3.6.0
samr 3.0 3.6.0
SamSPECTRAL 1.37.4 3.6.0
sandwich 2.5-1 3.6.0
sangerseqR 1.19.0 3.6.0
SANTA 2.21.0 3.6.0
sapFinder 1.21.1 3.6.0
savR 1.21.0 3.6.0
SBMLR 1.79.0 3.6.0
SC3 1.11.1 3.6.0
Scale4C 1.5.0 3.6.0
scales 1.0.0 3.6.0
SCAN.UPC 2.25.1 3.6.0
scater 1.11.15 3.6.0
scatterpie 0.1.2 3.6.0
scatterplot3d 0.3-41 3.6.0
SCBN 1.1.1 3.6.0
scDD 1.7.3 3.6.0
scde 2.11.1 3.6.0
scds 0.99.4 3.6.0
scFeatureFilter 1.3.1 3.6.0
scfind 1.5.1 3.6.0
ScISI 1.55.0 3.6.0
SCLCBam 1.15.0 3.6.0
scmap 1.5.1 3.6.0
scmeth 1.3.3 3.6.0
SCnorm 1.5.7 3.6.0
scone 1.7.1 3.6.0
Sconify 1.3.1 3.6.0
scoreInvHap 1.5.0 3.6.0
scPipe 1.5.1 3.6.0
scran 1.11.25 3.6.0
scrime 1.3.5 3.6.0
scRNAseq 1.9.0 3.6.0
scruff 1.1.6 3.6.0
scsR 1.19.0 3.6.0
scTensor 0.99.22 3.6.0
sda 1.3.7 3.6.0
SDAMS 1.3.1 3.6.0
SDMTools 1.1-221 3.6.0
segmented 0.5-3.0 3.6.0
segmentSeq 2.17.0 3.6.0
selectr 0.4-1 3.6.0
SELEX 1.15.0 3.6.0
sem 3.1-9 3.6.0
SemDist 1.17.0 3.6.0
semisup 1.7.1 3.6.0
sendmailR 1.2-1 3.6.0
SEPA 1.13.0 3.6.0
SEPIRA 1.3.0 3.6.0
seq2pathway 1.15.0 3.6.0
seq2pathway.data 1.15.0 3.6.0
SeqArray 1.23.9 3.6.0
seqbias 1.31.1 3.6.0
seqCAT 1.5.3 3.6.0
seqCNA 1.29.0 3.6.0
seqCNA.annot 1.19.0 3.6.0
seqcombo 1.5.1 3.6.0
SeqGSEA 1.23.4 3.6.0
seqinr 3.4-5 3.6.0
seqLogo 1.49.0 3.6.0
seqPattern 1.15.0 3.6.0
seqplots 1.21.1 3.6.0
seqsetvis 1.3.6 3.6.0
SeqSQC 1.5.0 3.6.0
seqTools 1.17.0 3.6.0
SeqVarTools 1.21.3 3.6.0
seriation 1.2-3 3.6.0
serumStimulation 1.19.0 3.6.0
servr 0.13 3.6.0
sesame 1.1.15 3.6.0
sesameData 1.1.0 3.6.0
sessioninfo 1.1.1 3.6.0
setRNG 2013.9-1 3.6.0
sets 1.0-18 3.6.0
settings 0.2.4 3.6.0
Seurat 2.3.4 3.6.0
sevenbridges 1.13.5 3.6.0
sevenC 1.3.0 3.6.0
sf 0.7-3 3.5.2
sfsmisc 1.1-3 3.6.0
sgeostat 1.0-27 3.6.0
SGSeq 1.17.2 3.6.0
shades 1.3.1 3.6.0
shape 1.4.4 3.6.0
shiny 1.3.0 3.6.0
shinyAce 0.3.3 3.6.0
shinyalert 1.0 3.6.0
shinyBS 0.61 3.6.0
shinycssloaders 0.2.0 3.6.0
shinydashboard 0.7.1 3.6.0
shinyFiles 0.7.2 3.6.0
shinyjqui 0.3.2 3.6.0
shinyjs 1.0 3.6.0
shinyMethyl 1.19.0 3.6.0
shinyMethylData 1.3.0 3.6.0
shinyTANDEM 1.21.1 3.6.0
shinythemes 1.1.2 3.6.0
shinyTree 0.2.6 3.6.0
shinyWidgets 0.4.8 3.6.0
ShortRead 1.41.0 3.6.0
showtext 0.6 3.6.0
showtextdb 2.0 3.6.0
SIAMCAT 1.3.1 3.6.0
SICtools 1.13.0 3.6.0
SIFT.Hsapiens.dbSNP132 1.0.2 3.6.0
SIFT.Hsapiens.dbSNP137 1.0.0 3.6.0
sigaR 1.31.0 3.6.0
SigCheck 2.15.0 3.6.0
sigclust 1.1.0 3.6.0
sigFeature 1.1.0 3.6.0
SigFuge 1.21.0 3.6.0
siggenes 1.57.4 3.6.0
sights 1.9.1 3.6.0
signal 0.7-6 3.6.0
signeR 1.9.2 3.6.0
signet 1.3.1 3.6.0
sigPathway 1.51.0 3.6.0
sigsquared 1.15.0 3.6.0
SIM 1.53.0 3.6.0
SIMAT 1.15.1 3.6.0
SimBindProfiles 1.21.0 3.6.0
SIMD 1.1.1 3.6.0
similaRpeak 1.15.0 3.6.0
SIMLR 1.9.1 3.6.0
simpIntLists 1.19.0 3.6.0
simpleaffy 2.59.0 3.6.0
simulatorZ 1.17.0 3.6.0
sincell 1.15.1 3.6.0
SingleCellExperiment 1.5.2 3.6.0
singleCellTK 1.3.7 3.6.0
singscore 1.3.4 3.6.0
SISPA 1.13.0 3.6.0
sitePath 0.99.24 3.6.0
sitmo 2.0.1 3.6.0
sizepower 1.53.0 3.6.0
skewr 1.15.0 3.6.0
skmeans 0.2-11 3.6.0
slalom 1.5.1 3.6.0
slam 0.1-45 3.6.0
SLGI 1.43.0 3.6.0
slingshot 1.1.2 3.6.0
slinky 1.1.1 3.6.0
SLqPCR 1.49.0 3.6.0
sm 2.2-5.6 3.6.0
SMAD 0.99.8 3.6.0
SMAP 1.47.0 3.6.0
SmartSVA 0.1.3 3.6.0
smatr 3.4-8 3.6.0
sme 1.0.2 3.6.0
SMITE 1.11.1 3.6.0
smoother 1.1 3.6.0
smoothie 1.0-1 3.6.0
smoothmest 0.1-2 3.6.0
SmoothWin 2.0.0 3.6.0
SMVar 1.3.3 3.6.0
sna 2.4 3.6.0
SNAGEE 1.23.0 3.6.0
SNAGEEdata 1.19.0 3.6.0
snapCGH 1.53.0 3.6.0
SNFtool 2.3.0 3.6.0
snm 1.31.0 3.6.0
snow 0.4-3 3.6.0
SnowballC 0.6.0 3.6.0
snowfall 1.84-6.1 3.6.0
SNPchip 2.29.0 3.6.0
SNPediaR 1.9.0 3.6.0
SNPhood 1.13.0 3.6.0
SNPhoodData 1.13.0 3.6.0
SNPlocs.Hsapiens.dbSNP.20101109 0.99.7 3.6.0
SNPlocs.Hsapiens.dbSNP.20120608 0.99.11 3.6.0
SNPlocs.Hsapiens.dbSNP141.GRCh38 0.99.11 3.6.0
SNPlocs.Hsapiens.dbSNP142.GRCh37 0.99.5 3.6.0
SNPlocs.Hsapiens.dbSNP144.GRCh37 0.99.20 3.6.0
SNPlocs.Hsapiens.dbSNP144.GRCh38 0.99.20 3.6.0
SNPlocs.Hsapiens.dbSNP150.GRCh38 0.99.20 3.6.0
SNPRelate 1.17.2 3.6.0
snpStats 1.33.0 3.6.0
softImpute 1.4 3.6.0
soGGi 1.15.1 3.6.0
som 0.3-5.1 3.6.0
SomaticCancerAlterations 1.19.0 3.6.0
SomaticSignatures 2.19.1 3.6.0
SOMbrero 1.2-4 3.6.0
sonicLength 1.4.6 3.6.0
sourcetools 0.1.7 3.6.0
sp 1.3-1 3.6.0
SpacePAC 1.21.0 3.6.0
spam 2.2-2 3.6.0
SPARQL 1.16 3.6.0
sparsebn 0.0.5 3.6.0
sparsebnUtils 0.0.6 3.6.0
SparseDC 0.1.17 3.6.0
sparseDOSSA 1.7.1 3.6.0
sparseinv 0.1.3 3.6.0
SparseM 1.77 3.6.0
sparseMVN 0.2.1.1 3.6.0
sparsenetgls 1.1.1 3.6.0
SparseSignatures 1.3.0 3.6.0
sparsesvd 0.1-4 3.6.0
spatial 7.3-11 3.6.0
SpatialExtremes 2.0-7 3.6.0
spatstat 1.59-0 3.6.0
spatstat.data 1.4-0 3.6.0
spatstat.utils 1.13-0 3.6.0
spData 0.3.0 3.6.0
spdep 1.1-2 3.6.0
speaq 2.5.0 3.6.0
specL 1.17.3 3.6.0
SpeCond 1.37.0 3.6.0
SpectralTAD 0.99.14 3.6.0
speedglm 0.3-2 3.6.0
spelling 2.1 3.6.0
SPEM 1.23.0 3.6.0
SPIA 2.35.0 3.6.0
SpidermiR 1.13.3 3.6.0
SpikeIn 1.25.0 3.6.0
SpikeInSubset 1.23.0 3.6.0
spikeLI 2.43.0 3.6.0
spkTools 1.39.0 3.6.0
splancs 2.01-40 3.6.0
splatter 1.7.2 3.6.0
splicegear 1.55.0 3.6.0
spliceSites 1.31.0 3.6.0
SplicingGraphs 1.23.3 3.6.0
splines 3.6.0 3.6.0
splineTimeR 1.11.0 3.6.0
SPLINTER 1.9.1 3.6.0
splitstackshape 1.4.6 3.6.0
splots 1.49.0 3.6.0
splus2R 1.2-2 3.6.0
SPONGE 1.5.0 3.6.0
spotSegmentation 1.57.0 3.6.0
spp 1.15.5 3.6.0
sqldf 0.4-11 3.6.0
SQN 1.0.5 3.6.0
SQUADD 1.33.0 3.6.0
SQUAREM 2017.10-1 3.6.0
squash 1.0.8 3.6.0
SRAdb 1.45.0 3.6.0
sRAP 1.23.0 3.6.0
SRGnet 1.9.0 3.6.0
srnadiff 1.3.1 3.6.0
sROC 0.1-2 3.6.0
sscore 1.55.0 3.6.0
sscu 2.13.0 3.6.0
sSeq 1.21.1 3.6.0
ssize 1.57.0 3.6.0
SSPA 2.23.1 3.6.0
ssviz 1.17.1 3.6.0
st 1.2.5 3.6.0
stable 1.1.4 3.6.0
stabledist 0.7-1 3.6.0
stabs 0.6-3 3.6.0
stageR 1.5.1 3.6.0
STAN 2.11.0 3.6.0
StanHeaders 2.18.1 3.6.0
staRank 1.25.1 3.6.0
StarBioTrek 1.9.1 3.6.0
Starr 1.39.0 3.6.0
startupmsg 0.9.6 3.6.0
STATegRa 1.19.0 3.6.0
statip 0.2.0 3.6.0
statmod 1.4.30 3.6.0
statnet.common 4.2.0 3.6.0
stats 3.6.0 3.6.0
stats4 3.6.0 3.6.0
statTarget 1.13.7 3.6.0
stemHypoxia 1.19.0 3.6.0
stepNorm 1.55.0 3.6.0
stjudem 1.23.0 3.6.0
strandCheckR 1.1.1 3.6.0
Streamer 1.29.1 3.6.0
STRINGdb 1.23.0 3.6.0
stringdist 0.9.5.1 3.6.0
stringi 1.4.3 3.6.0
stringr 1.4.0 3.6.0
STROMA4 1.7.1 3.6.0
strucchange 1.5-1 3.6.0
Structstrings 0.99.9 3.6.0
subSeq 1.13.1 3.6.0
subspace 1.0.4 3.6.0
SummarizedBenchmark 2.1.1 3.6.0
SummarizedExperiment 1.13.0 3.6.0
superheat 0.1.0 3.6.0
SuperLearner 2.0-24 3.6.0
superpc 1.09 3.6.0
SuppDists 1.1-9.4 3.6.0
supraHex 1.21.1 3.6.0
survcomp 1.33.0 3.6.0
survey 3.35-1 3.6.0
survival 2.44-1.1 3.6.0
survivalROC 1.0.3 3.6.0
survminer 0.4.3 3.6.0
survMisc 0.5.5 3.6.0
survtype 0.99.10 3.6.0
Sushi 1.21.0 3.6.0
sva 3.31.1 3.6.0
SVAPLSseq 1.9.1 3.6.0
svd 0.4.3 3.6.0
svDialogs 1.0.0 3.6.0
svglite 1.2.1 3.5.0
svGUI 1.0.0 3.6.0
SVM2CRM 1.15.0 3.6.0
SVM2CRMdata 1.15.0 3.6.0
svMisc 1.1.0 3.6.0
SWATH2stats 1.13.5 3.6.0
SwathXtend 2.5.0 3.6.0
swfdr 1.9.0 3.6.0
swfscMisc 1.2 3.6.0
SwimR 1.21.0 3.6.0
switchBox 1.19.0 3.6.0
switchde 1.9.1 3.6.0
sybil 2.1.5 3.6.0
synapter 2.7.1 3.6.0
synapterdata 1.21.0 3.6.0
synergyfinder 1.9.0 3.6.0
synlet 1.13.1 3.6.0
sys 3.1 3.6.0
sysfonts 0.8 3.6.0
systemPipeR 1.17.6 3.6.0
systemPipeRdata 1.11.2 3.6.0
tagcloud 0.6 3.6.0
targetscan.Hs.eg.db 0.6.1 3.6.0
targetscan.Mm.eg.db 0.6.1 3.6.0
TargetScore 1.21.0 3.6.0
TargetScoreData 1.19.0 3.6.0
TargetSearch 1.39.2 3.6.0
TargetSearchData 1.21.0 3.6.0
TarSeqQC 1.13.1 3.6.0
TBX20BamSubset 1.19.0 3.6.0
TCC 1.23.2 3.6.0
TCGAbiolinks 2.11.5 3.6.0
TCGAbiolinksGUI 1.9.2 3.6.0
TCGAbiolinksGUI.data 1.3.0 3.6.0
TCGAMethylation450k 1.19.0 3.6.0
TCGAutils 1.3.33 3.6.0
tcltk 3.6.0 3.6.0
tcltk2 1.2-11 3.6.0
tcR 2.2.4 3.6.0
TCseq 1.7.1 3.6.0
TDARACNE 1.33.0 3.6.0
TeachingDemos 2.10 3.6.0
tensor 1.5 3.6.0
tensorA 0.36.1 3.6.0
TENxBrainData 1.3.0 3.6.0
tenXplore 1.5.1 3.6.0
TEQC 4.5.0 3.6.0
ternarynet 1.27.0 3.6.0
test3cdf 2.18.0 3.6.0
tester 0.1.7 3.6.0
testthat 2.0.1 3.6.0
TFARM 1.5.0 3.6.0
TFBSTools 1.21.2 3.6.0
TFEA.ChIP 1.3.5 3.6.0
TFHAZ 1.5.0 3.6.0
TFMPvalue 0.0.8 3.6.0
TFutils 1.3.4 3.6.0
TH.data 1.0-10 3.6.0
threejs 0.3.1 3.6.0
tibble 2.1.1 3.6.0
tidyr 0.8.3 3.6.0
tidyselect 0.2.5 3.6.0
tidytree 0.2.4 3.6.0
tidyverse 1.2.1 3.6.0
tiff 0.1-5 3.6.0
tigre 1.37.0 3.6.0
tilingArray 1.61.0 3.6.0
timecourse 1.55.0 3.6.0
timeDate 3043.102 3.6.0
timescape 1.7.0 3.6.0
timeSeries 3042.102 3.6.0
TimeSeriesExperiment 1.1.4 3.6.0
timsac 1.3.6 3.6.0
TIN 1.15.0 3.6.0
tinytex 0.11 3.6.0
TissueEnrich 1.3.1 3.6.0
TitanCNA 1.21.2 3.6.0
tkrgl 0.8 3.6.0
tkrplot 0.0-24 3.6.0
tkWidgets 1.61.0 3.6.0
tm 0.7-6 3.6.0
TMB 1.7.15 3.6.0
TMixClust 1.5.0 3.6.0
tmle 1.3.0-2 3.6.0
tmvtnorm 1.4-10 3.6.0
TNBC.CMS 0.99.10 3.6.0
TnT 1.5.0 3.6.0
tofsims 1.11.1 3.6.0
tofsimsData 1.11.0 3.6.0
tools 3.6.0 3.6.0
ToPASeq 1.17.1 3.6.0
topconfects 0.99.5 3.6.0
topdownr 1.5.6 3.6.0
topdownrdata 1.5.0 3.6.0
topGO 2.35.0 3.6.0
topicmodels 0.2-8 3.6.0
topologyGSA 1.4.6 3.6.0
TPP 3.11.1 3.6.0
tracer 1.0.0 3.6.0
tracktables 1.17.0 3.6.0
trackViewer 1.19.28 3.6.0
tractor.base 3.3.0 3.6.0
transcriptogramer 1.5.6 3.6.0
transcriptR 1.11.1 3.6.0
transite 1.1.2 3.6.0
tRanslatome 1.21.0 3.6.0
transport 0.11-0 3.6.0
TransView 1.27.2 3.6.0
traseR 1.13.0 3.6.0
tree 1.0-40 3.6.0
treeio 1.7.5 3.6.0
trena 1.5.8 3.6.0
Trendy 1.5.6 3.6.0
triebeard 0.3.0 3.6.0
triform 1.25.1 3.6.0
trigger 1.29.0 3.6.0
trimcluster 0.1-2.1 3.6.0
trio 3.21.9 3.6.0
triplex 1.23.0 3.6.0
tRNA 1.1.2 3.6.0
tRNAdbImport 1.1.1 3.6.0
tRNAscanImport 1.3.2 3.6.0
TRONCO 2.15.2 3.6.0
truncdist 1.0-2 3.6.0
truncnorm 1.0-8 3.6.0
trust 0.1-7 3.6.0
TSCAN 1.21.0 3.6.0
tseries 0.10-46 3.6.0
tsne 0.1-3 3.6.0
TSP 1.1-6 3.6.0
tspair 1.41.0 3.6.0
TSRchitect 1.9.0 3.6.0
TSSi 1.29.1 3.6.0
TTMap 1.5.0 3.6.0
TTR 0.23-4 3.6.0
TurboNorm 1.31.0 3.6.0
turner 0.1.7 3.6.0
TVTB 1.9.2 3.6.0
tweeDEseq 1.29.1 3.6.0
tweeDEseqCountData 1.21.0 3.6.0
tweenr 1.0.1 3.6.0
twilight 1.59.0 3.6.0
twoddpcr 1.7.0 3.6.0
TxDb.Athaliana.BioMart.plantsmart22 3.0.1 3.6.0
TxDb.Celegans.UCSC.ce6.ensGene 3.2.2 3.6.0
TxDb.Dmelanogaster.UCSC.dm3.ensGene 3.2.2 3.6.0
TxDb.Dmelanogaster.UCSC.dm6.ensGene 3.4.4 3.6.0
TxDb.Drerio.UCSC.danRer10.refGene 3.4.4 3.6.0
TxDb.Ggallus.UCSC.galGal5.refGene 3.4.4 3.6.0
TxDb.Hsapiens.UCSC.hg18.knownGene 3.2.2 3.6.0
TxDb.Hsapiens.UCSC.hg19.knownGene 3.2.2 3.6.0
TxDb.Hsapiens.UCSC.hg19.lincRNAsTranscripts 3.2.2 3.6.0
TxDb.Hsapiens.UCSC.hg38.knownGene 3.4.0 3.6.0
TxDb.Mmusculus.UCSC.mm10.ensGene 3.4.0 3.6.0
TxDb.Mmusculus.UCSC.mm10.knownGene 3.4.4 3.6.0
TxDb.Mmusculus.UCSC.mm9.knownGene 3.2.2 3.6.0
TxDb.Rnorvegicus.UCSC.rn4.ensGene 3.2.2 3.6.0
TxDb.Rnorvegicus.UCSC.rn5.refGene 3.4.4 3.6.0
TxDb.Rnorvegicus.UCSC.rn6.refGene 3.4.4 3.6.0
tximeta 1.1.18 3.6.0
tximport 1.11.7 3.6.0
tximportData 1.11.3 3.6.0
TxRegInfra 1.3.6 3.6.0
TypeInfo 1.49.0 3.6.0
ucminf 1.1-4 3.6.0
Ularcirc 1.1.2 3.6.0
umap 0.2.0.0 3.6.0
UNDO 1.25.0 3.6.0
unifiedWMWqPCR 1.19.0 3.6.0
UniProt.ws 2.23.0 3.6.0
uniqtag 1.0 3.6.0
Uniquorn 2.3.5 3.6.0
units 0.6-2 3.6.0
universalmotif 1.1.66 3.6.0
UpSetR 1.3.3 3.6.0
urca 1.3-0 3.6.0
urltools 1.7.2 3.6.0
usethis 1.5.0 3.6.0
uSORT 1.9.1 3.6.0
utf8 1.1.4 3.6.0
utils 3.6.0 3.6.0
uuid 0.1-2 3.6.0
uwot 0.1.3 3.6.0
VanillaICE 1.45.0 3.6.0
varhandle 2.0.3 3.6.0
variancePartition 1.13.6 3.6.0
VariantAnnotation 1.29.25 3.6.0
VariantFiltering 1.19.0 3.6.0
VariantTools 1.25.1 3.6.0
varSelRF 0.7-8 3.6.0
vbmp 1.51.0 3.6.0
vbsr 0.0.5 3.6.0
vcd 1.4-4 3.6.0
VCFArray 0.99.18 3.6.0
vcfR 1.8.0 3.6.0
vdiffr 0.3.0 3.5.2
Vega 1.31.0 3.6.0
VegaMC 3.21.0 3.6.0
vegan 2.5-4 3.6.0
venn 1.7 3.6.0
VennDiagram 1.6.20 3.6.0
venneuler 1.1-0 3.6.0
verification 1.42 3.6.0
VGAM 1.1-1 3.6.0
vidger 1.3.1 3.6.0
VIM 4.8.0 3.6.0
vioplot 0.3.0 3.6.0
viper 1.17.1 3.6.0
vipor 0.4.5 3.6.0
viridis 0.5.1 3.6.0
viridisLite 0.3.0 3.6.0
visNetwork 2.0.6 3.6.0
vsn 3.51.0 3.6.0
vtpnet 0.23.0 3.6.0
vulcan 1.5.0 3.6.0
vulcandata 1.5.0 3.6.0
waffle 0.7.0 3.6.0
wateRmelon 1.27.0 3.6.0
wavClusteR 2.17.1 3.6.0
waveslim 1.7.5.1 3.6.0
wavethresh 4.6.8 3.6.0
waveTiling 1.25.0 3.6.0
waveTilingData 1.19.0 3.6.0
weaver 1.49.0 3.6.0
webbioc 1.55.0 3.6.0
webshot 0.5.1 3.6.0
webutils 0.6 3.6.0
WES.1KG.WUGSC 1.15.0 3.6.0
wesanderson 0.3.6 3.6.0
WGCNA 1.66 3.6.0
wheatmap 0.1.0 3.6.0
whisker 0.3-2 3.6.0
widgetTools 1.61.0 3.6.0
wiggleplotr 1.7.1 3.6.0
withr 2.1.2 3.6.0
wmtsa 2.0-3 3.6.0
wordcloud 2.6 3.6.0
Wrench 1.1.0 3.6.0
writexl 1.1 3.6.0
WriteXLS 4.1.0 3.6.0
XBSeq 1.15.1 3.6.0
xcms 3.5.1 3.6.0
XDE 2.29.0 3.6.0
Xeva 0.99.19 3.6.0
xfun 0.6 3.6.0
xgboost 0.82.1 3.6.0
XGR 1.1.5 3.6.0
XINA 1.1.1 3.6.0
xlsx 0.6.1 3.6.0
xlsxjars 0.6.1 3.6.0
xmapbridge 1.41.0 3.6.0
Xmisc 0.2.1 3.6.0
XML 3.98-1.19 3.6.0
xml2 1.2.0 3.6.0
xopen 1.0.0 3.6.0
xps 1.43.0 3.6.0
xtable 1.8-3 3.6.0
XtraSNPlocs.Hsapiens.dbSNP144.GRCh37 0.99.12 3.6.0
XtraSNPlocs.Hsapiens.dbSNP144.GRCh38 0.99.12 3.6.0
xts 0.11-2 3.6.0
XVector 0.23.2 3.6.0
yaml 2.2.0 3.6.0
yamss 1.9.1 3.6.0
YAPSA 1.9.1 3.6.0
yaqcaffy 1.43.0 3.6.0
yarn 1.9.0 3.6.0
yeast2.db 3.2.3 3.6.0
yeastCC 1.23.0 3.6.0
yeastExpData 0.29.0 3.6.0
yeastNagalakshmi 1.19.0 3.6.0
yeastRNASeq 0.21.0 3.6.0
zCompositions 1.2.0 3.6.0
zeallot 0.1.0 3.6.0
zebrafishRNASeq 1.3.0 3.6.0
zFPKM 1.5.1 3.6.0
zinbwave 1.5.2 3.6.0
zip 2.0.1 3.6.0
zlibbioc 1.29.0 3.6.0
zoo 1.8-5 3.6.0