This page was generated on 2019-04-09 11:21:08 -0400 (Tue, 09 Apr 2019).
scruff 1.1.6 Zhe Wang
| Snapshot Date: 2019-04-08 17:01:18 -0400 (Mon, 08 Apr 2019) |
| URL: https://git.bioconductor.org/packages/scruff |
| Branch: master |
| Last Commit: ed57010 |
| Last Changed Date: 2019-04-06 21:52:10 -0400 (Sat, 06 Apr 2019) |
| malbec2 | Linux (Ubuntu 18.04.2 LTS) / x86_64 | OK | ERROR | skipped | | |
| tokay2 | Windows Server 2012 R2 Standard / x64 | ...NOT SUPPORTED... |
| celaya2 | OS X 10.11.6 El Capitan / x86_64 | OK | ERROR | skipped | skipped | |
| merida2 | OS X 10.11.6 El Capitan / x86_64 | OK | ERROR | skipped | skipped | |