| Back to Multiple platform build/check report for BioC 3.9 | 
  | 
This page was generated on 2019-03-22 11:46:04 -0400 (Fri, 22 Mar 2019).
| Package 830/1676 | Hostname | OS / Arch | INSTALL | BUILD | CHECK | ||||||
| KEGGgraph 1.43.3 Jitao David Zhang 
  | malbec2 | Linux (Ubuntu 18.04.2 LTS) / x86_64 | OK | OK | OK | ||||||
| tokay2 | Windows Server 2012 R2 Standard / x64 | OK | OK | OK | |||||||
| celaya2 | OS X 10.11.6 El Capitan / x86_64 | OK | OK | OK | |||||||
| merida2 | OS X 10.11.6 El Capitan / x86_64 | OK | OK | OK | 
| Package: KEGGgraph | 
| Version: 1.43.3 | 
| Command: rm -rf KEGGgraph.buildbin-libdir && mkdir KEGGgraph.buildbin-libdir && /Users/biocbuild/BBS/utils/build-universal.sh KEGGgraph_1.43.3.tar.gz /Library/Frameworks/R.framework/Versions/Current/Resources/bin/R KEGGgraph.buildbin-libdir | 
| StartedAt: 2019-03-22 04:53:48 -0400 (Fri, 22 Mar 2019) | 
| EndedAt: 2019-03-22 04:55:16 -0400 (Fri, 22 Mar 2019) | 
| EllapsedTime: 88.1 seconds | 
| RetCode: 0 | 
| Status: OK | 
| PackageFile: KEGGgraph_1.43.3.tgz | 
| PackageFileSize: 1.705 MiB | 
############################################################################## ############################################################################## ### ### Running command: ### ### rm -rf KEGGgraph.buildbin-libdir && mkdir KEGGgraph.buildbin-libdir && /Users/biocbuild/BBS/utils/build-universal.sh KEGGgraph_1.43.3.tar.gz /Library/Frameworks/R.framework/Versions/Current/Resources/bin/R KEGGgraph.buildbin-libdir ### ############################################################################## ############################################################################## >>>>>>> >>>>>>> INSTALLATION WITH 'R CMD INSTALL --preclean --no-multiarch --library=KEGGgraph.buildbin-libdir KEGGgraph_1.43.3.tar.gz' >>>>>>> * installing *source* package ‘KEGGgraph’ ... ** R ** data ** inst ** byte-compile and prepare package for lazy loading ** help *** installing help indices ** building package indices ** installing vignettes ** testing if installed package can be loaded * DONE (KEGGgraph)