This page was generated on 2019-04-09 11:18:14 -0400 (Tue, 09 Apr 2019).
KEGGgraph 1.43.3 Jitao David Zhang
 
| Snapshot Date: 2019-04-08 17:01:18 -0400 (Mon, 08 Apr 2019) |  
| URL: https://git.bioconductor.org/packages/KEGGgraph |  
| Branch: master |  
| Last Commit: b40b1f9 |  
| Last Changed Date: 2019-02-11 09:53:00 -0400 (Mon, 11 Feb 2019) |  
 
 | malbec2  | Linux (Ubuntu 18.04.2 LTS) / x86_64  |  OK  |  ERROR  |  skipped  |  |  | 
| tokay2  | Windows Server 2012 R2 Standard / x64  |  OK  |  ERROR  |  skipped  |  skipped  |  | 
| celaya2  | OS X 10.11.6 El Capitan / x86_64  |  OK  |  ERROR  |  skipped  |  skipped  |  | 
| merida2  | OS X 10.11.6 El Capitan / x86_64  |  OK  |  ERROR  |  skipped  |  skipped  |  |