This page was generated on 2019-04-09 11:18:14 -0400 (Tue, 09 Apr 2019).
JunctionSeq 1.13.1 Stephen Hartley
 
| Snapshot Date: 2019-04-08 17:01:18 -0400 (Mon, 08 Apr 2019) |  
| URL: https://git.bioconductor.org/packages/JunctionSeq |  
| Branch: master |  
| Last Commit: 35d694d |  
| Last Changed Date: 2019-01-04 13:36:45 -0400 (Fri, 04 Jan 2019) |  
 
 | malbec2  | Linux (Ubuntu 18.04.2 LTS) / x86_64  |  OK  |  OK  |  OK  |  |   | 
| tokay2  | Windows Server 2012 R2 Standard / x64  |  OK  |  OK  |  OK  |  OK  |   | 
| celaya2  | OS X 10.11.6 El Capitan / x86_64  |  OK  |  OK  |  OK  |  OK  |   | 
| merida2  | OS X 10.11.6 El Capitan / x86_64  |  OK  |  OK  |  OK  |  OK  |  |