| Back to Multiple platform build/check report for BioC 3.7 |
|
This page was generated on 2018-10-17 08:49:17 -0400 (Wed, 17 Oct 2018).
| Package 1214/1561 | Hostname | OS / Arch | INSTALL | BUILD | CHECK | BUILD BIN | ||||||
| REDseq 1.26.0 Lihua Julie Zhu
| malbec2 | Linux (Ubuntu 16.04.1 LTS) / x86_64 | OK | OK | OK | |||||||
| tokay2 | Windows Server 2012 R2 Standard / x64 | OK | OK | OK | OK | |||||||
| merida2 | OS X 10.11.6 El Capitan / x86_64 | OK | OK | [ OK ] | OK |
| Package: REDseq |
| Version: 1.26.0 |
| Command: /Library/Frameworks/R.framework/Versions/Current/Resources/bin/R CMD check --install=check:REDseq.install-out.txt --library=/Library/Frameworks/R.framework/Versions/Current/Resources/library --no-vignettes --timings REDseq_1.26.0.tar.gz |
| StartedAt: 2018-10-16 23:36:04 -0400 (Tue, 16 Oct 2018) |
| EndedAt: 2018-10-16 23:40:56 -0400 (Tue, 16 Oct 2018) |
| EllapsedTime: 291.7 seconds |
| RetCode: 0 |
| Status: OK |
| CheckDir: REDseq.Rcheck |
| Warnings: 0 |
##############################################################################
##############################################################################
###
### Running command:
###
### /Library/Frameworks/R.framework/Versions/Current/Resources/bin/R CMD check --install=check:REDseq.install-out.txt --library=/Library/Frameworks/R.framework/Versions/Current/Resources/library --no-vignettes --timings REDseq_1.26.0.tar.gz
###
##############################################################################
##############################################################################
* using log directory ‘/Users/biocbuild/bbs-3.7-bioc/meat/REDseq.Rcheck’
* using R version 3.5.1 Patched (2018-07-12 r74967)
* using platform: x86_64-apple-darwin15.6.0 (64-bit)
* using session charset: UTF-8
* using option ‘--no-vignettes’
* checking for file ‘REDseq/DESCRIPTION’ ... OK
* checking extension type ... Package
* this is package ‘REDseq’ version ‘1.26.0’
* checking package namespace information ... OK
* checking package dependencies ... NOTE
Depends: includes the non-default packages:
‘BiocGenerics’ ‘BSgenome.Celegans.UCSC.ce2’ ‘multtest’ ‘Biostrings’
‘BSgenome’ ‘ChIPpeakAnno’
Adding so many packages to the search path is excessive and importing
selectively is preferable.
* checking if this is a source package ... OK
* checking if there is a namespace ... OK
* checking for hidden files and directories ... OK
* checking for portable file names ... OK
* checking for sufficient/correct file permissions ... OK
* checking whether package ‘REDseq’ can be installed ... OK
* checking installed package size ... OK
* checking package directory ... OK
* checking ‘build’ directory ... OK
* checking DESCRIPTION meta-information ... NOTE
Packages listed in more than one of Depends, Imports, Suggests, Enhances:
‘BiocGenerics’ ‘Biostrings’ ‘ChIPpeakAnno’ ‘multtest’
A package should be listed in only one of these fields.
* checking top-level files ... OK
* checking for left-over files ... OK
* checking index information ... OK
* checking package subdirectories ... OK
* checking R files for non-ASCII characters ... OK
* checking R files for syntax errors ... OK
* checking whether the package can be loaded ... OK
* checking whether the package can be loaded with stated dependencies ... OK
* checking whether the package can be unloaded cleanly ... OK
* checking whether the namespace can be loaded with stated dependencies ... OK
* checking whether the namespace can be unloaded cleanly ... OK
* checking dependencies in R code ... NOTE
Package in Depends field not imported from: 'BSgenome.Celegans.UCSC.ce2'
These packages need to be imported from (in the NAMESPACE file)
for when this namespace is loaded but not attached.
* checking S3 generic/method consistency ... OK
* checking replacement functions ... OK
* checking foreign function calls ... OK
* checking R code for possible problems ... OK
* checking Rd files ... OK
* checking Rd metadata ... OK
* checking Rd cross-references ... OK
* checking for missing documentation entries ... OK
* checking for code/documentation mismatches ... OK
* checking Rd \usage sections ... OK
* checking Rd contents ... OK
* checking for unstated dependencies in examples ... OK
* checking contents of ‘data’ directory ... OK
* checking data for non-ASCII characters ... OK
* checking data for ASCII and uncompressed saves ... OK
* checking sizes of PDF files under ‘inst/doc’ ... OK
* checking files in ‘vignettes’ ... OK
* checking examples ... OK
Examples with CPU or elapsed time > 5s
user system elapsed
buildREmap 6.818 0.236 7.273
* checking for unstated dependencies in vignettes ... OK
* checking package vignettes in ‘inst/doc’ ... OK
* checking running R code from vignettes ... SKIPPED
* checking re-building of vignette outputs ... SKIPPED
* checking PDF version of manual ... OK
* DONE
Status: 3 NOTEs
See
‘/Users/biocbuild/bbs-3.7-bioc/meat/REDseq.Rcheck/00check.log’
for details.
REDseq.Rcheck/00install.out
############################################################################## ############################################################################## ### ### Running command: ### ### /Library/Frameworks/R.framework/Versions/Current/Resources/bin/R CMD INSTALL REDseq ### ############################################################################## ############################################################################## * installing to library ‘/Library/Frameworks/R.framework/Versions/3.5/Resources/library’ * installing *source* package ‘REDseq’ ... ** R ** data ** inst ** byte-compile and prepare package for lazy loading No methods found in package 'IRanges' for requests: '%in%', 'rep.int' when loading 'REDseq' ** help *** installing help indices ** building package indices ** installing vignettes ** testing if installed package can be loaded No methods found in package 'IRanges' for requests: '%in%', 'rep.int' when loading 'REDseq' * DONE (REDseq)
REDseq.Rcheck/REDseq-Ex.timings
| name | user | system | elapsed | |
| REDseq-package | 0.017 | 0.000 | 0.017 | |
| assignSeq2REsite | 0.986 | 0.076 | 1.083 | |
| binom.test.REDseq | 0.017 | 0.002 | 0.020 | |
| buildREmap | 6.818 | 0.236 | 7.273 | |
| compareREDseq | 0.016 | 0.001 | 0.017 | |
| distanceHistSeq2RE | 0.034 | 0.002 | 0.036 | |
| example.REDseq | 0.005 | 0.002 | 0.006 | |
| example.assignedREDseq | 0.004 | 0.002 | 0.005 | |
| example.map | 0.003 | 0.002 | 0.004 | |
| plotCutDistribution | 0.032 | 0.004 | 0.036 | |
| searchPattern | 2.931 | 0.196 | 3.250 | |
| summarizeByRE | 0.007 | 0.002 | 0.009 | |
| summarizeBySeq | 0.006 | 0.002 | 0.008 | |
| writeHits | 0.01 | 0.00 | 0.01 | |