All our mirrors of open source software are available via http, https, ftp and an onion service. More information about our mirrors including statistics and contact information is available on our mirror info pages.
For information about dotsrc.org and our other services please go to our website.
| File Name ↓ | File Size ↓ | Date ↓ |
|---|---|---|
| Parent directory/ | - | - |
| RCytoscape/ | - | 2017-10-30 11:01:43 |
| oneChannelGUI/ | - | 2017-10-30 11:22:47 |
| domainsignatures/ | - | 2017-10-30 11:23:12 |
| iontree/ | - | 2017-10-30 11:24:16 |
| stepwiseCM/ | - | 2017-10-30 11:24:21 |
| ddgraph/ | - | 2017-10-30 11:24:39 |
| HCsnip/ | - | 2017-10-30 11:25:06 |
| EWCE/ | - | 2017-10-30 11:27:27 |
| BioMedR/ | - | 2017-10-30 11:28:26 |
| JASPAR2018/ | - | 2018-02-21 12:39:54 |
| MetaGxOvarian/ | - | 2018-02-28 12:38:30 |
| mvGST/ | - | 2018-03-05 19:53:22 |
| roma/ | - | 2018-04-26 14:53:53 |
| BiFET/ | - | 2018-10-17 12:18:33 |
| EasyqpcR/ | - | 2018-10-17 12:18:52 |
| flowQ/ | - | 2018-10-17 12:21:53 |
| DEGraph/ | - | 2018-10-17 12:23:18 |
| NCIgraph/ | - | 2018-10-17 12:23:34 |
| RamiGO/ | - | 2018-10-17 12:23:43 |
| HTSeqGenie/ | - | 2018-10-17 12:24:39 |
| BrowserVizDemo/ | - | 2018-10-17 12:27:28 |
| explorase/ | - | 2018-10-17 12:33:31 |
| HilbertVisGUI/ | - | 2018-10-17 12:34:05 |
| iBMQ/ | - | 2018-10-17 12:36:48 |
| annotate/ | - | 2018-10-17 12:45:55 |
| Biobase/ | - | 2018-10-17 12:45:55 |
| DynDoc/ | - | 2018-10-17 12:45:55 |
| genefilter/ | - | 2018-10-17 12:45:56 |
| geneplotter/ | - | 2018-10-17 12:45:56 |
| ctc/ | - | 2018-10-17 12:45:57 |
| ROC/ | - | 2018-10-17 12:45:57 |
| multtest/ | - | 2018-10-17 12:45:57 |
| tkWidgets/ | - | 2018-10-17 12:45:58 |
| affyio/ | - | 2018-10-17 12:45:58 |
| preprocessCore/ | - | 2018-10-17 12:45:59 |
| vsn/ | - | 2018-10-17 12:46:00 |
| affy/ | - | 2018-10-17 12:46:00 |
| makecdfenv/ | - | 2018-10-17 12:46:01 |
| graph/ | - | 2018-10-17 12:46:01 |
| widgetTools/ | - | 2018-10-17 12:46:02 |
| Rgraphviz/ | - | 2018-10-17 12:46:03 |
| affycomp/ | - | 2018-10-17 12:46:03 |
| limma/ | - | 2018-10-17 12:46:04 |
| gcrma/ | - | 2018-10-17 12:46:05 |
| splicegear/ | - | 2018-10-17 12:46:05 |
| annaffy/ | - | 2018-10-17 12:46:06 |
| daMA/ | - | 2018-10-17 12:46:06 |
| siggenes/ | - | 2018-10-17 12:46:06 |
| gpls/ | - | 2018-10-17 12:46:07 |
| MeasurementError.cor/ | - | 2018-10-17 12:46:07 |
| affyPLM/ | - | 2018-10-17 12:46:08 |
| factDesign/ | - | 2018-10-17 12:46:08 |
| RBGL/ | - | 2018-10-17 12:46:09 |
| webbioc/ | - | 2018-10-17 12:46:09 |
| affypdnn/ | - | 2018-10-17 12:46:10 |
| ecolitk/ | - | 2018-10-17 12:46:10 |
| LPE/ | - | 2018-10-17 12:46:11 |
| simpleaffy/ | - | 2018-10-17 12:46:11 |
| pickgene/ | - | 2018-10-17 12:46:12 |
| IRanges/ | - | 2018-10-17 12:46:12 |
| qvalue/ | - | 2018-10-17 12:46:13 |
| Biostrings/ | - | 2018-10-17 12:46:13 |
| rama/ | - | 2018-10-17 12:46:14 |
| impute/ | - | 2018-10-17 12:46:14 |
| EBarrays/ | - | 2018-10-17 12:46:15 |
| Icens/ | - | 2018-10-17 12:46:15 |
| altcdfenvs/ | - | 2018-10-17 12:46:16 |
| PROcess/ | - | 2018-10-17 12:46:16 |
| arrayQuality/ | - | 2018-10-17 12:46:16 |
| goTools/ | - | 2018-10-17 12:46:17 |
| limmaGUI/ | - | 2018-10-17 12:46:17 |
| affylmGUI/ | - | 2018-10-17 12:46:17 |
| marray/ | - | 2018-10-17 12:46:18 |
| convert/ | - | 2018-10-17 12:46:18 |
| DNAcopy/ | - | 2018-10-17 12:46:19 |
| prada/ | - | 2018-10-17 12:46:19 |
| GOstats/ | - | 2018-10-17 12:46:19 |
| aCGH/ | - | 2018-10-17 12:46:20 |
| HEM/ | - | 2018-10-17 12:46:20 |
| GraphAT/ | - | 2018-10-17 12:46:21 |
| MergeMaid/ | - | 2018-10-17 12:46:21 |
| OLIN/ | - | 2018-10-17 12:46:22 |
| globaltest/ | - | 2018-10-17 12:46:22 |
| nnNorm/ | - | 2018-10-17 12:46:23 |
| MLInterfaces/ | - | 2018-10-17 12:46:23 |
| GLAD/ | - | 2018-10-17 12:46:24 |
| genArise/ | - | 2018-10-17 12:46:24 |
| twilight/ | - | 2018-10-17 12:46:25 |
| hopach/ | - | 2018-10-17 12:46:25 |
| DEDS/ | - | 2018-10-17 12:46:26 |
| OLINgui/ | - | 2018-10-17 12:46:26 |
| stepNorm/ | - | 2018-10-17 12:46:27 |
| MVCClass/ | - | 2018-10-17 12:46:27 |
| macat/ | - | 2018-10-17 12:46:28 |
| SBMLR/ | - | 2018-10-17 12:46:28 |
| bioDist/ | - | 2018-10-17 12:46:29 |
| sagenhaft/ | - | 2018-10-17 12:46:29 |
| apComplex/ | - | 2018-10-17 12:46:30 |
| plier/ | - | 2018-10-17 12:46:30 |
| CoCiteStats/ | - | 2018-10-17 12:46:30 |
| biomaRt/ | - | 2018-10-17 12:46:31 |
| made4/ | - | 2018-10-17 12:46:31 |
| tilingArray/ | - | 2018-10-17 12:46:32 |
| spotSegmentation/ | - | 2018-10-17 12:46:32 |
| safe/ | - | 2018-10-17 12:46:33 |
| RankProd/ | - | 2018-10-17 12:46:34 |
| plgem/ | - | 2018-10-17 12:46:34 |
| xcms/ | - | 2018-10-17 12:46:35 |
| MiPP/ | - | 2018-10-17 12:46:35 |
| geneRecommender/ | - | 2018-10-17 12:46:36 |
| idiogram/ | - | 2018-10-17 12:46:36 |
| ssize/ | - | 2018-10-17 12:46:37 |
| bridge/ | - | 2018-10-17 12:46:37 |
| Category/ | - | 2018-10-17 12:46:38 |
| hypergraph/ | - | 2018-10-17 12:46:38 |
| GeneMeta/ | - | 2018-10-17 12:46:38 |
| clusterStab/ | - | 2018-10-17 12:46:39 |
| oligo/ | - | 2018-10-17 12:46:39 |
| affyQCReport/ | - | 2018-10-17 12:46:40 |
| fdrame/ | - | 2018-10-17 12:46:40 |
| LMGene/ | - | 2018-10-17 12:46:40 |
| timecourse/ | - | 2018-10-17 12:46:41 |
| diffGeneAnalysis/ | - | 2018-10-17 12:46:41 |
| reb/ | - | 2018-10-17 12:46:42 |
| maanova/ | - | 2018-10-17 12:46:43 |
| affxparser/ | - | 2018-10-17 12:46:44 |
| biocViews/ | - | 2018-10-17 12:46:44 |
| maSigPro/ | - | 2018-10-17 12:46:45 |
| GlobalAncova/ | - | 2018-10-17 12:46:45 |
| RLMM/ | - | 2018-10-17 12:46:46 |
| MANOR/ | - | 2018-10-17 12:46:46 |
| affycoretools/ | - | 2018-10-17 12:46:46 |
| MantelCorr/ | - | 2018-10-17 12:46:47 |
| panp/ | - | 2018-10-17 12:46:47 |
| GEOquery/ | - | 2018-10-17 12:46:48 |
| pathRender/ | - | 2018-10-17 12:46:48 |
| metaArray/ | - | 2018-10-17 12:46:49 |
| codelink/ | - | 2018-10-17 12:46:49 |
| snapCGH/ | - | 2018-10-17 12:46:50 |
| sscore/ | - | 2018-10-17 12:46:50 |
| ScISI/ | - | 2018-10-17 12:46:51 |
| beadarray/ | - | 2018-10-17 12:46:51 |
| adSplit/ | - | 2018-10-17 12:46:52 |
| Mfuzz/ | - | 2018-10-17 12:46:52 |
| copa/ | - | 2018-10-17 12:46:53 |
| sizepower/ | - | 2018-10-17 12:46:53 |
| SNPchip/ | - | 2018-10-17 12:46:54 |
| OCplus/ | - | 2018-10-17 12:46:55 |
| EBImage/ | - | 2018-10-17 12:46:55 |
| Heatplus/ | - | 2018-10-17 12:46:56 |
| maCorrPlot/ | - | 2018-10-17 12:46:56 |
| nudge/ | - | 2018-10-17 12:46:56 |
| OrderedList/ | - | 2018-10-17 12:46:57 |
| cghMCR/ | - | 2018-10-17 12:46:57 |
| BSgenome/ | - | 2018-10-17 12:46:58 |
| logicFS/ | - | 2018-10-17 12:46:58 |
| TypeInfo/ | - | 2018-10-17 12:46:59 |
| gaggle/ | - | 2018-10-17 12:46:59 |
| ABarray/ | - | 2018-10-17 12:47:00 |
| Harshlight/ | - | 2018-10-17 12:47:00 |
| sigPathway/ | - | 2018-10-17 12:47:00 |
| quantsmooth/ | - | 2018-10-17 12:47:01 |
| aroma.light/ | - | 2018-10-17 12:47:02 |
| pcot2/ | - | 2018-10-17 12:47:02 |
| BioMVCClass/ | - | 2018-10-17 12:47:03 |
| spikeLI/ | - | 2018-10-17 12:47:03 |
| GGtools/ | - | 2018-10-17 12:47:04 |
| lapmix/ | - | 2018-10-17 12:47:04 |
| beadarraySNP/ | - | 2018-10-17 12:47:04 |
| pkgDepTools/ | - | 2018-10-17 12:47:05 |
| splots/ | - | 2018-10-17 12:47:06 |
| SAGx/ | - | 2018-10-17 12:47:06 |
| pcaMethods/ | - | 2018-10-17 12:47:07 |
| nem/ | - | 2018-10-17 12:47:07 |
| RbcBook1/ | - | 2018-10-17 12:47:08 |
| ppiStats/ | - | 2018-10-17 12:47:08 |
| flowUtils/ | - | 2018-10-17 12:47:09 |
| flowCore/ | - | 2018-10-17 12:47:09 |
| AnnotationDbi/ | - | 2018-10-17 12:47:10 |
| RefPlus/ | - | 2018-10-17 12:47:10 |
| flowViz/ | - | 2018-10-17 12:47:10 |
| lumi/ | - | 2018-10-17 12:47:11 |
| occugene/ | - | 2018-10-17 12:47:11 |
| pdInfoBuilder/ | - | 2018-10-17 12:47:12 |
| BufferedMatrix/ | - | 2018-10-17 12:47:12 |
| BufferedMatrixMethods/ | - | 2018-10-17 12:47:13 |
| GeneticsDesign/ | - | 2018-10-17 12:47:13 |
| seqLogo/ | - | 2018-10-17 12:47:14 |
| topGO/ | - | 2018-10-17 12:47:14 |
| LBE/ | - | 2018-10-17 12:47:15 |
| annotationTools/ | - | 2018-10-17 12:47:15 |
| rHVDM/ | - | 2018-10-17 12:47:16 |
| SLqPCR/ | - | 2018-10-17 12:47:16 |
| PGSEA/ | - | 2018-10-17 12:47:17 |
| CALIB/ | - | 2018-10-17 12:47:17 |
| ACME/ | - | 2018-10-17 12:47:18 |
| Ringo/ | - | 2018-10-17 12:47:18 |
| GeneticsPed/ | - | 2018-10-17 12:47:19 |
| MassSpecWavelet/ | - | 2018-10-17 12:47:19 |
| CORREP/ | - | 2018-10-17 12:47:20 |
| rbsurv/ | - | 2018-10-17 12:47:20 |
| bgx/ | - | 2018-10-17 12:47:21 |
| puma/ | - | 2018-10-17 12:47:21 |
| cellHTS2/ | - | 2018-10-17 12:47:22 |
| GSEABase/ | - | 2018-10-17 12:47:22 |
| biocGraph/ | - | 2018-10-17 12:47:22 |
| keggorthology/ | - | 2018-10-17 12:47:23 |
| SMAP/ | - | 2018-10-17 12:47:23 |
| arrayQualityMetrics/ | - | 2018-10-17 12:47:24 |
| vbmp/ | - | 2018-10-17 12:47:24 |
| CGHcall/ | - | 2018-10-17 12:47:25 |
| oligoClasses/ | - | 2018-10-17 12:47:25 |
| AffyExpress/ | - | 2018-10-17 12:47:25 |
| VanillaICE/ | - | 2018-10-17 12:47:26 |
| bgafun/ | - | 2018-10-17 12:47:27 |
| OutlierD/ | - | 2018-10-17 12:47:27 |
| maigesPack/ | - | 2018-10-17 12:47:28 |
| rsbml/ | - | 2018-10-17 12:47:28 |
| Rdisop/ | - | 2018-10-17 12:47:29 |
| yaqcaffy/ | - | 2018-10-17 12:47:29 |
| xps/ | - | 2018-10-17 12:47:30 |
| Rtreemix/ | - | 2018-10-17 12:47:31 |
| BGmix/ | - | 2018-10-17 12:47:32 |
| BiocCaseStudies/ | - | 2018-10-17 12:47:32 |
| plw/ | - | 2018-10-17 12:47:33 |
| gaga/ | - | 2018-10-17 12:47:33 |
| SLGI/ | - | 2018-10-17 12:47:34 |
| BAC/ | - | 2018-10-17 12:47:35 |
| PCpheno/ | - | 2018-10-17 12:47:35 |
| XDE/ | - | 2018-10-17 12:47:35 |
| mdqc/ | - | 2018-10-17 12:47:36 |
| GraphAlignment/ | - | 2018-10-17 12:47:36 |
| BCRANK/ | - | 2018-10-17 12:47:37 |
| snpStats/ | - | 2018-10-17 12:47:37 |
| affyPara/ | - | 2018-10-17 12:47:38 |
| GSEAlm/ | - | 2018-10-17 12:47:38 |
| flowClust/ | - | 2018-10-17 12:47:40 |
| GEOmetadb/ | - | 2018-10-17 12:47:41 |
| GenomeGraphs/ | - | 2018-10-17 12:47:41 |
| GeneSelector/ | - | 2018-10-17 12:47:41 |
| RBioinf/ | - | 2018-10-17 12:47:42 |
| rtracklayer/ | - | 2018-10-17 12:47:43 |
| GGBase/ | - | 2018-10-17 12:47:43 |
| goProfiles/ | - | 2018-10-17 12:47:44 |
| AffyCompatible/ | - | 2018-10-17 12:47:44 |
| LPEadj/ | - | 2018-10-17 12:47:45 |
| ShortRead/ | - | 2018-10-17 12:47:45 |
| CMA/ | - | 2018-10-17 12:47:46 |
| CGHregions/ | - | 2018-10-17 12:47:46 |
| CGHbase/ | - | 2018-10-17 12:47:46 |
| SIM/ | - | 2018-10-17 12:47:47 |
| HELP/ | - | 2018-10-17 12:47:47 |
| miRNApath/ | - | 2018-10-17 12:47:48 |
| multiscan/ | - | 2018-10-17 12:47:48 |
| minet/ | - | 2018-10-17 12:47:49 |
| iterativeBMA/ | - | 2018-10-17 12:47:49 |
| ITALICS/ | - | 2018-10-17 12:47:50 |
| iterativeBMAsurv/ | - | 2018-10-17 12:47:50 |
| DFP/ | - | 2018-10-17 12:47:51 |
| RpsiXML/ | - | 2018-10-17 12:47:51 |
| PLPE/ | - | 2018-10-17 12:47:52 |
| logitT/ | - | 2018-10-17 12:47:52 |
| MEDME/ | - | 2018-10-17 12:47:53 |
| edgeR/ | - | 2018-10-17 12:47:53 |
| ArrayTools/ | - | 2018-10-17 12:47:54 |
| microRNA/ | - | 2018-10-17 12:47:54 |
| KCsmart/ | - | 2018-10-17 12:47:55 |
| ArrayExpress/ | - | 2018-10-17 12:47:55 |
| RNAither/ | - | 2018-10-17 12:47:55 |
| ChemmineR/ | - | 2018-10-17 12:47:56 |
| parody/ | - | 2018-10-17 12:47:56 |
| xmapbridge/ | - | 2018-10-17 12:47:57 |
| affyContam/ | - | 2018-10-17 12:47:57 |
| HilbertVis/ | - | 2018-10-17 12:47:58 |
| arrayMvout/ | - | 2018-10-17 12:47:58 |
| BicARE/ | - | 2018-10-17 12:47:58 |
| MCRestimate/ | - | 2018-10-17 12:47:59 |
| flagme/ | - | 2018-10-17 12:47:59 |
| GOSemSim/ | - | 2018-10-17 12:48:00 |
| qpgraph/ | - | 2018-10-17 12:48:01 |
| KEGGgraph/ | - | 2018-10-17 12:48:01 |
| spkTools/ | - | 2018-10-17 12:48:02 |
| SPIA/ | - | 2018-10-17 12:48:03 |
| tspair/ | - | 2018-10-17 12:48:03 |
| CAMERA/ | - | 2018-10-17 12:48:04 |
| metahdep/ | - | 2018-10-17 12:48:04 |
| GeneSelectMMD/ | - | 2018-10-17 12:48:05 |
| genomeIntervals/ | - | 2018-10-17 12:48:05 |
| PAnnBuilder/ | - | 2018-10-17 12:48:05 |
| dyebias/ | - | 2018-10-17 12:48:06 |
| crlmm/ | - | 2018-10-17 12:48:06 |
| SSPA/ | - | 2018-10-17 12:48:07 |
| qpcrNorm/ | - | 2018-10-17 12:48:07 |
| GeneRegionScan/ | - | 2018-10-17 12:48:08 |
| rMAT/ | - | 2018-10-17 12:48:08 |
| TargetSearch/ | - | 2018-10-17 12:48:09 |
| flowStats/ | - | 2018-10-17 12:48:09 |
| Rmagpie/ | - | 2018-10-17 12:48:10 |
| CNTools/ | - | 2018-10-17 12:48:11 |
| methylumi/ | - | 2018-10-17 12:48:11 |
| RmiR/ | - | 2018-10-17 12:48:12 |
| flowMerge/ | - | 2018-10-17 12:48:12 |
| chipseq/ | - | 2018-10-17 12:48:12 |
| BUS/ | - | 2018-10-17 12:48:13 |
| flowFP/ | - | 2018-10-17 12:48:13 |
| RPA/ | - | 2018-10-17 12:48:14 |
| ddCt/ | - | 2018-10-17 12:48:14 |
| ChIPpeakAnno/ | - | 2018-10-17 12:48:14 |
| Starr/ | - | 2018-10-17 12:48:15 |
| ChIPsim/ | - | 2018-10-17 12:48:16 |
| mBPCR/ | - | 2018-10-17 12:48:16 |
| plateCore/ | - | 2018-10-17 12:48:16 |
| clippda/ | - | 2018-10-17 12:48:17 |
| MiChip/ | - | 2018-10-17 12:48:17 |
| RTCA/ | - | 2018-10-17 12:48:18 |
| AgiMicroRna/ | - | 2018-10-17 12:48:18 |
| CGHnormaliter/ | - | 2018-10-17 12:48:19 |
| GenomicFeatures/ | - | 2018-10-17 12:48:19 |
| cycle/ | - | 2018-10-17 12:48:19 |
| baySeq/ | - | 2018-10-17 12:48:20 |
| GeneAnswers/ | - | 2018-10-17 12:48:20 |
| ChromHeatMap/ | - | 2018-10-17 12:48:20 |
| ChIPseqR/ | - | 2018-10-17 12:48:21 |
| HTqPCR/ | - | 2018-10-17 12:48:21 |
| CNVtools/ | - | 2018-10-17 12:48:21 |
| BioSeqClass/ | - | 2018-10-17 12:48:22 |
| LiquidAssociation/ | - | 2018-10-17 12:48:22 |
| DEGseq/ | - | 2018-10-17 12:48:23 |
| SpeCond/ | - | 2018-10-17 12:48:23 |
| eisa/ | - | 2018-10-17 12:48:24 |
| CSAR/ | - | 2018-10-17 12:48:24 |
| Genominator/ | - | 2018-10-17 12:48:24 |
| frma/ | - | 2018-10-17 12:48:25 |
| DESeq/ | - | 2018-10-17 12:48:25 |
| hyperdraw/ | - | 2018-10-17 12:48:26 |
| ConsensusClusterPlus/ | - | 2018-10-17 12:48:26 |
| frmaTools/ | - | 2018-10-17 12:48:26 |
| iChip/ | - | 2018-10-17 12:48:27 |
| methVisual/ | - | 2018-10-17 12:48:28 |
| rGADEM/ | - | 2018-10-17 12:48:28 |
| pint/ | - | 2018-10-17 12:48:29 |
| MassArray/ | - | 2018-10-17 12:48:29 |
| charm/ | - | 2018-10-17 12:48:29 |
| SamSPECTRAL/ | - | 2018-10-17 12:48:30 |
| GenomicRanges/ | - | 2018-10-17 12:48:31 |
| segmentSeq/ | - | 2018-10-17 12:48:31 |
| MotIV/ | - | 2018-10-17 12:48:32 |
| BeadDataPackR/ | - | 2018-10-17 12:48:32 |
| genoCN/ | - | 2018-10-17 12:48:32 |
| girafe/ | - | 2018-10-17 12:48:33 |
| ExpressionView/ | - | 2018-10-17 12:48:34 |
| Rsamtools/ | - | 2018-10-17 12:48:34 |
| tigre/ | - | 2018-10-17 12:48:35 |
| BayesPeak/ | - | 2018-10-17 12:48:36 |
| goseq/ | - | 2018-10-17 12:48:36 |
| PICS/ | - | 2018-10-17 12:48:37 |
| SRAdb/ | - | 2018-10-17 12:48:37 |
| flowMeans/ | - | 2018-10-17 12:48:38 |
| PROMISE/ | - | 2018-10-17 12:48:38 |
| GSRI/ | - | 2018-10-17 12:48:39 |
| flowTrans/ | - | 2018-10-17 12:48:39 |
| GEOsubmission/ | - | 2018-10-17 12:48:39 |
| affyILM/ | - | 2018-10-17 12:48:40 |
| genomes/ | - | 2018-10-17 12:48:40 |
| attract/ | - | 2018-10-17 12:48:40 |
| fabia/ | - | 2018-10-17 12:48:41 |
| BHC/ | - | 2018-10-17 12:48:41 |
| NTW/ | - | 2018-10-17 12:48:42 |
| MBCB/ | - | 2018-10-17 12:48:42 |
| CoGAPS/ | - | 2018-10-17 12:48:43 |
| IsoGeneGUI/ | - | 2018-10-17 12:48:43 |
| HTSanalyzeR/ | - | 2018-10-17 12:48:44 |
| CGEN/ | - | 2018-10-17 12:48:44 |
| BioNet/ | - | 2018-10-17 12:48:44 |
| RDRToolbox/ | - | 2018-10-17 12:48:45 |
| imageHTS/ | - | 2018-10-17 12:48:45 |
| NuPoP/ | - | 2018-10-17 12:48:46 |
| farms/ | - | 2018-10-17 12:48:46 |
| Mulcom/ | - | 2018-10-17 12:48:47 |
| les/ | - | 2018-10-17 12:48:47 |
| SQUADD/ | - | 2018-10-17 12:48:48 |
| netresponse/ | - | 2018-10-17 12:48:49 |
| OTUbase/ | - | 2018-10-17 12:48:49 |
| iSeq/ | - | 2018-10-17 12:48:50 |
| LVSmiRNA/ | - | 2018-10-17 12:48:50 |
| CRImage/ | - | 2018-10-17 12:48:51 |
| gage/ | - | 2018-10-17 12:48:51 |
| rnaSeqMap/ | - | 2018-10-17 12:48:52 |
| ontoCAT/ | - | 2018-10-17 12:48:52 |
| GeneGA/ | - | 2018-10-17 12:48:53 |
| R453Plus1Toolbox/ | - | 2018-10-17 12:48:53 |
| MEDIPS/ | - | 2018-10-17 12:48:54 |
| ADaCGH2/ | - | 2018-10-17 12:48:54 |
| phenoDist/ | - | 2018-10-17 12:48:55 |
| IPPD/ | - | 2018-10-17 12:48:55 |
| MLP/ | - | 2018-10-17 12:48:55 |
| snm/ | - | 2018-10-17 12:48:56 |
| gaia/ | - | 2018-10-17 12:48:56 |
| TEQC/ | - | 2018-10-17 12:48:57 |
| Vega/ | - | 2018-10-17 12:48:58 |
| TurboNorm/ | - | 2018-10-17 12:48:58 |
| mgsa/ | - | 2018-10-17 12:48:59 |
| Clonality/ | - | 2018-10-17 12:48:59 |
| seqbias/ | - | 2018-10-17 12:49:00 |
| TDARACNE/ | - | 2018-10-17 12:49:01 |
| phenoTest/ | - | 2018-10-17 12:49:01 |
| mosaics/ | - | 2018-10-17 12:49:02 |
| ExiMiR/ | - | 2018-10-17 12:49:02 |
| pvac/ | - | 2018-10-17 12:49:03 |
| chopsticks/ | - | 2018-10-17 12:49:03 |
| joda/ | - | 2018-10-17 12:49:04 |
| procoil/ | - | 2018-10-17 12:49:04 |
| clst/ | - | 2018-10-17 12:49:05 |
| RNAinteract/ | - | 2018-10-17 12:49:05 |
| clusterProfiler/ | - | 2018-10-17 12:49:06 |
| clstutils/ | - | 2018-10-17 12:49:06 |
| inveRsion/ | - | 2018-10-17 12:49:06 |
| ibh/ | - | 2018-10-17 12:49:07 |
| MSnbase/ | - | 2018-10-17 12:49:07 |
| flowPlots/ | - | 2018-10-17 12:49:08 |
| AnnotationFuncs/ | - | 2018-10-17 12:49:08 |
| cn.farms/ | - | 2018-10-17 12:49:09 |
| ENVISIONQuery/ | - | 2018-10-17 12:49:09 |
| Rsubread/ | - | 2018-10-17 12:49:10 |
| mcaGUI/ | - | 2018-10-17 12:49:10 |
| genefu/ | - | 2018-10-17 12:49:11 |
| genoset/ | - | 2018-10-17 12:49:12 |
| survcomp/ | - | 2018-10-17 12:49:12 |
| qrqc/ | - | 2018-10-17 12:49:13 |
| lol/ | - | 2018-10-17 12:49:13 |
| a4Base/ | - | 2018-10-17 12:49:14 |
| a4Preproc/ | - | 2018-10-17 12:49:14 |
| a4Classif/ | - | 2018-10-17 12:49:14 |
| a4Core/ | - | 2018-10-17 12:49:14 |
| a4/ | - | 2018-10-17 12:49:15 |
| GSVA/ | - | 2018-10-17 12:49:15 |
| a4Reporting/ | - | 2018-10-17 12:49:15 |
| anota/ | - | 2018-10-17 12:49:15 |
| ArrayExpressHTS/ | - | 2018-10-17 12:49:16 |
| BiocInstaller/ | - | 2018-10-17 12:49:16 |
| REDseq/ | - | 2018-10-17 12:49:17 |
| flowWorkspace/ | - | 2018-10-17 12:49:17 |
| zlibbioc/ | - | 2018-10-17 12:49:18 |
| RCASPAR/ | - | 2018-10-17 12:49:19 |
| DEXSeq/ | - | 2018-10-17 12:49:19 |
| DOSE/ | - | 2018-10-17 12:49:19 |
| randPack/ | - | 2018-10-17 12:49:20 |
| cqn/ | - | 2018-10-17 12:49:20 |
| flowType/ | - | 2018-10-17 12:49:21 |
| Repitools/ | - | 2018-10-17 12:49:21 |
| ReadqPCR/ | - | 2018-10-17 12:49:22 |
| Cormotif/ | - | 2018-10-17 12:49:22 |
| GOFunction/ | - | 2018-10-17 12:49:23 |
| IdMappingRetrieval/ | - | 2018-10-17 12:49:23 |
| GRENITS/ | - | 2018-10-17 12:49:24 |
| htSeqTools/ | - | 2018-10-17 12:49:24 |
| RedeR/ | - | 2018-10-17 12:49:25 |
| nucleR/ | - | 2018-10-17 12:49:25 |
| Streamer/ | - | 2018-10-17 12:49:26 |
| NormqPCR/ | - | 2018-10-17 12:49:26 |
| VariantAnnotation/ | - | 2018-10-17 12:49:27 |
| TSSi/ | - | 2018-10-17 12:49:28 |
| PREDA/ | - | 2018-10-17 12:49:29 |
| rqubic/ | - | 2018-10-17 12:49:29 |
| mzR/ | - | 2018-10-17 12:49:46 |
| GeneExpressionSignature/ | - | 2018-10-17 12:49:54 |
| graphite/ | - | 2018-10-17 12:49:54 |
| PANR/ | - | 2018-10-17 12:49:55 |
| weaver/ | - | 2018-10-17 12:49:55 |
| RTopper/ | - | 2018-10-17 12:49:56 |
| DTA/ | - | 2018-10-17 12:49:56 |
| EDASeq/ | - | 2018-10-17 12:49:57 |
| dks/ | - | 2018-10-17 12:49:57 |
| biovizBase/ | - | 2018-10-17 12:49:58 |
| DiffBind/ | - | 2018-10-17 12:49:58 |
| AGDEX/ | - | 2018-10-17 12:49:58 |
| cummeRbund/ | - | 2018-10-17 12:49:59 |
| CNAnorm/ | - | 2018-10-17 12:49:59 |
| DECIPHER/ | - | 2018-10-17 12:50:00 |
| minfi/ | - | 2018-10-17 12:50:01 |
| GWASTools/ | - | 2018-10-17 12:50:01 |
| predictionet/ | - | 2018-10-17 12:50:02 |
| r3Cseq/ | - | 2018-10-17 12:50:03 |
| sva/ | - | 2018-10-17 12:50:03 |
| MmPalateMiRNA/ | - | 2018-10-17 12:50:04 |
| ggbio/ | - | 2018-10-17 12:50:04 |
| exomeCopy/ | - | 2018-10-17 12:50:05 |
| isobar/ | - | 2018-10-17 12:50:05 |
| CellNOptR/ | - | 2018-10-17 12:50:06 |
| ReQON/ | - | 2018-10-17 12:50:06 |
| tweeDEseq/ | - | 2018-10-17 12:50:07 |
| ncdfFlow/ | - | 2018-10-17 12:50:08 |
| cn.mops/ | - | 2018-10-17 12:50:08 |
| trigger/ | - | 2018-10-17 12:50:09 |
| fastseg/ | - | 2018-10-17 12:50:09 |
| BiocGenerics/ | - | 2018-10-17 12:50:10 |
| sigaR/ | - | 2018-10-17 12:50:10 |
| maskBAD/ | - | 2018-10-17 12:50:11 |
| AffyRNADegradation/ | - | 2018-10-17 12:50:11 |
| ASEB/ | - | 2018-10-17 12:50:11 |
| GEWIST/ | - | 2018-10-17 12:50:12 |
| easyRNASeq/ | - | 2018-10-17 12:50:12 |
| pcaGoPromoter/ | - | 2018-10-17 12:50:13 |
| rhdf5/ | - | 2018-10-17 12:50:13 |
| BAGS/ | - | 2018-10-17 12:50:14 |
| manta/ | - | 2018-10-17 12:50:14 |
| phyloseq/ | - | 2018-10-17 12:50:15 |
| DART/ | - | 2018-10-17 12:50:15 |
| deepSNV/ | - | 2018-10-17 12:50:16 |
| Gviz/ | - | 2018-10-17 12:50:16 |
| gwascat/ | - | 2018-10-17 12:50:17 |
| ternarynet/ | - | 2018-10-17 12:50:17 |
| NarrowPeaks/ | - | 2018-10-17 12:50:18 |
| PING/ | - | 2018-10-17 12:50:19 |
| QUALIFIER/ | - | 2018-10-17 12:50:19 |
| ffpe/ | - | 2018-10-17 12:50:20 |
| IdMappingAnalysis/ | - | 2018-10-17 12:50:20 |
| BRAIN/ | - | 2018-10-17 12:50:20 |
| HybridMTest/ | - | 2018-10-17 12:50:21 |
| coGPS/ | - | 2018-10-17 12:50:21 |
| BrainStars/ | - | 2018-10-17 12:50:22 |
| birta/ | - | 2018-10-17 12:50:22 |
| cellGrowth/ | - | 2018-10-17 12:50:23 |
| gprege/ | - | 2018-10-17 12:50:23 |
| ReactomePA/ | - | 2018-10-17 12:50:23 |
| VegaMC/ | - | 2018-10-17 12:50:24 |
| BitSeq/ | - | 2018-10-17 12:50:25 |
| RchyOptimyx/ | - | 2018-10-17 12:50:25 |
| cnvGSA/ | - | 2018-10-17 12:50:26 |
| CancerMutationAnalysis/ | - | 2018-10-17 12:50:26 |
| iBBiG/ | - | 2018-10-17 12:50:26 |
| HiTC/ | - | 2018-10-17 12:50:27 |
| EBcoexpress/ | - | 2018-10-17 12:50:27 |
| iASeq/ | - | 2018-10-17 12:50:28 |
| MinimumDistance/ | - | 2018-10-17 12:50:28 |
| categoryCompare/ | - | 2018-10-17 12:50:29 |
| motifRG/ | - | 2018-10-17 12:50:29 |
| cancerclass/ | - | 2018-10-17 12:50:30 |
| DirichletMultinomial/ | - | 2018-10-17 12:50:30 |
| MiRaGE/ | - | 2018-10-17 12:50:31 |
| staRank/ | - | 2018-10-17 12:50:31 |
| rols/ | - | 2018-10-17 12:50:32 |
| flowQB/ | - | 2018-10-17 12:50:32 |
| flowPeaks/ | - | 2018-10-17 12:50:33 |
| annmap/ | - | 2018-10-17 12:50:33 |
| FunciSNP/ | - | 2018-10-17 12:50:33 |
| PWMEnrich/ | - | 2018-10-17 12:50:34 |
| DSS/ | - | 2018-10-17 12:50:34 |
| AnnotationForge/ | - | 2018-10-17 12:50:35 |
| OSAT/ | - | 2018-10-17 12:50:35 |
| RGalaxy/ | - | 2018-10-17 12:50:36 |
| KEGGprofile/ | - | 2018-10-17 12:50:36 |
| synapter/ | - | 2018-10-17 12:50:37 |
| bsseq/ | - | 2018-10-17 12:50:37 |
| DBChIP/ | - | 2018-10-17 12:50:38 |
| gmapR/ | - | 2018-10-17 12:50:40 |
| CorMut/ | - | 2018-10-17 12:50:42 |
| iPAC/ | - | 2018-10-17 12:50:42 |
| networkBMA/ | - | 2018-10-17 12:50:43 |
| waveTiling/ | - | 2018-10-17 12:50:44 |
| RMassBank/ | - | 2018-10-17 12:50:45 |
| PADOG/ | - | 2018-10-17 12:50:45 |
| triform/ | - | 2018-10-17 12:50:45 |
| MotifDb/ | - | 2018-10-17 12:50:46 |
| ChIPXpress/ | - | 2018-10-17 12:50:46 |
| GeneNetworkBuilder/ | - | 2018-10-17 12:50:47 |
| CNORfuzzy/ | - | 2018-10-17 12:50:47 |
| methyAnalysis/ | - | 2018-10-17 12:50:48 |
| fmcsR/ | - | 2018-10-17 12:50:48 |
| OrganismDbi/ | - | 2018-10-17 12:50:49 |
| lmdme/ | - | 2018-10-17 12:50:49 |
| hapFabia/ | - | 2018-10-17 12:50:50 |
| hpar/ | - | 2018-10-17 12:50:50 |
| gCMAP/ | - | 2018-10-17 12:50:51 |
| Risa/ | - | 2018-10-17 12:50:51 |
| motifStack/ | - | 2018-10-17 12:50:52 |
| DeconRNASeq/ | - | 2018-10-17 12:50:52 |
| SCAN.UPC/ | - | 2018-10-17 12:50:53 |
| ReportingTools/ | - | 2018-10-17 12:50:53 |
| agilp/ | - | 2018-10-17 12:50:54 |
| bigmemoryExtras/ | - | 2018-10-17 12:50:54 |
| CNORdt/ | - | 2018-10-17 12:50:54 |
| CNORode/ | - | 2018-10-17 12:50:55 |
| HMMcopy/ | - | 2018-10-17 12:50:55 |
| Rcade/ | - | 2018-10-17 12:50:56 |
| NOISeq/ | - | 2018-10-17 12:50:57 |
| TransView/ | - | 2018-10-17 12:50:57 |
| VariantTools/ | - | 2018-10-17 12:50:58 |
| chroGPS/ | - | 2018-10-17 12:50:58 |
| matchBox/ | - | 2018-10-17 12:50:59 |
| rSFFreader/ | - | 2018-10-17 12:50:59 |
| RIPSeeker/ | - | 2018-10-17 12:51:00 |
| illuminaio/ | - | 2018-10-17 12:51:00 |
| SNAGEE/ | - | 2018-10-17 12:51:01 |
| plrs/ | - | 2018-10-17 12:51:02 |
| UniProt.ws/ | - | 2018-10-17 12:51:02 |
| pvca/ | - | 2018-10-17 12:51:03 |
| BiocParallel/ | - | 2018-10-17 12:51:03 |
| pRoloc/ | - | 2018-10-17 12:51:04 |
| bumphunter/ | - | 2018-10-17 12:51:05 |
| DriverNet/ | - | 2018-10-17 12:51:05 |
| wateRmelon/ | - | 2018-10-17 12:51:06 |
| GraphPAC/ | - | 2018-10-17 12:51:06 |
| ensemblVEP/ | - | 2018-10-17 12:51:06 |
| RSVSim/ | - | 2018-10-17 12:51:07 |
| rTANDEM/ | - | 2018-10-17 12:51:09 |
| QuasR/ | - | 2018-10-17 12:51:10 |
| Rbowtie/ | - | 2018-10-17 12:51:10 |
| KEGGREST/ | - | 2018-10-17 12:51:11 |
| casper/ | - | 2018-10-17 12:51:11 |
| PathNet/ | - | 2018-10-17 12:51:12 |
| clipper/ | - | 2018-10-17 12:51:12 |
| DrugVsDisease/ | - | 2018-10-17 12:51:13 |
| MethylSeekR/ | - | 2018-10-17 12:51:13 |
| rBiopaxParser/ | - | 2018-10-17 12:51:14 |
| HTSFilter/ | - | 2018-10-17 12:51:14 |
| lpNet/ | - | 2018-10-17 12:51:15 |
| MineICA/ | - | 2018-10-17 12:51:16 |
| cisPath/ | - | 2018-10-17 12:51:16 |
| chimera/ | - | 2018-10-17 12:51:17 |
| CAGEr/ | - | 2018-10-17 12:51:17 |
| biomvRCNS/ | - | 2018-10-17 12:51:17 |
| proteinProfiles/ | - | 2018-10-17 12:51:18 |
| DESeq2/ | - | 2018-10-17 12:51:18 |
| gCMAPWeb/ | - | 2018-10-17 12:51:19 |
| SANTA/ | - | 2018-10-17 12:51:19 |
| dexus/ | - | 2018-10-17 12:51:20 |
| deltaGseg/ | - | 2018-10-17 12:51:20 |
| ARRmNormalization/ | - | 2018-10-17 12:51:20 |
| pathview/ | - | 2018-10-17 12:51:21 |
| epigenomix/ | - | 2018-10-17 12:51:21 |
| RNASeqPower/ | - | 2018-10-17 12:51:22 |
| SeqArray/ | - | 2018-10-17 12:51:23 |
| SPEM/ | - | 2018-10-17 12:51:24 |
| BaseSpaceR/ | - | 2018-10-17 12:51:24 |
| CNORfeeder/ | - | 2018-10-17 12:51:24 |
| eiR/ | - | 2018-10-17 12:51:25 |
| ROntoTools/ | - | 2018-10-17 12:51:25 |
| metagenomeSeq/ | - | 2018-10-17 12:51:26 |
| AnnotationHub/ | - | 2018-10-17 12:51:26 |
| SeqGSEA/ | - | 2018-10-17 12:51:27 |
| geNetClassifier/ | - | 2018-10-17 12:51:27 |
| antiProfiles/ | - | 2018-10-17 12:51:28 |
| copynumber/ | - | 2018-10-17 12:51:28 |
| piano/ | - | 2018-10-17 12:51:29 |
| PAPi/ | - | 2018-10-17 12:51:29 |
| prebs/ | - | 2018-10-17 12:51:30 |
| triplex/ | - | 2018-10-17 12:51:30 |
| BiSeq/ | - | 2018-10-17 12:51:31 |
| sSeq/ | - | 2018-10-17 12:51:32 |
| SplicingGraphs/ | - | 2018-10-17 12:51:32 |
| XVector/ | - | 2018-10-17 12:51:33 |
| clonotypeR/ | - | 2018-10-17 12:51:33 |
| plethy/ | - | 2018-10-17 12:51:34 |
| flowFit/ | - | 2018-10-17 12:51:34 |
| prot2D/ | - | 2018-10-17 12:51:35 |
| EBSeq/ | - | 2018-10-17 12:51:35 |
| tRanslatome/ | - | 2018-10-17 12:51:36 |
| vtpnet/ | - | 2018-10-17 12:51:37 |
| flowBeads/ | - | 2018-10-17 12:51:37 |
| spliceR/ | - | 2018-10-17 12:51:38 |
| cleaver/ | - | 2018-10-17 12:51:38 |
| customProDB/ | - | 2018-10-17 12:51:39 |
| mitoODE/ | - | 2018-10-17 12:51:39 |
| NetSAM/ | - | 2018-10-17 12:51:40 |
| paircompviz/ | - | 2018-10-17 12:51:40 |
| pathifier/ | - | 2018-10-17 12:51:41 |
| RDAVIDWebService/ | - | 2018-10-17 12:51:41 |
| rTRM/ | - | 2018-10-17 12:51:42 |
| cleanUpdTSeq/ | - | 2018-10-17 12:51:43 |
| maPredictDSC/ | - | 2018-10-17 12:51:43 |
| BiocStyle/ | - | 2018-10-17 12:51:43 |
| OmicCircos/ | - | 2018-10-17 12:51:44 |
| seqCNA/ | - | 2018-10-17 12:51:44 |
| SigFuge/ | - | 2018-10-17 12:51:45 |
| CSSP/ | - | 2018-10-17 12:51:46 |
| TargetScore/ | - | 2018-10-17 12:51:46 |
| cobindR/ | - | 2018-10-17 12:51:47 |
| intansv/ | - | 2018-10-17 12:51:47 |
| RRHO/ | - | 2018-10-17 12:51:48 |
| msmsEDA/ | - | 2018-10-17 12:51:48 |
| msmsTests/ | - | 2018-10-17 12:51:49 |
| Rchemcpp/ | - | 2018-10-17 12:51:49 |
| rfPred/ | - | 2018-10-17 12:51:50 |
| RTN/ | - | 2018-10-17 12:51:51 |
| SeqVarTools/ | - | 2018-10-17 12:51:51 |
| SpacePAC/ | - | 2018-10-17 12:51:52 |
| trio/ | - | 2018-10-17 12:51:53 |
| SwimR/ | - | 2018-10-17 12:51:54 |
| supraHex/ | - | 2018-10-17 12:51:54 |
| ASSET/ | - | 2018-10-17 12:51:55 |
| ChemmineOB/ | - | 2018-10-17 12:51:55 |
| qusage/ | - | 2018-10-17 12:51:56 |
| TCC/ | - | 2018-10-17 12:51:56 |
| chipenrich/ | - | 2018-10-17 12:51:57 |
| BiGGR/ | - | 2018-10-17 12:51:57 |
| Roleswitch/ | - | 2018-10-17 12:51:58 |
| BADER/ | - | 2018-10-17 12:51:58 |
| ArrayTV/ | - | 2018-10-17 12:51:59 |
| mzID/ | - | 2018-10-17 12:51:59 |
| BiRewire/ | - | 2018-10-17 12:52:00 |
| omicade4/ | - | 2018-10-17 12:52:01 |
| GOSim/ | - | 2018-10-17 12:52:01 |
| ProCoNA/ | - | 2018-10-17 12:52:01 |
| rTRMui/ | - | 2018-10-17 12:52:02 |
| SimBindProfiles/ | - | 2018-10-17 12:52:03 |
| STRINGdb/ | - | 2018-10-17 12:52:03 |
| ampliQueso/ | - | 2018-10-17 12:52:04 |
| bioassayR/ | - | 2018-10-17 12:52:04 |
| AllelicImbalance/ | - | 2018-10-17 12:52:04 |
| CexoR/ | - | 2018-10-17 12:52:05 |
| dagLogo/ | - | 2018-10-17 12:52:05 |
| flowMap/ | - | 2018-10-17 12:52:06 |
| epivizr/ | - | 2018-10-17 12:52:06 |
| exomePeak/ | - | 2018-10-17 12:52:06 |
| methylMnM/ | - | 2018-10-17 12:52:07 |
| MSstats/ | - | 2018-10-17 12:52:07 |
| openCyto/ | - | 2018-10-17 12:52:08 |
| shinyTANDEM/ | - | 2018-10-17 12:52:09 |
| qcmetrics/ | - | 2018-10-17 12:52:09 |
| spliceSites/ | - | 2018-10-17 12:52:10 |
| sRAP/ | - | 2018-10-17 12:52:11 |
| TFBSTools/ | - | 2018-10-17 12:52:11 |
| flipflop/ | - | 2018-10-17 12:52:12 |
| FGNet/ | - | 2018-10-17 12:52:12 |
| ChAMP/ | - | 2018-10-17 12:52:13 |
| interactiveDisplay/ | - | 2018-10-17 12:52:13 |
| metaSeq/ | - | 2018-10-17 12:52:14 |
| h5vc/ | - | 2018-10-17 12:52:14 |
| PSICQUIC/ | - | 2018-10-17 12:52:15 |
| CNVrd2/ | - | 2018-10-17 12:52:15 |
| GenomicAlignments/ | - | 2018-10-17 12:52:16 |
| GOTHiC/ | - | 2018-10-17 12:52:16 |
| PECA/ | - | 2018-10-17 12:52:17 |
| CRISPRseek/ | - | 2018-10-17 12:52:17 |
| flowMatch/ | - | 2018-10-17 12:52:18 |
| PhenStat/ | - | 2018-10-17 12:52:18 |
| ccrepe/ | - | 2018-10-17 12:52:18 |
| roar/ | - | 2018-10-17 12:52:19 |
| geneRxCluster/ | - | 2018-10-17 12:52:20 |
| flowBin/ | - | 2018-10-17 12:52:20 |
| COHCAP/ | - | 2018-10-17 12:52:20 |
| GeneOverlap/ | - | 2018-10-17 12:52:21 |
| BEAT/ | - | 2018-10-17 12:52:21 |
| iClusterPlus/ | - | 2018-10-17 12:52:25 |
| biosvd/ | - | 2018-10-17 12:52:27 |
| ELBOW/ | - | 2018-10-17 12:52:28 |
| savR/ | - | 2018-10-17 12:52:28 |
| trackViewer/ | - | 2018-10-17 12:52:29 |
| SomaticSignatures/ | - | 2018-10-17 12:52:30 |
| GenomeInfoDb/ | - | 2018-10-17 12:52:30 |
| Mirsynergy/ | - | 2018-10-17 12:52:31 |
| MIMOSA/ | - | 2018-10-17 12:52:31 |
| COMPASS/ | - | 2018-10-17 12:52:32 |
| CNEr/ | - | 2018-10-17 12:52:32 |
| sangerseqR/ | - | 2018-10-17 12:52:33 |
| GSCA/ | - | 2018-10-17 12:52:33 |
| unifiedWMWqPCR/ | - | 2018-10-17 12:52:34 |
| DMRcate/ | - | 2018-10-17 12:52:35 |
| EDDA/ | - | 2018-10-17 12:52:35 |
| dualKS/ | - | 2018-10-17 12:52:36 |
| Clomial/ | - | 2018-10-17 12:52:36 |
| scsR/ | - | 2018-10-17 12:52:36 |
| Basic4Cseq/ | - | 2018-10-17 12:52:37 |
| alsace/ | - | 2018-10-17 12:52:37 |
| CAFE/ | - | 2018-10-17 12:52:37 |
| massiR/ | - | 2018-10-17 12:52:38 |
| INPower/ | - | 2018-10-17 12:52:38 |
| MLSeq/ | - | 2018-10-17 12:52:39 |
| metaseqR/ | - | 2018-10-17 12:52:39 |
| rpx/ | - | 2018-10-17 12:52:40 |
| QDNAseq/ | - | 2018-10-17 12:52:41 |
| Rcpi/ | - | 2018-10-17 12:52:41 |
| sapFinder/ | - | 2018-10-17 12:52:42 |
| viper/ | - | 2018-10-17 12:52:43 |
| UNDO/ | - | 2018-10-17 12:52:43 |
| messina/ | - | 2018-10-17 12:52:44 |
| ABSSeq/ | - | 2018-10-17 12:52:45 |
| nondetects/ | - | 2018-10-17 12:52:45 |
| ASSIGN/ | - | 2018-10-17 12:52:45 |
| flowCyBar/ | - | 2018-10-17 12:52:46 |
| CompGO/ | - | 2018-10-17 12:52:46 |
| ChIPQC/ | - | 2018-10-17 12:52:46 |
| Rariant/ | - | 2018-10-17 12:52:47 |
| FRGEpistasis/ | - | 2018-10-17 12:52:47 |
| flowCL/ | - | 2018-10-17 12:52:48 |
| BiocCheck/ | - | 2018-10-17 12:52:48 |
| metaMS/ | - | 2018-10-17 12:52:49 |
| CoverageView/ | - | 2018-10-17 12:52:49 |
| VariantFiltering/ | - | 2018-10-17 12:52:50 |
| DMRforPairs/ | - | 2018-10-17 12:52:50 |
| npGSEA/ | - | 2018-10-17 12:52:51 |
| Sushi/ | - | 2018-10-17 12:52:51 |
| TitanCNA/ | - | 2018-10-17 12:52:52 |
| RefNet/ | - | 2018-10-17 12:52:53 |
| compcodeR/ | - | 2018-10-17 12:52:53 |
| GenomicFiles/ | - | 2018-10-17 12:52:54 |
| gaucho/ | - | 2018-10-17 12:52:54 |
| MeSHDbi/ | - | 2018-10-17 12:52:55 |
| meshr/ | - | 2018-10-17 12:52:55 |
| NetPathMiner/ | - | 2018-10-17 12:52:57 |
| fastLiquidAssociation/ | - | 2018-10-17 12:52:58 |
| ChIPseeker/ | - | 2018-10-17 12:52:58 |
| hiAnnotator/ | - | 2018-10-17 12:52:59 |
| S4Vectors/ | - | 2018-10-17 12:52:59 |
| monocle/ | - | 2018-10-17 12:53:00 |
| blima/ | - | 2018-10-17 12:53:00 |
| MoPS/ | - | 2018-10-17 12:53:01 |
| HDTD/ | - | 2018-10-17 12:53:01 |
| MethylAid/ | - | 2018-10-17 12:53:02 |
| DupChecker/ | - | 2018-10-17 12:53:02 |
| proteoQC/ | - | 2018-10-17 12:53:03 |
| flowClean/ | - | 2018-10-17 12:53:03 |
| cosmiq/ | - | 2018-10-17 12:53:03 |
| wavClusteR/ | - | 2018-10-17 12:53:04 |
| GSAR/ | - | 2018-10-17 12:53:05 |
| RUVSeq/ | - | 2018-10-17 12:53:05 |
| RGSEA/ | - | 2018-10-17 12:53:06 |
| DEGreport/ | - | 2018-10-17 12:53:06 |
| ssviz/ | - | 2018-10-17 12:53:07 |
| riboSeqR/ | - | 2018-10-17 12:53:08 |
| Pbase/ | - | 2018-10-17 12:53:08 |
| flowDensity/ | - | 2018-10-17 12:53:09 |
| DOQTL/ | - | 2018-10-17 12:53:09 |
| oposSOM/ | - | 2018-10-17 12:53:10 |
| Polyfit/ | - | 2018-10-17 12:53:11 |
| pepStat/ | - | 2018-10-17 12:53:11 |
| pRolocGUI/ | - | 2018-10-17 12:53:12 |
| Pviz/ | - | 2018-10-17 12:53:12 |
| shinyMethyl/ | - | 2018-10-17 12:53:13 |
| mQTL.NMR/ | - | 2018-10-17 12:53:14 |
| MEIGOR/ | - | 2018-10-17 12:53:14 |
| GSReg/ | - | 2018-10-17 12:53:14 |
| MultiMed/ | - | 2018-10-17 12:53:15 |
| netbiov/ | - | 2018-10-17 12:53:16 |
| missMethyl/ | - | 2018-10-17 12:53:17 |
| OncoSimulR/ | - | 2018-10-17 12:53:17 |
| STAN/ | - | 2018-10-17 12:53:18 |
| ballgown/ | - | 2018-10-17 12:53:18 |
| interactiveDisplayBase/ | - | 2018-10-17 12:53:19 |
| metagene/ | - | 2018-10-17 12:53:20 |
| metabomxtr/ | - | 2018-10-17 12:53:20 |
| ClassifyR/ | - | 2018-10-17 12:53:21 |
| M3D/ | - | 2018-10-17 12:53:21 |
| miRNAtap/ | - | 2018-10-17 12:53:22 |
| MPFE/ | - | 2018-10-17 12:53:22 |
| RUVnormalize/ | - | 2018-10-17 12:53:23 |
| SemDist/ | - | 2018-10-17 12:53:23 |
| quantro/ | - | 2018-10-17 12:53:24 |
| erccdashboard/ | - | 2018-10-17 12:53:25 |
| hiReadsProcessor/ | - | 2018-10-17 12:53:25 |
| compEpiTools/ | - | 2018-10-17 12:53:25 |
| MBASED/ | - | 2018-10-17 12:53:26 |
| methylPipe/ | - | 2018-10-17 12:53:26 |
| MethylMix/ | - | 2018-10-17 12:53:27 |
| Rnits/ | - | 2018-10-17 12:53:28 |
| switchBox/ | - | 2018-10-17 12:53:28 |
| FourCSeq/ | - | 2018-10-17 12:53:29 |
| SNPRelate/ | - | 2018-10-17 12:53:30 |
| NGScopy/ | - | 2018-10-17 12:53:30 |
| rain/ | - | 2018-10-17 12:53:31 |
| TSCAN/ | - | 2018-10-17 12:53:32 |
| GOsummaries/ | - | 2018-10-17 12:53:32 |
| geecc/ | - | 2018-10-17 12:53:32 |
| seqplots/ | - | 2018-10-17 12:53:33 |
| systemPipeR/ | - | 2018-10-17 12:53:34 |
| EnrichmentBrowser/ | - | 2018-10-17 12:53:34 |
| MSnID/ | - | 2018-10-17 12:53:35 |
| GOexpress/ | - | 2018-10-17 12:53:35 |
| MGFM/ | - | 2018-10-17 12:53:36 |
| simulatorZ/ | - | 2018-10-17 12:53:36 |
| rRDP/ | - | 2018-10-17 12:53:37 |
| PSEA/ | - | 2018-10-17 12:53:38 |
| GenomicInteractions/ | - | 2018-10-17 12:53:38 |
| polyester/ | - | 2018-10-17 12:53:39 |
| ALDEx2/ | - | 2018-10-17 12:53:39 |
| derfinder/ | - | 2018-10-17 12:53:40 |
| MSGFplus/ | - | 2018-10-17 12:53:40 |
| derfinderPlot/ | - | 2018-10-17 12:53:40 |
| regionReport/ | - | 2018-10-17 12:53:41 |
| derfinderHelper/ | - | 2018-10-17 12:53:41 |
| FEM/ | - | 2018-10-17 12:53:42 |
| IdeoViz/ | - | 2018-10-17 12:53:43 |
| MSGFgui/ | - | 2018-10-17 12:53:43 |
| ASGSCA/ | - | 2018-10-17 12:53:44 |
| proBAMr/ | - | 2018-10-17 12:53:44 |
| PAA/ | - | 2018-10-17 12:53:45 |
| paxtoolsr/ | - | 2018-10-17 12:53:45 |
| flowcatchR/ | - | 2018-10-17 12:53:45 |
| focalCall/ | - | 2018-10-17 12:53:46 |
| GenomicTuples/ | - | 2018-10-17 12:53:46 |
| flowCHIC/ | - | 2018-10-17 12:53:47 |
| MAIT/ | - | 2018-10-17 12:53:47 |
| SigCheck/ | - | 2018-10-17 12:53:48 |
| csaw/ | - | 2018-10-17 12:53:48 |
| STATegRa/ | - | 2018-10-17 12:53:49 |
| CoRegNet/ | - | 2018-10-17 12:53:50 |
| SGSeq/ | - | 2018-10-17 12:53:50 |
| facopy/ | - | 2018-10-17 12:53:51 |
| groHMM/ | - | 2018-10-17 12:53:51 |
| kebabs/ | - | 2018-10-17 12:53:52 |
| IMPCdata/ | - | 2018-10-17 12:53:52 |
| ToPASeq/ | - | 2018-10-17 12:53:53 |
| BridgeDbR/ | - | 2018-10-17 12:53:54 |
| tracktables/ | - | 2018-10-17 12:53:54 |
| MBAmethyl/ | - | 2018-10-17 12:53:54 |
| Rqc/ | - | 2018-10-17 12:53:55 |
| CFAssay/ | - | 2018-10-17 12:53:56 |
| COSNet/ | - | 2018-10-17 12:53:56 |
| specL/ | - | 2018-10-17 12:53:57 |
| EBSeqHMM/ | - | 2018-10-17 12:53:57 |
| mygene/ | - | 2018-10-17 12:53:58 |
| seqTools/ | - | 2018-10-17 12:53:58 |
| Metab/ | - | 2018-10-17 12:53:59 |
| pepXMLTab/ | - | 2018-10-17 12:53:59 |
| AIMS/ | - | 2018-10-17 12:54:00 |
| genomation/ | - | 2018-10-17 12:54:00 |
| QuartPAC/ | - | 2018-10-17 12:54:01 |
| cpvSNP/ | - | 2018-10-17 12:54:01 |
| nethet/ | - | 2018-10-17 12:54:02 |
| PROPER/ | - | 2018-10-17 12:54:02 |
| gQTLBase/ | - | 2018-10-17 12:54:03 |
| gQTLstats/ | - | 2018-10-17 12:54:03 |
| FlowSOM/ | - | 2018-10-17 12:54:04 |
| mdgsa/ | - | 2018-10-17 12:54:04 |
| rgsepd/ | - | 2018-10-17 12:54:05 |
| chromDraw/ | - | 2018-10-17 12:54:06 |
| AnalysisPageServer/ | - | 2018-10-17 12:54:06 |
| coMET/ | - | 2018-10-17 12:54:07 |
| CODEX/ | - | 2018-10-17 12:54:07 |
| gespeR/ | - | 2018-10-17 12:54:07 |
| RnaSeqSampleSize/ | - | 2018-10-17 12:54:08 |
| TRONCO/ | - | 2018-10-17 12:54:09 |
| gdsfmt/ | - | 2018-10-17 12:54:09 |
| seqPattern/ | - | 2018-10-17 12:54:10 |
| mAPKL/ | - | 2018-10-17 12:54:10 |
| parglms/ | - | 2018-10-17 12:54:11 |
| seq2pathway/ | - | 2018-10-17 12:54:12 |
| cytofkit/ | - | 2018-10-17 12:54:12 |
| ggtree/ | - | 2018-10-17 12:54:12 |
| IVAS/ | - | 2018-10-17 12:54:13 |
| GreyListChIP/ | - | 2018-10-17 12:54:13 |
| Cardinal/ | - | 2018-10-17 12:54:14 |
| sincell/ | - | 2018-10-17 12:54:14 |
| HIBAG/ | - | 2018-10-17 12:54:15 |
| birte/ | - | 2018-10-17 12:54:16 |
| rGREAT/ | - | 2018-10-17 12:54:16 |
| BubbleTree/ | - | 2018-10-17 12:54:17 |
| ProtGenerics/ | - | 2018-10-17 12:54:17 |
| SELEX/ | - | 2018-10-17 12:54:18 |
| skewr/ | - | 2018-10-17 12:54:19 |
| sigsquared/ | - | 2018-10-17 12:54:19 |
| Rhtslib/ | - | 2018-10-17 12:54:20 |
| BrowserViz/ | - | 2018-10-17 12:54:20 |
| canceR/ | - | 2018-10-17 12:54:22 |
| muscle/ | - | 2018-10-17 12:54:22 |
| diggit/ | - | 2018-10-17 12:54:23 |
| immunoClust/ | - | 2018-10-17 12:54:23 |
| MatrixRider/ | - | 2018-10-17 12:54:24 |
| LEA/ | - | 2018-10-17 12:54:24 |
| netbenchmark/ | - | 2018-10-17 12:54:25 |
| RNAprobR/ | - | 2018-10-17 12:54:26 |
| SIMAT/ | - | 2018-10-17 12:54:26 |
| bamsignals/ | - | 2018-10-17 12:54:27 |
| GENESIS/ | - | 2018-10-17 12:54:27 |
| TIN/ | - | 2018-10-17 12:54:28 |
| InPAS/ | - | 2018-10-17 12:54:28 |
| gtrellis/ | - | 2018-10-17 12:54:29 |
| ensembldb/ | - | 2018-10-17 12:54:29 |
| rcellminer/ | - | 2018-10-17 12:54:30 |
| LowMACA/ | - | 2018-10-17 12:54:30 |
| podkat/ | - | 2018-10-17 12:54:31 |
| RBM/ | - | 2018-10-17 12:54:32 |
| ComplexHeatmap/ | - | 2018-10-17 12:54:32 |
| pmm/ | - | 2018-10-17 12:54:33 |
| regioneR/ | - | 2018-10-17 12:54:33 |
| FISHalyseR/ | - | 2018-10-17 12:54:34 |
| DMRcaller/ | - | 2018-10-17 12:54:34 |
| mogsa/ | - | 2018-10-17 12:54:35 |
| OmicsMarkeR/ | - | 2018-10-17 12:54:35 |
| RUVcorr/ | - | 2018-10-17 12:54:36 |
| cogena/ | - | 2018-10-17 12:54:37 |
| SVM2CRM/ | - | 2018-10-17 12:54:37 |
| CopywriteR/ | - | 2018-10-17 12:54:38 |
| GoogleGenomics/ | - | 2018-10-17 12:54:38 |
| NanoStringQCPro/ | - | 2018-10-17 12:54:39 |
| TPP/ | - | 2018-10-17 12:54:40 |
| conumee/ | - | 2018-10-17 12:54:41 |
| RCyjs/ | - | 2018-10-17 12:54:41 |
| soGGi/ | - | 2018-10-17 12:54:42 |
| MethTargetedNGS/ | - | 2018-10-17 12:54:42 |
| pandaR/ | - | 2018-10-17 12:54:43 |
| ENmix/ | - | 2018-10-17 12:54:43 |
| R3CPET/ | - | 2018-10-17 12:54:44 |
| diffHic/ | - | 2018-10-17 12:54:45 |
| FlowRepositoryR/ | - | 2018-10-17 12:54:45 |
| ENCODExplorer/ | - | 2018-10-17 12:54:46 |
| CAnD/ | - | 2018-10-17 12:54:46 |
| flowVS/ | - | 2018-10-17 12:54:46 |
| RnBeads/ | - | 2018-10-17 12:54:47 |
| msa/ | - | 2018-10-17 12:54:49 |
| similaRpeak/ | - | 2018-10-17 12:54:51 |
| pwOmics/ | - | 2018-10-17 12:54:51 |
| edge/ | - | 2018-10-17 12:54:52 |
| BEclear/ | - | 2018-10-17 12:54:52 |
| EMDomics/ | - | 2018-10-17 12:54:52 |
| SummarizedExperiment/ | - | 2018-10-17 12:54:53 |
| acde/ | - | 2018-10-17 12:54:54 |
| CausalR/ | - | 2018-10-17 12:54:54 |
| RTCGAToolbox/ | - | 2018-10-17 12:54:54 |
| OperaMate/ | - | 2018-10-17 12:54:55 |
| ELMER/ | - | 2018-10-17 12:54:56 |
| RareVariantVis/ | - | 2018-10-17 12:54:56 |
| hierGWAS/ | - | 2018-10-17 12:54:57 |
| caOmicsV/ | - | 2018-10-17 12:54:57 |
| SEPA/ | - | 2018-10-17 12:54:58 |
| mirIntegrator/ | - | 2018-10-17 12:54:58 |
| PGA/ | - | 2018-10-17 12:54:59 |
| erma/ | - | 2018-10-17 12:54:59 |
| IONiseR/ | - | 2018-10-17 12:55:00 |
| fCI/ | - | 2018-10-17 12:55:01 |
| CNVPanelizer/ | - | 2018-10-17 12:55:01 |
| XBSeq/ | - | 2018-10-17 12:55:02 |
| Prize/ | - | 2018-10-17 12:55:02 |
| rnaseqcomp/ | - | 2018-10-17 12:55:03 |
| INSPEcT/ | - | 2018-10-17 12:55:03 |
| rCGH/ | - | 2018-10-17 12:55:04 |
| DeMAND/ | - | 2018-10-17 12:55:04 |
| ropls/ | - | 2018-10-17 12:55:05 |
| genotypeeval/ | - | 2018-10-17 12:55:06 |
| miRLAB/ | - | 2018-10-17 12:55:06 |
| OGSA/ | - | 2018-10-17 12:55:07 |
| traseR/ | - | 2018-10-17 12:55:07 |
| LedPred/ | - | 2018-10-17 12:55:08 |
| HilbertCurve/ | - | 2018-10-17 12:55:09 |
| destiny/ | - | 2018-10-17 12:55:09 |
| variancePartition/ | - | 2018-10-17 12:55:10 |
| Oscope/ | - | 2018-10-17 12:55:11 |
| eudysbiome/ | - | 2018-10-17 12:55:11 |
| synlet/ | - | 2018-10-17 12:55:12 |
| NanoStringDiff/ | - | 2018-10-17 12:55:12 |
| ABAEnrichment/ | - | 2018-10-17 12:55:13 |
| ChIPComp/ | - | 2018-10-17 12:55:14 |
| BBCAnalyzer/ | - | 2018-10-17 12:55:14 |
| TCGAbiolinks/ | - | 2018-10-17 12:55:14 |
| Path2PPI/ | - | 2018-10-17 12:55:15 |
| myvariant/ | - | 2018-10-17 12:55:15 |
| ldblock/ | - | 2018-10-17 12:55:16 |
| AnnotationHubData/ | - | 2018-10-17 12:55:17 |
| sevenbridges/ | - | 2018-10-17 12:55:17 |
| LOLA/ | - | 2018-10-17 12:55:18 |
| iGC/ | - | 2018-10-17 12:55:18 |
| ProteomicsAnnotationHubData/ | - | 2018-10-17 12:55:19 |
| motifbreakR/ | - | 2018-10-17 12:55:19 |
| DiffLogo/ | - | 2018-10-17 12:55:20 |
| RTCGA/ | - | 2018-10-17 12:55:20 |
| dupRadar/ | - | 2018-10-17 12:55:21 |
| DNABarcodes/ | - | 2018-10-17 12:55:21 |
| FindMyFriends/ | - | 2018-10-17 12:55:22 |
| EnrichedHeatmap/ | - | 2018-10-17 12:55:22 |
| TarSeqQC/ | - | 2018-10-17 12:55:23 |
| Guitar/ | - | 2018-10-17 12:55:23 |
| gcatest/ | - | 2018-10-17 12:55:24 |
| DAPAR/ | - | 2018-10-17 12:55:24 |
| Imetagene/ | - | 2018-10-17 12:55:25 |
| iCheck/ | - | 2018-10-17 12:55:25 |
| lfa/ | - | 2018-10-17 12:55:26 |
| MEAL/ | - | 2018-10-17 12:55:26 |
| metagenomeFeatures/ | - | 2018-10-17 12:55:27 |
| pathVar/ | - | 2018-10-17 12:55:27 |
| Prostar/ | - | 2018-10-17 12:55:28 |
| SISPA/ | - | 2018-10-17 12:55:29 |
| SICtools/ | - | 2018-10-17 12:55:29 |
| SWATH2stats/ | - | 2018-10-17 12:55:30 |
| DChIPRep/ | - | 2018-10-17 12:55:31 |
| GUIDEseq/ | - | 2018-10-17 12:55:31 |
| RiboProfiling/ | - | 2018-10-17 12:55:32 |
| GeneBreak/ | - | 2018-10-17 12:55:32 |
| SNPhood/ | - | 2018-10-17 12:55:33 |
| miRcomp/ | - | 2018-10-17 12:55:34 |
| RCy3/ | - | 2018-10-17 12:55:34 |
| biobroom/ | - | 2018-10-17 12:55:35 |
| subSeq/ | - | 2018-10-17 12:55:35 |
| R4RNA/ | - | 2018-10-17 12:55:36 |
| CNPBayes/ | - | 2018-10-17 12:55:36 |
| scde/ | - | 2018-10-17 12:55:37 |
| multiClust/ | - | 2018-10-17 12:55:38 |
| globalSeq/ | - | 2018-10-17 12:55:38 |
| consensusSeekeR/ | - | 2018-10-17 12:55:38 |
| Chicago/ | - | 2018-10-17 12:55:39 |
| iCOBRA/ | - | 2018-10-17 12:55:39 |
| BioQC/ | - | 2018-10-17 12:55:40 |
| FamAgg/ | - | 2018-10-17 12:55:40 |
| normalize450K/ | - | 2018-10-17 12:55:41 |
| biomformat/ | - | 2018-10-17 12:55:41 |
| dcGSA/ | - | 2018-10-17 12:55:42 |
| profileScoreDist/ | - | 2018-10-17 12:55:42 |
| transcriptR/ | - | 2018-10-17 12:55:43 |
| lpsymphony/ | - | 2018-10-17 12:55:45 |
| kimod/ | - | 2018-10-17 12:55:46 |
| splineTimeR/ | - | 2018-10-17 12:55:47 |
| CrispRVariants/ | - | 2018-10-17 12:55:47 |
| GSALightning/ | - | 2018-10-17 12:55:48 |
| QuaternaryProd/ | - | 2018-10-17 12:55:48 |
| tofsims/ | - | 2018-10-17 12:55:49 |
| ggcyto/ | - | 2018-10-17 12:55:49 |
| cellTree/ | - | 2018-10-17 12:55:50 |
| JunctionSeq/ | - | 2018-10-17 12:55:50 |
| SC3/ | - | 2018-10-17 12:55:51 |
| flowAI/ | - | 2018-10-17 12:55:52 |
| PanVizGenerator/ | - | 2018-10-17 12:55:52 |
| EmpiricalBrownsMethod/ | - | 2018-10-17 12:55:52 |
| GenVisR/ | - | 2018-10-17 12:55:53 |
| iCARE/ | - | 2018-10-17 12:55:53 |
| IHW/ | - | 2018-10-17 12:55:54 |
| ROTS/ | - | 2018-10-17 12:55:55 |
| RGraph2js/ | - | 2018-10-17 12:55:55 |
| BasicSTARRseq/ | - | 2018-10-17 12:55:56 |
| tximport/ | - | 2018-10-17 12:55:56 |
| SMITE/ | - | 2018-10-17 12:55:57 |
| Mergeomics/ | - | 2018-10-17 12:55:58 |
| metaCCA/ | - | 2018-10-17 12:55:58 |
| contiBAIT/ | - | 2018-10-17 12:55:59 |
| clustComp/ | - | 2018-10-17 12:55:59 |
| scater/ | - | 2018-10-17 12:56:00 |
| ExpressionAtlas/ | - | 2018-10-17 12:56:00 |
| chromPlot/ | - | 2018-10-17 12:56:01 |
| RImmPort/ | - | 2018-10-17 12:56:01 |
| garfield/ | - | 2018-10-17 12:56:02 |
| cellity/ | - | 2018-10-17 12:56:02 |
| GenRank/ | - | 2018-10-17 12:56:03 |
| dada2/ | - | 2018-10-17 12:56:03 |
| ExperimentHub/ | - | 2018-10-17 12:56:04 |
| MBttest/ | - | 2018-10-17 12:56:04 |
| ExperimentHubData/ | - | 2018-10-17 12:56:05 |
| HDF5Array/ | - | 2018-10-17 12:56:05 |
| MethPed/ | - | 2018-10-17 12:56:06 |
| biosigner/ | - | 2018-10-17 12:56:06 |
| Uniquorn/ | - | 2018-10-17 12:56:07 |
| nucleoSim/ | - | 2018-10-17 12:56:07 |
| miRNAmeConverter/ | - | 2018-10-17 12:56:08 |
| psygenet2r/ | - | 2018-10-17 12:56:08 |
| doppelgangR/ | - | 2018-10-17 12:56:09 |
| bacon/ | - | 2018-10-17 12:56:10 |
| PCAN/ | - | 2018-10-17 12:56:10 |
| SwathXtend/ | - | 2018-10-17 12:56:11 |
| DNAshapeR/ | - | 2018-10-17 12:56:11 |
| DRIMSeq/ | - | 2018-10-17 12:56:12 |
| SpidermiR/ | - | 2018-10-17 12:56:12 |
| GMRP/ | - | 2018-10-17 12:56:13 |
| debrowser/ | - | 2018-10-17 12:56:13 |
| ISoLDE/ | - | 2018-10-17 12:56:14 |
| CountClust/ | - | 2018-10-17 12:56:14 |
| OncoScore/ | - | 2018-10-17 12:56:15 |
| AneuFinder/ | - | 2018-10-17 12:56:15 |
| genphen/ | - | 2018-10-17 12:56:16 |
| recoup/ | - | 2018-10-17 12:56:16 |
| DEFormats/ | - | 2018-10-17 12:56:17 |
| sscu/ | - | 2018-10-17 12:56:17 |
| MultiAssayExperiment/ | - | 2018-10-17 12:56:18 |
| GenoGAM/ | - | 2018-10-17 12:56:18 |
| isomiRs/ | - | 2018-10-17 12:56:19 |
| EBSEA/ | - | 2018-10-17 12:56:20 |
| QUBIC/ | - | 2018-10-17 12:56:20 |
| CINdex/ | - | 2018-10-17 12:56:20 |
| Linnorm/ | - | 2018-10-17 12:56:21 |
| BadRegionFinder/ | - | 2018-10-17 12:56:21 |
| odseq/ | - | 2018-10-17 12:56:22 |
| CONFESS/ | - | 2018-10-17 12:56:22 |
| Glimma/ | - | 2018-10-17 12:56:23 |
| scran/ | - | 2018-10-17 12:56:24 |
| BatchQC/ | - | 2018-10-17 12:56:24 |
| pcaExplorer/ | - | 2018-10-17 12:56:25 |
| oppar/ | - | 2018-10-17 12:56:25 |
| pqsfinder/ | - | 2018-10-17 12:56:26 |
| genbankr/ | - | 2018-10-17 12:56:27 |
| BgeeDB/ | - | 2018-10-17 12:56:27 |
| LymphoSeq/ | - | 2018-10-17 12:56:28 |
| pbcmc/ | - | 2018-10-17 12:56:28 |
| ClusterSignificance/ | - | 2018-10-17 12:56:29 |
| InteractionSet/ | - | 2018-10-17 12:56:29 |
| MultiDataSet/ | - | 2018-10-17 12:56:30 |
| PureCN/ | - | 2018-10-17 12:56:30 |
| epivizrServer/ | - | 2018-10-17 12:56:31 |
| Harman/ | - | 2018-10-17 12:56:31 |
| epivizrData/ | - | 2018-10-17 12:56:32 |
| diffloop/ | - | 2018-10-17 12:56:32 |
| EGSEA/ | - | 2018-10-17 12:56:33 |
| CHRONOS/ | - | 2018-10-17 12:56:33 |
| ImmuneSpaceR/ | - | 2018-10-17 12:56:34 |
| MMDiff2/ | - | 2018-10-17 12:56:34 |
| EGAD/ | - | 2018-10-17 12:56:34 |
| Director/ | - | 2018-10-17 12:56:35 |
| epivizrStandalone/ | - | 2018-10-17 12:56:35 |
| dSimer/ | - | 2018-10-17 12:56:36 |
| covRNA/ | - | 2018-10-17 12:56:36 |
| msPurity/ | - | 2018-10-17 12:56:37 |
| bioCancer/ | - | 2018-10-17 12:56:37 |
| Pigengene/ | - | 2018-10-17 12:56:38 |
| netprioR/ | - | 2018-10-17 12:56:38 |
| FunChIP/ | - | 2018-10-17 12:56:39 |
| GEM/ | - | 2018-10-17 12:56:40 |
| SRGnet/ | - | 2018-10-17 12:56:40 |
| MADSEQ/ | - | 2018-10-17 12:56:41 |
| covEB/ | - | 2018-10-17 12:56:41 |
| geneplast/ | - | 2018-10-17 12:56:42 |
| sights/ | - | 2018-10-17 12:56:42 |
| crossmeta/ | - | 2018-10-17 12:56:43 |
| MetCirc/ | - | 2018-10-17 12:56:43 |
| chromstaR/ | - | 2018-10-17 12:56:44 |
| esetVis/ | - | 2018-10-17 12:56:44 |
| ccmap/ | - | 2018-10-17 12:56:45 |
| normr/ | - | 2018-10-17 12:56:45 |
| fgsea/ | - | 2018-10-17 12:56:46 |
| qsea/ | - | 2018-10-17 12:56:46 |
| CytoML/ | - | 2018-10-17 12:56:47 |
| MGFR/ | - | 2018-10-17 12:56:47 |
| clusterExperiment/ | - | 2018-10-17 12:56:48 |
| AMOUNTAIN/ | - | 2018-10-17 12:56:48 |
| LOBSTAHS/ | - | 2018-10-17 12:56:49 |
| DeepBlueR/ | - | 2018-10-17 12:56:49 |
| methylKit/ | - | 2018-10-17 12:56:50 |
| rDGIdb/ | - | 2018-10-17 12:56:50 |
| ASAFE/ | - | 2018-10-17 12:56:51 |
| maftools/ | - | 2018-10-17 12:56:51 |
| RCAS/ | - | 2018-10-17 12:56:52 |
| GeneGeneInteR/ | - | 2018-10-17 12:56:53 |
| ImpulseDE/ | - | 2018-10-17 12:56:53 |
| MODA/ | - | 2018-10-17 12:56:54 |
| SNPediaR/ | - | 2018-10-17 12:56:54 |
| ASpli/ | - | 2018-10-17 12:56:55 |
| ctsGE/ | - | 2018-10-17 12:56:55 |
| recount/ | - | 2018-10-17 12:56:56 |
| BayesKnockdown/ | - | 2018-10-17 12:56:56 |
| CVE/ | - | 2018-10-17 12:56:57 |
| IPO/ | - | 2018-10-17 12:56:57 |
| CellMapper/ | - | 2018-10-17 12:56:57 |
| switchde/ | - | 2018-10-17 12:56:58 |
| CancerSubtypes/ | - | 2018-10-17 12:56:59 |
| GRmetrics/ | - | 2018-10-17 12:56:59 |
| SVAPLSseq/ | - | 2018-10-17 12:57:00 |
| GAprediction/ | - | 2018-10-17 12:57:00 |
| alpine/ | - | 2018-10-17 12:57:01 |
| PharmacoGx/ | - | 2018-10-17 12:57:01 |
| Anaquin/ | - | 2018-10-17 12:57:02 |
| eegc/ | - | 2018-10-17 12:57:02 |
| YAPSA/ | - | 2018-10-17 12:57:03 |
| geneAttribution/ | - | 2018-10-17 12:57:03 |
| philr/ | - | 2018-10-17 12:57:04 |
| MetaboSignal/ | - | 2018-10-17 12:57:05 |
| gCrisprTools/ | - | 2018-10-17 12:57:05 |
| signeR/ | - | 2018-10-17 12:57:06 |
| LINC/ | - | 2018-10-17 12:57:06 |
| BiocWorkflowTools/ | - | 2018-10-17 12:57:07 |
| readat/ | - | 2018-10-17 12:57:07 |
| synergyfinder/ | - | 2018-10-17 12:57:08 |
| BaalChIP/ | - | 2018-10-17 12:57:08 |
| uSORT/ | - | 2018-10-17 12:57:09 |
| bigmelon/ | - | 2018-10-17 12:57:09 |
| Pi/ | - | 2018-10-17 12:57:10 |
| FitHiC/ | - | 2018-10-17 12:57:11 |
| SIMLR/ | - | 2018-10-17 12:57:11 |
| GOpro/ | - | 2018-10-17 12:57:12 |
| SPLINTER/ | - | 2018-10-17 12:57:12 |
| DEsubs/ | - | 2018-10-17 12:57:13 |
| CancerInSilico/ | - | 2018-10-17 12:57:14 |
| statTarget/ | - | 2018-10-17 12:57:14 |
| KEGGlincs/ | - | 2018-10-17 12:57:15 |
| geneXtendeR/ | - | 2018-10-17 12:57:15 |
| MAST/ | - | 2018-10-17 12:57:16 |
| flowPloidy/ | - | 2018-10-17 12:57:16 |
| PathoStat/ | - | 2018-10-17 12:57:17 |
| matter/ | - | 2018-10-17 12:57:17 |
| MoonlightR/ | - | 2018-10-17 12:57:18 |
| anamiR/ | - | 2018-10-17 12:57:19 |
| psichomics/ | - | 2018-10-17 12:57:19 |
| MutationalPatterns/ | - | 2018-10-17 12:57:20 |
| HelloRanges/ | - | 2018-10-17 12:57:20 |
| crisprseekplus/ | - | 2018-10-17 12:57:21 |
| meshes/ | - | 2018-10-17 12:57:21 |
| annotatr/ | - | 2018-10-17 12:57:21 |
| M3Drop/ | - | 2018-10-17 12:57:22 |
| StarBioTrek/ | - | 2018-10-17 12:57:23 |
| TVTB/ | - | 2018-10-17 12:57:23 |
| regsplice/ | - | 2018-10-17 12:57:24 |
| yamss/ | - | 2018-10-17 12:57:25 |
| proFIA/ | - | 2018-10-17 12:57:25 |
| CCPROMISE/ | - | 2018-10-17 12:57:26 |
| fCCAC/ | - | 2018-10-17 12:57:26 |
| yarn/ | - | 2018-10-17 12:57:27 |
| BPRMeth/ | - | 2018-10-17 12:57:27 |
| phosphonormalizer/ | - | 2018-10-17 12:57:28 |
| MWASTools/ | - | 2018-10-17 12:57:29 |
| GRridge/ | - | 2018-10-17 12:57:29 |
| IWTomics/ | - | 2018-10-17 12:57:30 |
| DelayedArray/ | - | 2018-10-17 12:57:30 |
| BUMHMM/ | - | 2018-10-17 12:57:31 |
| gcapc/ | - | 2018-10-17 12:57:31 |
| chimeraviz/ | - | 2018-10-17 12:57:31 |
| clusterSeq/ | - | 2018-10-17 12:57:32 |
| sparseDOSSA/ | - | 2018-10-17 12:57:32 |
| ramwas/ | - | 2018-10-17 12:57:33 |
| samExploreR/ | - | 2018-10-17 12:57:34 |
| scDD/ | - | 2018-10-17 12:57:34 |
| scone/ | - | 2018-10-17 12:57:35 |
| RJMCMCNucleosomes/ | - | 2018-10-17 12:57:36 |
| treeio/ | - | 2018-10-17 12:57:36 |
| TCseq/ | - | 2018-10-17 12:57:37 |
| mimager/ | - | 2018-10-17 12:57:38 |
| coseq/ | - | 2018-10-17 12:57:38 |
| funtooNorm/ | - | 2018-10-17 12:57:39 |
| DMRScan/ | - | 2018-10-17 12:57:39 |
| goSTAG/ | - | 2018-10-17 12:57:40 |
| ChIPexoQual/ | - | 2018-10-17 12:57:40 |
| splatter/ | - | 2018-10-17 12:57:41 |
| karyoploteR/ | - | 2018-10-17 12:57:41 |
| POST/ | - | 2018-10-17 12:57:42 |
| discordant/ | - | 2018-10-17 12:57:42 |
| MCbiclust/ | - | 2018-10-17 12:57:43 |
| RTNduals/ | - | 2018-10-17 12:57:44 |
| sampleClassifier/ | - | 2018-10-17 12:57:44 |
| REMP/ | - | 2018-10-17 12:57:45 |
| geneClassifiers/ | - | 2018-10-17 12:57:45 |
| swfdr/ | - | 2018-10-17 12:57:46 |
| Logolas/ | - | 2018-10-17 12:57:47 |
| TCGAbiolinksGUI/ | - | 2018-10-17 12:57:47 |
| mapscape/ | - | 2018-10-17 12:57:48 |
| cellscape/ | - | 2018-10-17 12:57:48 |
| timescape/ | - | 2018-10-17 12:57:49 |
| twoddpcr/ | - | 2018-10-17 12:57:50 |
| EventPointer/ | - | 2018-10-17 12:57:50 |
| Organism.dplyr/ | - | 2018-10-17 12:57:51 |
| rqt/ | - | 2018-10-17 12:57:52 |
| MIGSA/ | - | 2018-10-17 12:57:52 |
| hicrep/ | - | 2018-10-17 12:57:53 |
| GISPA/ | - | 2018-10-17 12:57:53 |
| epiNEM/ | - | 2018-10-17 12:57:54 |
| IntEREst/ | - | 2018-10-17 12:57:54 |
| multiOmicsViz/ | - | 2018-10-17 12:57:55 |
| pathprint/ | - | 2018-10-17 12:57:55 |
| branchpointer/ | - | 2018-10-17 12:57:56 |
| MaxContrastProjection/ | - | 2018-10-17 12:57:56 |
| DaMiRseq/ | - | 2018-10-17 12:57:57 |
| BioCor/ | - | 2018-10-17 12:57:57 |
| BiocFileCache/ | - | 2018-10-17 12:57:58 |
| motifcounter/ | - | 2018-10-17 12:57:58 |
| cydar/ | - | 2018-10-17 12:57:59 |
| netReg/ | - | 2018-10-17 12:57:59 |
| STROMA4/ | - | 2018-10-17 12:58:00 |
| GA4GHclient/ | - | 2018-10-17 12:58:00 |
| flowTime/ | - | 2018-10-17 12:58:01 |
| AnnotationFilter/ | - | 2018-10-17 12:58:02 |
| wiggleplotr/ | - | 2018-10-17 12:58:02 |
| GenomicDataCommons/ | - | 2018-10-17 12:58:03 |
| NADfinder/ | - | 2018-10-17 12:58:03 |
| RIVER/ | - | 2018-10-17 12:58:04 |
| banocc/ | - | 2018-10-17 12:58:04 |
| RaggedExperiment/ | - | 2018-10-17 12:58:05 |
| basecallQC/ | - | 2018-10-17 12:58:05 |
| CATALYST/ | - | 2018-10-17 12:58:05 |
| IMAS/ | - | 2018-10-17 12:58:06 |
| GenomicScores/ | - | 2018-10-17 12:58:06 |
| semisup/ | - | 2018-10-17 12:58:07 |
| methylInheritance/ | - | 2018-10-17 12:58:08 |
| ImpulseDE2/ | - | 2018-10-17 12:58:08 |
| BLMA/ | - | 2018-10-17 12:58:09 |
| biotmle/ | - | 2018-10-17 12:58:09 |
| cellbaseR/ | - | 2018-10-17 12:58:10 |
| metavizr/ | - | 2018-10-17 12:58:10 |
| PPInfer/ | - | 2018-10-17 12:58:11 |
| heatmaps/ | - | 2018-10-17 12:58:12 |
| ideal/ | - | 2018-10-17 12:58:12 |
| ATACseqQC/ | - | 2018-10-17 12:58:13 |
| pgca/ | - | 2018-10-17 12:58:13 |
| TSRchitect/ | - | 2018-10-17 12:58:14 |
| RITAN/ | - | 2018-10-17 12:58:14 |
| msgbsR/ | - | 2018-10-17 12:58:15 |
| GA4GHshiny/ | - | 2018-10-17 12:58:16 |
| trena/ | - | 2018-10-17 12:58:16 |
| DASC/ | - | 2018-10-17 12:58:17 |
| ndexr/ | - | 2018-10-17 12:58:17 |
| IntramiRExploreR/ | - | 2018-10-17 12:58:18 |
| methInheritSim/ | - | 2018-10-17 12:58:18 |
| miRBaseConverter/ | - | 2018-10-17 12:58:19 |
| motifmatchr/ | - | 2018-10-17 12:58:19 |
| IsoformSwitchAnalyzeR/ | - | 2018-10-17 12:58:20 |
| Scale4C/ | - | 2018-10-17 12:58:21 |
| zinbwave/ | - | 2018-10-17 12:58:21 |
| RTNsurvival/ | - | 2018-10-17 12:58:22 |
| mfa/ | - | 2018-10-17 12:58:23 |
| coexnet/ | - | 2018-10-17 12:58:23 |
| RProtoBufLib/ | - | 2018-10-17 12:58:24 |
| Rhdf5lib/ | - | 2018-10-17 12:58:25 |
| scmap/ | - | 2018-10-17 12:58:26 |
| scoreInvHap/ | - | 2018-10-17 12:58:26 |
| phenopath/ | - | 2018-10-17 12:58:27 |
| ClusterJudge/ | - | 2018-10-17 12:58:28 |
| OPWeight/ | - | 2018-10-17 12:58:28 |
| SingleCellExperiment/ | - | 2018-10-17 12:58:29 |
| consensusOV/ | - | 2018-10-17 12:58:29 |
| diffuStats/ | - | 2018-10-17 12:58:30 |
| beachmat/ | - | 2018-10-17 12:58:30 |
| oneSENSE/ | - | 2018-10-17 12:58:31 |
| epivizrChart/ | - | 2018-10-17 12:58:32 |
| EpiDISH/ | - | 2018-10-17 12:58:32 |
| HiCcompare/ | - | 2018-10-17 12:58:32 |
| SCnorm/ | - | 2018-10-17 12:58:33 |
| GENIE3/ | - | 2018-10-17 12:58:34 |
| rexposome/ | - | 2018-10-17 12:58:34 |
| BiocSklearn/ | - | 2018-10-17 12:58:34 |
| RVS/ | - | 2018-10-17 12:58:35 |
| CEMiTool/ | - | 2018-10-17 12:58:36 |
| zFPKM/ | - | 2018-10-17 12:58:36 |
| DEP/ | - | 2018-10-17 12:58:37 |
| Onassis/ | - | 2018-10-17 12:58:37 |
| miRsponge/ | - | 2018-10-17 12:58:38 |
| M3C/ | - | 2018-10-17 12:58:38 |
| cytolib/ | - | 2018-10-17 12:58:39 |
| IrisSpatialFeatures/ | - | 2018-10-17 12:58:39 |
| Doscheda/ | - | 2018-10-17 12:58:40 |
| TMixClust/ | - | 2018-10-17 12:58:40 |
| microbiome/ | - | 2018-10-17 12:58:41 |
| SPONGE/ | - | 2018-10-17 12:58:42 |
| DMCHMM/ | - | 2018-10-17 12:58:42 |
| Rbowtie2/ | - | 2018-10-17 12:58:43 |
| seqcombo/ | - | 2018-10-17 12:58:43 |
| apeglm/ | - | 2018-10-17 12:58:44 |
| ChIPanalyser/ | - | 2018-10-17 12:58:44 |
| InterMineR/ | - | 2018-10-17 12:58:45 |
| TFHAZ/ | - | 2018-10-17 12:58:45 |
| TFARM/ | - | 2018-10-17 12:58:46 |
| amplican/ | - | 2018-10-17 12:58:47 |
| miRmine/ | - | 2018-10-17 12:58:47 |
| openPrimeR/ | - | 2018-10-17 12:58:48 |
| AUCell/ | - | 2018-10-17 12:58:48 |
| multiMiR/ | - | 2018-10-17 12:58:49 |
| openPrimeRui/ | - | 2018-10-17 12:58:49 |
| seqCAT/ | - | 2018-10-17 12:58:50 |
| panelcn.mops/ | - | 2018-10-17 12:58:51 |
| MSstatsQC/ | - | 2018-10-17 12:58:51 |
| scfind/ | - | 2018-10-17 12:58:52 |
| restfulSE/ | - | 2018-10-17 12:58:53 |
| BASiCS/ | - | 2018-10-17 12:58:53 |
| cbaf/ | - | 2018-10-17 12:58:53 |
| vulcan/ | - | 2018-10-17 12:58:54 |
| MIRA/ | - | 2018-10-17 12:58:55 |
| omicRexposome/ | - | 2018-10-17 12:58:55 |
| methyvim/ | - | 2018-10-17 12:58:56 |
| chromVAR/ | - | 2018-10-17 12:58:57 |
| PathwaySplice/ | - | 2018-10-17 12:58:57 |
| anota2seq/ | - | 2018-10-17 12:58:58 |
| methimpute/ | - | 2018-10-17 12:58:58 |
| ANF/ | - | 2018-10-17 12:58:58 |
| slalom/ | - | 2018-10-17 12:58:59 |
| iterClust/ | - | 2018-10-17 12:59:00 |
| bnbc/ | - | 2018-10-17 12:59:00 |
| TnT/ | - | 2018-10-17 12:59:01 |
| scPipe/ | - | 2018-10-17 12:59:01 |
| progeny/ | - | 2018-10-17 12:59:02 |
| DelayedMatrixStats/ | - | 2018-10-17 12:59:03 |
| rhdf5client/ | - | 2018-10-17 12:59:03 |
| topdownr/ | - | 2018-10-17 12:59:04 |
| stageR/ | - | 2018-10-17 12:59:05 |
| ontoProc/ | - | 2018-10-17 12:59:05 |
| ivygapSE/ | - | 2018-10-17 12:59:06 |
| pcxn/ | - | 2018-10-17 12:59:07 |
| SeqSQC/ | - | 2018-10-17 12:59:07 |
| PROPS/ | - | 2018-10-17 12:59:08 |
| oncomix/ | - | 2018-10-17 12:59:08 |
| chromswitch/ | - | 2018-10-17 12:59:09 |
| MetaCyto/ | - | 2018-10-17 12:59:09 |
| mpra/ | - | 2018-10-17 12:59:10 |
| runibic/ | - | 2018-10-17 12:59:11 |
| tenXplore/ | - | 2018-10-17 12:59:11 |
| transcriptogramer/ | - | 2018-10-17 12:59:12 |
| esATAC/ | - | 2018-10-17 12:59:13 |
| gep2pep/ | - | 2018-10-17 12:59:13 |
| OmaDB/ | - | 2018-10-17 12:59:14 |
| bcSeq/ | - | 2018-10-17 12:59:14 |
| loci2path/ | - | 2018-10-17 12:59:15 |
| omicsPrint/ | - | 2018-10-17 12:59:15 |
| signet/ | - | 2018-10-17 12:59:16 |
| LineagePulse/ | - | 2018-10-17 12:59:17 |
| GOfuncR/ | - | 2018-10-17 12:59:17 |
| MetaNeighbor/ | - | 2018-10-17 12:59:18 |
| MAGeCKFlute/ | - | 2018-10-17 12:59:18 |
| TFEA.ChIP/ | - | 2018-10-17 12:59:19 |
| drawProteins/ | - | 2018-10-17 12:59:20 |
| scFeatureFilter/ | - | 2018-10-17 12:59:20 |
| RGMQL/ | - | 2018-10-17 12:59:21 |
| hmdbQuery/ | - | 2018-10-17 12:59:21 |
| DropletUtils/ | - | 2018-10-17 12:59:22 |
| CHARGE/ | - | 2018-10-17 12:59:23 |
| mCSEA/ | - | 2018-10-17 12:59:23 |
| pogos/ | - | 2018-10-17 12:59:24 |
| CTDquerier/ | - | 2018-10-17 12:59:24 |
| GDCRNATools/ | - | 2018-10-17 12:59:25 |
| RcisTarget/ | - | 2018-10-17 12:59:25 |
| Trendy/ | - | 2018-10-17 12:59:26 |
| srnadiff/ | - | 2018-10-17 12:59:27 |
| gsean/ | - | 2018-10-17 12:59:27 |
| omicplotR/ | - | 2018-10-17 12:59:28 |
| BEARscc/ | - | 2018-10-17 12:59:28 |
| ChIPSeqSpike/ | - | 2018-10-17 12:59:29 |
| TTMap/ | - | 2018-10-17 12:59:29 |
| DEComplexDisease/ | - | 2018-10-17 12:59:30 |
| iteremoval/ | - | 2018-10-17 12:59:31 |
| powerTCR/ | - | 2018-10-17 12:59:31 |
| kissDE/ | - | 2018-10-17 12:59:32 |
| enrichplot/ | - | 2018-10-17 12:59:32 |
| scmeth/ | - | 2018-10-17 12:59:33 |
| CellScore/ | - | 2018-10-17 12:59:33 |
| MACPET/ | - | 2018-10-17 12:59:34 |
| Rgin/ | - | 2018-10-17 12:59:35 |
| DominoEffect/ | - | 2018-10-17 12:59:36 |
| martini/ | - | 2018-10-17 12:59:37 |
| dmrseq/ | - | 2018-10-17 12:59:38 |
| ddPCRclust/ | - | 2018-10-17 12:59:38 |
| GARS/ | - | 2018-10-17 12:59:39 |
| vidger/ | - | 2018-10-17 12:59:39 |
| tRNAscanImport/ | - | 2018-10-17 12:59:40 |
| GeneStructureTools/ | - | 2018-10-17 12:59:41 |
| MDTS/ | - | 2018-10-17 12:59:41 |
| diffcoexp/ | - | 2018-10-17 12:59:42 |
| DEScan2/ | - | 2018-10-17 12:59:42 |
| iSEE/ | - | 2018-10-17 12:59:43 |
| FELLA/ | - | 2018-10-17 12:59:43 |
| SummarizedBenchmark/ | - | 2018-10-17 12:59:44 |
| perturbatr/ | - | 2018-10-17 12:59:45 |
| iCNV/ | - | 2018-10-17 12:59:45 |
| SEPIRA/ | - | 2018-10-17 12:59:46 |
| Sconify/ | - | 2018-10-17 12:59:47 |
| phantasus/ | - | 2018-10-17 12:59:47 |
| GSEABenchmarkeR/ | - | 2018-10-17 12:59:48 |
| adaptest/ | - | 2018-10-17 12:59:48 |
| IMMAN/ | - | 2018-10-17 12:59:49 |
| GateFinder/ | - | 2018-10-17 12:59:49 |
| ASICS/ | - | 2018-10-17 12:59:50 |
| TissueEnrich/ | - | 2018-10-17 12:59:50 |
| seqsetvis/ | - | 2018-10-17 12:59:51 |
| plyranges/ | - | 2018-10-17 12:59:52 |
| GDSArray/ | - | 2018-10-17 12:59:52 |
| diffcyt/ | - | 2018-10-17 12:59:53 |
| DEsingle/ | - | 2018-10-17 12:59:53 |
| missRows/ | - | 2018-10-17 12:59:54 |
| rWikiPathways/ | - | 2018-10-17 12:59:54 |
| decontam/ | - | 2018-10-17 12:59:55 |
| TFutils/ | - | 2018-10-17 12:59:56 |
| SparseSignatures/ | - | 2018-10-17 12:59:56 |
| InTAD/ | - | 2018-10-17 12:59:57 |
| CytoDx/ | - | 2018-10-17 12:59:57 |
| ChIC/ | - | 2018-10-17 12:59:58 |
| RSeqAn/ | - | 2018-10-17 12:59:58 |
| SDAMS/ | - | 2018-10-17 12:59:59 |
| PowerExplorer/ | - | 2018-10-17 13:00:00 |
| hipathia/ | - | 2018-10-17 13:00:00 |
| mdp/ | - | 2018-10-17 13:00:01 |
| igvR/ | - | 2018-10-17 13:00:02 |
| BioNetStat/ | - | 2018-10-17 13:00:02 |
| singleCellTK/ | - | 2018-10-17 13:00:02 |
| sevenC/ | - | 2018-10-17 13:00:03 |
| ccfindR/ | - | 2018-10-17 13:00:04 |
| RNAdecay/ | - | 2018-10-17 13:00:05 |
| TCGAutils/ | - | 2018-10-17 13:00:05 |
| RandomWalkRestartMH/ | - | 2018-10-17 13:00:06 |
| BiocOncoTK/ | - | 2018-10-17 13:00:07 |
| singscore/ | - | 2018-10-17 13:00:07 |
| TxRegInfra/ | - | 2018-10-17 13:00:08 |
| CAGEfightR/ | - | 2018-10-17 13:00:09 |
| MSstatsQCgui/ | - | 2018-10-17 13:00:09 |
| netSmooth/ | - | 2018-10-17 13:00:10 |
| ORFik/ | - | 2018-10-17 13:00:10 |
| SIAMCAT/ | - | 2018-10-17 13:00:11 |
| BiocVersion/ | - | 2018-10-17 13:00:12 |
| meat-index.txt | 361.3 KiB | 2018-06-22 13:56:26 |
| skipped-index.dcf | 35 B | 2018-10-17 12:17:59 |
| meat-index.dcf | 361.1 KiB | 2018-10-17 12:17:59 |
| STATUS_DB.txt | 494.3 KiB | 2018-10-17 12:18:00 |
| 120px-Green_Light_Icon.svg.png | 7.1 KiB | 2018-10-17 12:18:27 |
| 120px-Red_Light_Icon.svg.png | 7.0 KiB | 2018-10-17 12:18:27 |
| report.js | 5.1 KiB | 2018-10-17 12:18:27 |
| 120px-Blue_Light_Icon.svg.png | 7.1 KiB | 2018-10-17 12:18:27 |
| DEVEL3b.png | 2.6 KiB | 2018-10-17 12:18:27 |
| report.css | 7.3 KiB | 2018-10-17 12:18:27 |
| malbec2-index.html | 1.4 MiB | 2018-10-17 13:00:41 |
| tokay2-index.html | 1.5 MiB | 2018-10-17 13:01:14 |
| merida2-index.html | 1.6 MiB | 2018-10-17 13:01:47 |
| malbec2-R-instpkgs.html | 208.8 KiB | 2018-10-17 13:01:47 |
| malbec2-NodeInfo.html | 6.1 KiB | 2018-10-17 13:01:47 |
| merida2-R-instpkgs.html | 199.0 KiB | 2018-10-17 13:01:48 |
| tokay2-NodeInfo.html | 6.5 KiB | 2018-10-17 13:01:48 |
| tokay2-R-instpkgs.html | 201.6 KiB | 2018-10-17 13:01:48 |
| merida2-NodeInfo.html | 5.7 KiB | 2018-10-17 13:01:48 |
| index.html | 5.7 MiB | 2018-10-17 13:03:47 |
| report.tgz | 22.3 MiB | 2018-10-17 13:03:51 |