This page was generated on 2018-10-17 08:18:48 -0400 (Wed, 17 Oct 2018).
derfinderHelper 1.14.0 Leonardo Collado-Torres
 
| Snapshot Date: 2018-10-15 16:45:08 -0400 (Mon, 15 Oct 2018) |  
| URL: https://git.bioconductor.org/packages/derfinderHelper |  
| Branch: RELEASE_3_7 |  
| Last Commit: 86780cf |  
| Last Changed Date: 2018-04-30 10:35:34 -0400 (Mon, 30 Apr 2018) |  
 
 | malbec2  | Linux (Ubuntu 16.04.1 LTS) / x86_64  |  OK  |  OK  |  OK  |  |   | 
| tokay2  | Windows Server 2012 R2 Standard / x64  |  OK  |  OK  |  OK  |  OK  |   | 
| merida2  | OS X 10.11.6 El Capitan / x86_64  |  OK  |  OK  |  OK  |  OK  |   |