| Back to Multiple platform build/check report for BioC 3.7 |
|
This page was generated on 2018-10-17 08:19:59 -0400 (Wed, 17 Oct 2018).
| Package 1138/1561 | Hostname | OS / Arch | INSTALL | BUILD | CHECK | BUILD BIN | ||||||
| Prostar 1.12.18 Samuel Wieczorek
| malbec2 | Linux (Ubuntu 16.04.1 LTS) / x86_64 | OK | OK | OK | |||||||
| tokay2 | Windows Server 2012 R2 Standard / x64 | OK | OK | OK | OK | |||||||
| merida2 | OS X 10.11.6 El Capitan / x86_64 | OK | OK | OK | OK |