This page was generated on 2018-10-17 08:19:43 -0400 (Wed, 17 Oct 2018).
NetPathMiner 1.16.0 Ahmed Mohamed
 
| Snapshot Date: 2018-10-15 16:45:08 -0400 (Mon, 15 Oct 2018) |  
| URL: https://git.bioconductor.org/packages/NetPathMiner |  
| Branch: RELEASE_3_7 |  
| Last Commit: 8eabe3f |  
| Last Changed Date: 2018-04-30 10:35:33 -0400 (Mon, 30 Apr 2018) |  
 
 | malbec2  | Linux (Ubuntu 16.04.1 LTS) / x86_64  |  OK  |  OK  |  OK  |  |   | 
| tokay2  | Windows Server 2012 R2 Standard / x64  |  OK  |  OK  |  WARNINGS  |  OK  |   | 
| merida2  | OS X 10.11.6 El Capitan / x86_64  |  OK  |  OK  |  WARNINGS  |  OK  |   |