| Back to Multiple platform build/check report for BioC 3.7 |
|
This page was generated on 2018-10-17 08:36:59 -0400 (Wed, 17 Oct 2018).
| Package 375/1561 | Hostname | OS / Arch | INSTALL | BUILD | CHECK | BUILD BIN | ||||||
| DESeq2 1.20.0 Michael Love
| malbec2 | Linux (Ubuntu 16.04.1 LTS) / x86_64 | OK | OK | OK | |||||||
| tokay2 | Windows Server 2012 R2 Standard / x64 | [ OK ] | OK | OK | OK | |||||||
| merida2 | OS X 10.11.6 El Capitan / x86_64 | OK | OK | OK | OK |
| Package: DESeq2 |
| Version: 1.20.0 |
| Command: C:\cygwin\bin\curl.exe -O https://malbec2.bioconductor.org/BBS/3.7/bioc/src/contrib/DESeq2_1.20.0.tar.gz && rm -rf DESeq2.buildbin-libdir && mkdir DESeq2.buildbin-libdir && C:\Users\biocbuild\bbs-3.7-bioc\R\bin\R.exe CMD INSTALL --merge-multiarch --build --library=DESeq2.buildbin-libdir DESeq2_1.20.0.tar.gz && C:\Users\biocbuild\bbs-3.7-bioc\R\bin\R.exe CMD INSTALL DESeq2_1.20.0.zip && rm DESeq2_1.20.0.tar.gz DESeq2_1.20.0.zip |
| StartedAt: 2018-10-16 20:30:23 -0400 (Tue, 16 Oct 2018) |
| EndedAt: 2018-10-16 20:32:01 -0400 (Tue, 16 Oct 2018) |
| EllapsedTime: 98.3 seconds |
| RetCode: 0 |
| Status: OK |
##############################################################################
##############################################################################
###
### Running command:
###
### C:\cygwin\bin\curl.exe -O https://malbec2.bioconductor.org/BBS/3.7/bioc/src/contrib/DESeq2_1.20.0.tar.gz && rm -rf DESeq2.buildbin-libdir && mkdir DESeq2.buildbin-libdir && C:\Users\biocbuild\bbs-3.7-bioc\R\bin\R.exe CMD INSTALL --merge-multiarch --build --library=DESeq2.buildbin-libdir DESeq2_1.20.0.tar.gz && C:\Users\biocbuild\bbs-3.7-bioc\R\bin\R.exe CMD INSTALL DESeq2_1.20.0.zip && rm DESeq2_1.20.0.tar.gz DESeq2_1.20.0.zip
###
##############################################################################
##############################################################################
% Total % Received % Xferd Average Speed Time Time Time Current
Dload Upload Total Spent Left Speed
0 0 0 0 0 0 0 0 --:--:-- --:--:-- --:--:-- 0
100 616k 100 616k 0 0 16.8M 0 --:--:-- --:--:-- --:--:-- 18.8M
install for i386
* installing *source* package 'DESeq2' ...
** libs
C:/Rtools/mingw_32/bin/g++ -I"C:/Users/BIOCBU˜1/BBS-3˜1.7-B/R/include" -DNDEBUG -I"C:/Users/biocbuild/bbs-3.7-bioc/R/library/Rcpp/include" -I"C:/Users/biocbuild/bbs-3.7-bioc/R/library/RcppArmadillo/include" -I"C:/extsoft/include" -O2 -Wall -mtune=generic -c DESeq2.cpp -o DESeq2.o
C:/Rtools/mingw_32/bin/g++ -I"C:/Users/BIOCBU˜1/BBS-3˜1.7-B/R/include" -DNDEBUG -I"C:/Users/biocbuild/bbs-3.7-bioc/R/library/Rcpp/include" -I"C:/Users/biocbuild/bbs-3.7-bioc/R/library/RcppArmadillo/include" -I"C:/extsoft/include" -O2 -Wall -mtune=generic -c RcppExports.cpp -o RcppExports.o
C:/Rtools/mingw_32/bin/g++ -shared -s -static-libgcc -o DESeq2.dll tmp.def DESeq2.o RcppExports.o -LC:/Users/BIOCBU˜1/BBS-3˜1.7-B/R/bin/i386 -lRlapack -LC:/Users/BIOCBU˜1/BBS-3˜1.7-B/R/bin/i386 -lRblas -lgfortran -lm -lquadmath -LC:/extsoft/lib/i386 -LC:/extsoft/lib -LC:/Users/BIOCBU˜1/BBS-3˜1.7-B/R/bin/i386 -lR
installing to C:/Users/biocbuild/bbs-3.7-bioc/meat/DESeq2.buildbin-libdir/DESeq2/libs/i386
** R
** inst
** byte-compile and prepare package for lazy loading
** help
*** installing help indices
converting help for package 'DESeq2'
finding HTML links ... done
DESeq html
finding level-2 HTML links ... done
DESeq2-package html
DESeqDataSet html
DESeqResults html
DESeqTransform html
coef html
collapseReplicates html
counts html
design html
dispersionFunction html
dispersions html
estimateBetaPriorVar html
estimateDispersions html
estimateDispersionsGeneEst html
estimateSizeFactors html
estimateSizeFactorsForMatrix html
fpkm html
fpm html
lfcShrink html
makeExampleDESeqDataSet html
nbinomLRT html
nbinomWaldTest html
normTransform html
normalizationFactors html
normalizeGeneLength html
plotCounts html
plotDispEsts html
plotMA html
plotPCA html
plotSparsity html
priorInfo html
replaceOutliers html
results html
rlog html
show html
sizeFactors html
summary html
unmix html
varianceStabilizingTransformation html
vst html
** building package indices
** installing vignettes
** testing if installed package can be loaded
In R CMD INSTALL
install for x64
* installing *source* package 'DESeq2' ...
** libs
C:/Rtools/mingw_64/bin/g++ -I"C:/Users/BIOCBU˜1/BBS-3˜1.7-B/R/include" -DNDEBUG -I"C:/Users/biocbuild/bbs-3.7-bioc/R/library/Rcpp/include" -I"C:/Users/biocbuild/bbs-3.7-bioc/R/library/RcppArmadillo/include" -I"C:/extsoft/include" -O2 -Wall -mtune=generic -c DESeq2.cpp -o DESeq2.o
C:/Rtools/mingw_64/bin/g++ -I"C:/Users/BIOCBU˜1/BBS-3˜1.7-B/R/include" -DNDEBUG -I"C:/Users/biocbuild/bbs-3.7-bioc/R/library/Rcpp/include" -I"C:/Users/biocbuild/bbs-3.7-bioc/R/library/RcppArmadillo/include" -I"C:/extsoft/include" -O2 -Wall -mtune=generic -c RcppExports.cpp -o RcppExports.o
C:/Rtools/mingw_64/bin/g++ -shared -s -static-libgcc -o DESeq2.dll tmp.def DESeq2.o RcppExports.o -LC:/Users/BIOCBU˜1/BBS-3˜1.7-B/R/bin/x64 -lRlapack -LC:/Users/BIOCBU˜1/BBS-3˜1.7-B/R/bin/x64 -lRblas -lgfortran -lm -lquadmath -LC:/extsoft/lib/x64 -LC:/extsoft/lib -LC:/Users/BIOCBU˜1/BBS-3˜1.7-B/R/bin/x64 -lR
installing to C:/Users/biocbuild/bbs-3.7-bioc/meat/DESeq2.buildbin-libdir/DESeq2/libs/x64
** testing if installed package can be loaded
* MD5 sums
packaged installation of 'DESeq2' as DESeq2_1.20.0.zip
* DONE (DESeq2)
In R CMD INSTALL
In R CMD INSTALL
* installing to library 'C:/Users/biocbuild/bbs-3.7-bioc/R/library'
package 'DESeq2' successfully unpacked and MD5 sums checked
In R CMD INSTALL