Welcome to mirrors.dotsrc.org

All our mirrors of open source software are available via http, https, ftp and an onion service. More information about our mirrors including statistics and contact information is available on our mirror info pages.

For information about dotsrc.org and our other services please go to our website.

Index of /bioconductor/checkResults/3.4/FHCRC/data-experiment-LATEST/

File Name  ↓ File Size  ↓ Date  ↓ 
--
-2016-09-22 04:57:32
-2016-09-22 04:57:32
-2016-09-22 04:57:32
-2016-09-22 04:57:32
-2016-09-22 04:57:32
-2016-09-22 04:57:32
-2016-09-22 04:57:32
-2016-09-22 04:57:32
-2016-09-22 04:57:32
-2016-09-22 04:57:31
-2016-09-22 04:57:31
-2016-09-22 04:57:31
-2016-09-22 04:57:31
-2016-09-22 04:57:31
-2016-09-22 04:57:31
-2016-09-22 04:57:31
-2016-09-22 04:57:31
-2016-09-22 04:57:30
-2016-09-22 04:57:30
-2016-09-22 04:57:30
-2016-09-22 04:57:30
-2016-09-22 04:57:30
-2016-09-22 04:57:30
-2016-09-22 04:57:30
-2016-09-22 04:57:30
-2016-09-22 04:57:29
-2016-09-22 04:57:29
-2016-09-22 04:57:29
-2016-09-22 04:57:29
-2016-09-22 04:57:29
-2016-09-22 04:57:29
-2016-09-22 04:57:29
-2016-09-22 04:57:29
-2016-09-22 04:57:29
-2016-09-22 04:57:28
-2016-09-22 04:57:28
-2016-09-22 04:57:28
-2016-09-22 04:57:28
-2016-09-22 04:57:28
-2016-09-22 04:57:28
-2016-09-22 04:57:28
-2016-09-22 04:57:27
-2016-09-22 04:57:27
-2016-09-22 04:57:27
-2016-09-22 04:57:27
-2016-09-22 04:57:27
-2016-09-22 04:57:27
-2016-09-22 04:57:26
-2016-09-22 04:57:26
-2016-09-22 04:57:26
-2016-09-22 04:57:26
-2016-09-22 04:57:26
-2016-09-22 04:57:26
-2016-09-22 04:57:26
-2016-09-22 04:57:26
-2016-09-22 04:57:26
-2016-09-22 04:57:25
-2016-09-22 04:57:25
-2016-09-22 04:57:25
-2016-09-22 04:57:25
-2016-09-22 04:57:25
-2016-09-22 04:57:25
-2016-09-22 04:57:25
-2016-09-22 04:57:25
-2016-09-22 04:57:24
-2016-09-22 04:57:24
-2016-09-22 04:57:24
-2016-09-22 04:57:24
-2016-09-22 04:57:24
-2016-09-22 04:57:24
-2016-09-22 04:57:24
-2016-09-22 04:57:24
-2016-09-22 04:57:24
-2016-09-22 04:57:24
-2016-09-22 04:57:23
-2016-09-22 04:57:23
-2016-09-22 04:57:23
-2016-09-22 04:57:23
-2016-09-22 04:57:23
-2016-09-22 04:57:23
-2016-09-22 04:57:23
-2016-09-22 04:57:23
-2016-09-22 04:57:22
-2016-09-22 04:57:22
-2016-09-22 04:57:22
-2016-09-22 04:57:22
-2016-09-22 04:57:22
-2016-09-22 04:57:22
-2016-09-22 04:57:22
-2016-09-22 04:57:22
-2016-09-22 04:57:22
-2016-09-22 04:57:22
-2016-09-22 04:57:22
-2016-09-22 04:57:21
-2016-09-22 04:57:21
-2016-09-22 04:57:21
-2016-09-22 04:57:21
-2016-09-22 04:57:21
-2016-09-22 04:57:21
-2016-09-22 04:57:21
-2016-09-22 04:57:21
-2016-09-22 04:57:21
-2016-09-22 04:57:21
-2016-09-22 04:57:20
-2016-09-22 04:57:20
-2016-09-22 04:57:20
-2016-09-22 04:57:20
-2016-09-22 04:57:20
-2016-09-22 04:57:20
-2016-09-22 04:57:20
-2016-09-22 04:57:20
-2016-09-22 04:57:20
-2016-09-22 04:57:19
-2016-09-22 04:57:19
-2016-09-22 04:57:19
-2016-09-22 04:57:19
-2016-09-22 04:57:19
-2016-09-22 04:57:19
-2016-09-22 04:57:19
-2016-09-22 04:57:19
-2016-09-22 04:57:19
-2016-09-22 04:57:19
-2016-09-22 04:57:19
-2016-09-22 04:57:19
-2016-09-22 04:57:18
-2016-09-22 04:57:18
-2016-09-22 04:57:18
-2016-09-22 04:57:18
-2016-09-22 04:57:18
-2016-09-22 04:57:18
-2016-09-22 04:57:18
-2016-09-22 04:57:18
-2016-09-22 04:57:17
-2016-09-22 04:57:17
-2016-09-22 04:57:17
-2016-09-22 04:57:17
-2016-09-22 04:57:17
-2016-09-22 04:57:17
-2016-09-22 04:57:17
-2016-09-22 04:57:17
-2016-09-22 04:57:17
-2016-09-22 04:57:17
-2016-09-22 04:57:16
-2016-09-22 04:57:16
-2016-09-22 04:57:16
-2016-09-22 04:57:16
-2016-09-22 04:57:16
-2016-09-22 04:57:16
-2016-09-22 04:57:16
-2016-09-22 04:57:15
-2016-09-22 04:57:15
-2016-09-22 04:57:15
-2016-09-22 04:57:15
-2016-09-22 04:57:15
-2016-09-22 04:57:15
-2016-09-22 04:57:15
-2016-09-22 04:57:15
-2016-09-22 04:57:14
-2016-09-22 04:57:14
-2016-09-22 04:57:14
-2016-09-22 04:57:14
-2016-09-22 04:57:14
-2016-09-22 04:57:14
-2016-09-22 04:57:14
-2016-09-22 04:57:14
-2016-09-22 04:57:14
-2016-09-22 04:57:14
-2016-09-22 04:57:14
-2016-09-22 04:57:13
-2016-09-22 04:57:13
-2016-09-22 04:57:13
-2016-09-22 04:57:13
-2016-09-22 04:57:12
-2016-09-22 04:57:12
-2016-09-22 04:57:12
-2016-09-22 04:57:12
-2016-09-22 04:57:12
-2016-09-22 04:57:12
-2016-09-22 04:57:12
-2016-09-22 04:57:12
-2016-09-22 04:57:12
-2016-09-22 04:57:11
-2016-09-22 04:57:11
-2016-09-22 04:57:11
-2016-09-22 04:57:11
-2016-09-22 04:57:11
-2016-09-22 04:57:11
-2016-09-22 04:57:11
-2016-09-22 04:57:11
-2016-09-22 04:57:11
-2016-09-22 04:57:11
-2016-09-22 04:57:11
-2016-09-22 04:57:10
-2016-09-22 04:57:10
-2016-09-22 04:57:10
-2016-09-22 04:57:10
-2016-09-22 04:57:10
-2016-09-22 04:57:10
-2016-09-22 04:57:10
-2016-09-22 04:57:10
-2016-09-22 04:57:10
-2016-09-22 04:57:10
-2016-09-22 04:57:09
-2016-09-22 04:57:09
-2016-09-22 04:57:09
-2016-09-22 04:57:09
-2016-09-22 04:57:09
-2016-09-22 04:57:09
-2016-09-22 04:57:09
-2016-09-22 04:57:09
-2016-09-22 04:57:09
-2016-09-22 04:57:09
-2016-09-22 04:57:08
-2016-09-22 04:57:08
-2016-09-22 04:57:08
-2016-09-22 04:57:08
-2016-09-22 04:57:08
-2016-09-22 04:57:08
-2016-09-22 04:57:08
-2016-09-22 04:57:08
-2016-09-22 04:57:08
-2016-09-22 04:57:08
-2016-09-22 04:57:08
-2016-09-22 04:57:07
-2016-09-22 04:57:07
-2016-09-22 04:57:07
-2016-09-22 04:57:07
-2016-09-22 04:57:07
-2016-09-22 04:57:07
-2016-09-22 04:57:07
-2016-09-22 04:57:07
-2016-09-22 04:57:07
-2016-09-22 04:57:07
-2016-09-22 04:57:06
-2016-09-22 04:57:06
-2016-09-22 04:57:06
-2016-09-22 04:57:06
-2016-09-22 04:57:06
-2016-09-22 04:57:06
-2016-09-22 04:57:06
-2016-09-22 04:57:06
-2016-09-22 04:57:06
-2016-09-22 04:57:05
-2016-09-22 04:57:05
-2016-09-22 04:57:05
-2016-09-22 04:57:05
-2016-09-22 04:57:05
-2016-09-22 04:57:05
-2016-09-22 04:57:05
-2016-09-22 04:57:05
-2016-09-22 04:57:05
-2016-09-22 04:57:04
-2016-09-22 04:57:04
-2016-09-22 04:57:04
-2016-09-22 04:57:04
-2016-09-22 04:57:04
-2016-09-22 04:57:04
-2016-09-22 04:57:04
-2016-09-22 04:57:04
-2016-09-22 04:57:04
-2016-09-22 04:57:04
-2016-09-22 04:57:03
-2016-09-22 04:57:03
-2016-09-22 04:57:03
-2016-09-22 04:57:03
-2016-09-22 04:57:03
-2016-09-22 04:57:03
-2016-09-22 04:57:03
-2016-09-22 04:57:03
-2016-09-22 04:57:02
-2016-09-22 04:57:02
-2016-09-22 04:57:02
-2016-09-22 04:57:02
-2016-09-22 04:57:02
-2016-09-22 04:57:02
-2016-09-22 04:57:02
-2016-09-22 04:57:02
-2016-09-22 04:57:02
-2016-09-22 04:57:01
-2016-09-22 04:57:01
-2016-09-22 04:57:01
-2016-09-22 04:57:01
-2016-09-22 04:57:01
-2016-09-22 04:57:01
-2016-09-22 04:57:01
-2016-09-22 04:57:01
-2016-09-22 04:57:00
-2016-09-22 04:57:00
-2016-09-22 04:57:00
-2016-09-22 04:57:00
-2016-09-22 04:57:00
-2016-09-22 04:57:00
-2016-09-22 04:57:00
-2016-09-22 04:57:00
-2016-09-22 04:57:00
-2016-09-22 04:57:00
-2016-09-22 04:56:59
-2016-09-22 04:56:59
-2016-09-22 04:56:59
-2016-09-22 04:56:59
-2016-09-22 04:56:59
-2016-09-22 04:56:59
-2016-09-22 04:56:59
-2016-09-22 04:56:45
1.3 MiB2016-09-22 04:57:41
827.8 KiB2016-09-22 04:57:40
108.0 KiB2016-09-22 04:57:37
108.2 KiB2016-09-22 04:57:37
6.3 KiB2016-09-22 04:57:37
271.0 KiB2016-09-22 04:57:37
5.8 KiB2016-09-22 04:57:37
288.1 KiB2016-09-22 04:57:34
7.0 KiB2016-09-22 04:56:33
7.1 KiB2016-09-22 04:56:33
7.1 KiB2016-09-22 04:56:33
8.2 KiB2016-09-22 04:56:33
5.1 KiB2016-09-22 04:56:33
2.6 KiB2016-09-22 04:56:33
74.4 KiB2016-09-22 04:56:32
71.3 KiB2016-09-22 04:56:31