Welcome to mirrors.dotsrc.org

All our mirrors of open source software are available via http, https, ftp and an onion service. More information about our mirrors including statistics and contact information is available on our mirror info pages.

For information about dotsrc.org and our other services please go to our website.

Index of /bioconductor/checkResults/3.4/FHCRC/bioc-LATEST/

File Name  ↓ File Size  ↓ Date  ↓ 
--
-2016-09-21 10:37:03
-2016-09-21 10:37:07
-2016-09-21 10:37:17
-2016-09-21 10:37:23
-2016-09-21 10:37:30
-2016-09-21 10:37:46
-2016-09-21 10:37:57
-2016-09-21 10:38:02
-2016-09-21 10:38:03
-2016-09-21 10:38:10
-2016-09-21 10:38:42
-2016-09-21 10:39:26
-2016-09-21 10:39:40
-2016-09-21 10:39:48
-2016-09-21 10:39:50
-2016-09-21 10:40:18
-2016-09-21 10:42:18
-2016-09-21 10:42:39
-2016-09-21 10:48:52
-2016-09-21 10:48:52
-2016-09-21 10:48:53
-2016-09-21 10:48:53
-2016-09-21 10:48:53
-2016-09-21 10:48:53
-2016-09-21 10:48:54
-2016-09-21 10:48:54
-2016-09-21 10:48:54
-2016-09-21 10:48:55
-2016-09-21 10:48:55
-2016-09-21 10:48:56
-2016-09-21 10:48:56
-2016-09-21 10:48:56
-2016-09-21 10:48:56
-2016-09-21 10:48:57
-2016-09-21 10:48:58
-2016-09-21 10:48:58
-2016-09-21 10:48:58
-2016-09-21 10:48:59
-2016-09-21 10:48:59
-2016-09-21 10:48:59
-2016-09-21 10:49:00
-2016-09-21 10:49:00
-2016-09-21 10:49:00
-2016-09-21 10:49:00
-2016-09-21 10:49:00
-2016-09-21 10:49:01
-2016-09-21 10:49:01
-2016-09-21 10:49:02
-2016-09-21 10:49:02
-2016-09-21 10:49:02
-2016-09-21 10:49:02
-2016-09-21 10:49:03
-2016-09-21 10:49:03
-2016-09-21 10:49:03
-2016-09-21 10:49:04
-2016-09-21 10:49:04
-2016-09-21 10:49:05
-2016-09-21 10:49:06
-2016-09-21 10:49:06
-2016-09-21 10:49:06
-2016-09-21 10:49:06
-2016-09-21 10:49:07
-2016-09-21 10:49:07
-2016-09-21 10:49:07
-2016-09-21 10:49:07
-2016-09-21 10:49:08
-2016-09-21 10:49:08
-2016-09-21 10:49:08
-2016-09-21 10:49:08
-2016-09-21 10:49:08
-2016-09-21 10:49:09
-2016-09-21 10:49:09
-2016-09-21 10:49:09
-2016-09-21 10:49:09
-2016-09-21 10:49:10
-2016-09-21 10:49:10
-2016-09-21 10:49:10
-2016-09-21 10:49:11
-2016-09-21 10:49:11
-2016-09-21 10:49:11
-2016-09-21 10:49:12
-2016-09-21 10:49:12
-2016-09-21 10:49:12
-2016-09-21 10:49:13
-2016-09-21 10:49:13
-2016-09-21 10:49:13
-2016-09-21 10:49:14
-2016-09-21 10:49:14
-2016-09-21 10:49:14
-2016-09-21 10:49:15
-2016-09-21 10:49:15
-2016-09-21 10:49:15
-2016-09-21 10:49:15
-2016-09-21 10:49:16
-2016-09-21 10:49:16
-2016-09-21 10:49:16
-2016-09-21 10:49:16
-2016-09-21 10:49:17
-2016-09-21 10:49:17
-2016-09-21 10:49:18
-2016-09-21 10:49:18
-2016-09-21 10:49:19
-2016-09-21 10:49:19
-2016-09-21 10:49:19
-2016-09-21 10:49:19
-2016-09-21 10:49:20
-2016-09-21 10:49:20
-2016-09-21 10:49:20
-2016-09-21 10:49:21
-2016-09-21 10:49:21
-2016-09-21 10:49:21
-2016-09-21 10:49:21
-2016-09-21 10:49:22
-2016-09-21 10:49:22
-2016-09-21 10:49:22
-2016-09-21 10:49:23
-2016-09-21 10:49:23
-2016-09-21 10:49:23
-2016-09-21 10:49:24
-2016-09-21 10:49:24
-2016-09-21 10:49:25
-2016-09-21 10:49:25
-2016-09-21 10:49:25
-2016-09-21 10:49:25
-2016-09-21 10:49:26
-2016-09-21 10:49:26
-2016-09-21 10:49:26
-2016-09-21 10:49:27
-2016-09-21 10:49:27
-2016-09-21 10:49:27
-2016-09-21 10:49:27
-2016-09-21 10:49:28
-2016-09-21 10:49:28
-2016-09-21 10:49:28
-2016-09-21 10:49:29
-2016-09-21 10:49:29
-2016-09-21 10:49:29
-2016-09-21 10:49:30
-2016-09-21 10:49:30
-2016-09-21 10:49:30
-2016-09-21 10:49:30
-2016-09-21 10:49:31
-2016-09-21 10:49:31
-2016-09-21 10:49:31
-2016-09-21 10:49:32
-2016-09-21 10:49:32
-2016-09-21 10:49:32
-2016-09-21 10:49:33
-2016-09-21 10:49:33
-2016-09-21 10:49:33
-2016-09-21 10:49:33
-2016-09-21 10:49:34
-2016-09-21 10:49:34
-2016-09-21 10:49:34
-2016-09-21 10:49:35
-2016-09-21 10:49:35
-2016-09-21 10:49:35
-2016-09-21 10:49:36
-2016-09-21 10:49:36
-2016-09-21 10:49:36
-2016-09-21 10:49:36
-2016-09-21 10:49:37
-2016-09-21 10:49:37
-2016-09-21 10:49:37
-2016-09-21 10:49:37
-2016-09-21 10:49:38
-2016-09-21 10:49:38
-2016-09-21 10:49:39
-2016-09-21 10:49:39
-2016-09-21 10:49:39
-2016-09-21 10:49:39
-2016-09-21 10:49:40
-2016-09-21 10:49:40
-2016-09-21 10:49:41
-2016-09-21 10:49:41
-2016-09-21 10:49:41
-2016-09-21 10:49:42
-2016-09-21 10:49:42
-2016-09-21 10:49:42
-2016-09-21 10:49:43
-2016-09-21 10:49:43
-2016-09-21 10:49:43
-2016-09-21 10:49:43
-2016-09-21 10:49:43
-2016-09-21 10:49:44
-2016-09-21 10:49:44
-2016-09-21 10:49:44
-2016-09-21 10:49:45
-2016-09-21 10:49:45
-2016-09-21 10:49:46
-2016-09-21 10:49:46
-2016-09-21 10:49:46
-2016-09-21 10:49:46
-2016-09-21 10:49:47
-2016-09-21 10:49:47
-2016-09-21 10:49:47
-2016-09-21 10:49:48
-2016-09-21 10:49:48
-2016-09-21 10:49:48
-2016-09-21 10:49:49
-2016-09-21 10:49:49
-2016-09-21 10:49:49
-2016-09-21 10:49:49
-2016-09-21 10:49:50
-2016-09-21 10:49:50
-2016-09-21 10:49:51
-2016-09-21 10:49:51
-2016-09-21 10:49:51
-2016-09-21 10:49:51
-2016-09-21 10:49:51
-2016-09-21 10:49:52
-2016-09-21 10:49:52
-2016-09-21 10:49:52
-2016-09-21 10:49:53
-2016-09-21 10:49:53
-2016-09-21 10:49:54
-2016-09-21 10:49:54
-2016-09-21 10:49:55
-2016-09-21 10:49:56
-2016-09-21 10:49:56
-2016-09-21 10:49:56
-2016-09-21 10:49:56
-2016-09-21 10:49:57
-2016-09-21 10:49:57
-2016-09-21 10:49:57
-2016-09-21 10:49:58
-2016-09-21 10:49:58
-2016-09-21 10:49:58
-2016-09-21 10:49:59
-2016-09-21 10:49:59
-2016-09-21 10:49:59
-2016-09-21 10:50:00
-2016-09-21 10:50:00
-2016-09-21 10:50:02
-2016-09-21 10:50:03
-2016-09-21 10:50:03
-2016-09-21 10:50:03
-2016-09-21 10:50:03
-2016-09-21 10:50:04
-2016-09-21 10:50:04
-2016-09-21 10:50:04
-2016-09-21 10:50:05
-2016-09-21 10:50:05
-2016-09-21 10:50:06
-2016-09-21 10:50:06
-2016-09-21 10:50:06
-2016-09-21 10:50:06
-2016-09-21 10:50:06
-2016-09-21 10:50:07
-2016-09-21 10:50:07
-2016-09-21 10:50:07
-2016-09-21 10:50:08
-2016-09-21 10:50:08
-2016-09-21 10:50:08
-2016-09-21 10:50:09
-2016-09-21 10:50:09
-2016-09-21 10:50:09
-2016-09-21 10:50:09
-2016-09-21 10:50:10
-2016-09-21 10:50:10
-2016-09-21 10:50:10
-2016-09-21 10:50:10
-2016-09-21 10:50:10
-2016-09-21 10:50:11
-2016-09-21 10:50:11
-2016-09-21 10:50:11
-2016-09-21 10:50:12
-2016-09-21 10:50:12
-2016-09-21 10:50:12
-2016-09-21 10:50:12
-2016-09-21 10:50:13
-2016-09-21 10:50:13
-2016-09-21 10:50:13
-2016-09-21 10:50:13
-2016-09-21 10:50:13
-2016-09-21 10:50:14
-2016-09-21 10:50:14
-2016-09-21 10:50:14
-2016-09-21 10:50:15
-2016-09-21 10:50:15
-2016-09-21 10:50:15
-2016-09-21 10:50:16
-2016-09-21 10:50:17
-2016-09-21 10:50:17
-2016-09-21 10:50:17
-2016-09-21 10:50:18
-2016-09-21 10:50:18
-2016-09-21 10:50:18
-2016-09-21 10:50:18
-2016-09-21 10:50:18
-2016-09-21 10:50:19
-2016-09-21 10:50:19
-2016-09-21 10:50:19
-2016-09-21 10:50:20
-2016-09-21 10:50:20
-2016-09-21 10:50:20
-2016-09-21 10:50:21
-2016-09-21 10:50:21
-2016-09-21 10:50:22
-2016-09-21 10:50:22
-2016-09-21 10:50:22
-2016-09-21 10:50:22
-2016-09-21 10:50:23
-2016-09-21 10:50:23
-2016-09-21 10:50:23
-2016-09-21 10:50:24
-2016-09-21 10:50:24
-2016-09-21 10:50:24
-2016-09-21 10:50:24
-2016-09-21 10:50:25
-2016-09-21 10:50:25
-2016-09-21 10:50:25
-2016-09-21 10:50:25
-2016-09-21 10:50:26
-2016-09-21 10:50:26
-2016-09-21 10:50:26
-2016-09-21 10:50:26
-2016-09-21 10:50:27
-2016-09-21 10:50:27
-2016-09-21 10:50:27
-2016-09-21 10:50:27
-2016-09-21 10:50:27
-2016-09-21 10:50:27
-2016-09-21 10:50:28
-2016-09-21 10:50:28
-2016-09-21 10:50:28
-2016-09-21 10:50:28
-2016-09-21 10:50:29
-2016-09-21 10:50:29
-2016-09-21 10:50:29
-2016-09-21 10:50:29
-2016-09-21 10:50:30
-2016-09-21 10:50:30
-2016-09-21 10:50:30
-2016-09-21 10:50:30
-2016-09-21 10:50:31
-2016-09-21 10:50:31
-2016-09-21 10:50:31
-2016-09-21 10:50:32
-2016-09-21 10:50:32
-2016-09-21 10:50:32
-2016-09-21 10:50:33
-2016-09-21 10:50:33
-2016-09-21 10:50:33
-2016-09-21 10:50:34
-2016-09-21 10:50:34
-2016-09-21 10:50:34
-2016-09-21 10:50:35
-2016-09-21 10:50:35
-2016-09-21 10:50:36
-2016-09-21 10:50:36
-2016-09-21 10:50:37
-2016-09-21 10:50:37
-2016-09-21 10:50:37
-2016-09-21 10:50:37
-2016-09-21 10:50:38
-2016-09-21 10:50:38
-2016-09-21 10:50:38
-2016-09-21 10:50:39
-2016-09-21 10:50:39
-2016-09-21 10:50:39
-2016-09-21 10:50:40
-2016-09-21 10:50:40
-2016-09-21 10:50:40
-2016-09-21 10:50:40
-2016-09-21 10:50:40
-2016-09-21 10:50:40
-2016-09-21 10:50:41
-2016-09-21 10:50:41
-2016-09-21 10:50:42
-2016-09-21 10:50:42
-2016-09-21 10:50:42
-2016-09-21 10:50:42
-2016-09-21 10:50:42
-2016-09-21 10:50:43
-2016-09-21 10:50:43
-2016-09-21 10:50:43
-2016-09-21 10:50:44
-2016-09-21 10:50:44
-2016-09-21 10:50:44
-2016-09-21 10:50:45
-2016-09-21 10:50:45
-2016-09-21 10:50:46
-2016-09-21 10:50:46
-2016-09-21 10:50:46
-2016-09-21 10:50:46
-2016-09-21 10:50:47
-2016-09-21 10:50:47
-2016-09-21 10:50:47
-2016-09-21 10:50:47
-2016-09-21 10:50:48
-2016-09-21 10:50:48
-2016-09-21 10:50:48
-2016-09-21 10:50:49
-2016-09-21 10:50:49
-2016-09-21 10:50:49
-2016-09-21 10:50:50
-2016-09-21 10:50:50
-2016-09-21 10:50:50
-2016-09-21 10:50:51
-2016-09-21 10:50:51
-2016-09-21 10:50:51
-2016-09-21 10:50:52
-2016-09-21 10:50:53
-2016-09-21 10:50:54
-2016-09-21 10:50:54
-2016-09-21 10:50:54
-2016-09-21 10:50:54
-2016-09-21 10:50:55
-2016-09-21 10:50:55
-2016-09-21 10:50:56
-2016-09-21 10:50:56
-2016-09-21 10:50:56
-2016-09-21 10:50:56
-2016-09-21 10:50:56
-2016-09-21 10:50:57
-2016-09-21 10:50:57
-2016-09-21 10:50:57
-2016-09-21 10:50:58
-2016-09-21 10:50:58
-2016-09-21 10:50:58
-2016-09-21 10:50:58
-2016-09-21 10:50:59
-2016-09-21 10:50:59
-2016-09-21 10:51:00
-2016-09-21 10:51:00
-2016-09-21 10:51:00
-2016-09-21 10:51:01
-2016-09-21 10:51:01
-2016-09-21 10:51:02
-2016-09-21 10:51:02
-2016-09-21 10:51:02
-2016-09-21 10:51:02
-2016-09-21 10:51:02
-2016-09-21 10:51:02
-2016-09-21 10:51:02
-2016-09-21 10:51:03
-2016-09-21 10:51:03
-2016-09-21 10:51:03
-2016-09-21 10:51:03
-2016-09-21 10:51:04
-2016-09-21 10:51:05
-2016-09-21 10:51:05
-2016-09-21 10:51:06
-2016-09-21 10:51:06
-2016-09-21 10:51:06
-2016-09-21 10:51:06
-2016-09-21 10:51:07
-2016-09-21 10:51:07
-2016-09-21 10:51:07
-2016-09-21 10:51:08
-2016-09-21 10:51:08
-2016-09-21 10:51:08
-2016-09-21 10:51:09
-2016-09-21 10:51:09
-2016-09-21 10:51:09
-2016-09-21 10:51:10
-2016-09-21 10:51:10
-2016-09-21 10:51:10
-2016-09-21 10:51:11
-2016-09-21 10:51:11
-2016-09-21 10:51:12
-2016-09-21 10:51:12
-2016-09-21 10:51:13
-2016-09-21 10:51:13
-2016-09-21 10:51:14
-2016-09-21 10:51:14
-2016-09-21 10:51:15
-2016-09-21 10:51:15
-2016-09-21 10:51:16
-2016-09-21 10:51:16
-2016-09-21 10:51:16
-2016-09-21 10:51:17
-2016-09-21 10:51:17
-2016-09-21 10:51:17
-2016-09-21 10:51:17
-2016-09-21 10:51:17
-2016-09-21 10:51:18
-2016-09-21 10:51:18
-2016-09-21 10:51:19
-2016-09-21 10:51:19
-2016-09-21 10:51:19
-2016-09-21 10:51:20
-2016-09-21 10:51:20
-2016-09-21 10:51:21
-2016-09-21 10:51:21
-2016-09-21 10:51:22
-2016-09-21 10:51:22
-2016-09-21 10:51:22
-2016-09-21 10:51:22
-2016-09-21 10:51:23
-2016-09-21 10:51:23
-2016-09-21 10:51:24
-2016-09-21 10:51:24
-2016-09-21 10:51:24
-2016-09-21 10:51:25
-2016-09-21 10:51:25
-2016-09-21 10:51:25
-2016-09-21 10:51:25
-2016-09-21 10:51:25
-2016-09-21 10:51:26
-2016-09-21 10:51:26
-2016-09-21 10:51:27
-2016-09-21 10:51:27
-2016-09-21 10:51:28
-2016-09-21 10:51:29
-2016-09-21 10:51:29
-2016-09-21 10:51:29
-2016-09-21 10:51:30
-2016-09-21 10:51:30
-2016-09-21 10:51:30
-2016-09-21 10:51:31
-2016-09-21 10:51:31
-2016-09-21 10:51:32
-2016-09-21 10:51:32
-2016-09-21 10:51:33
-2016-09-21 10:51:33
-2016-09-21 10:51:33
-2016-09-21 10:51:33
-2016-09-21 10:51:34
-2016-09-21 10:51:34
-2016-09-21 10:51:34
-2016-09-21 10:51:34
-2016-09-21 10:51:35
-2016-09-21 10:51:35
-2016-09-21 10:51:35
-2016-09-21 10:51:36
-2016-09-21 10:51:36
-2016-09-21 10:51:36
-2016-09-21 10:51:37
-2016-09-21 10:51:37
-2016-09-21 10:51:37
-2016-09-21 10:51:37
-2016-09-21 10:51:38
-2016-09-21 10:51:38
-2016-09-21 10:51:38
-2016-09-21 10:51:39
-2016-09-21 10:51:39
-2016-09-21 10:51:39
-2016-09-21 10:51:39
-2016-09-21 10:51:40
-2016-09-21 10:51:40
-2016-09-21 10:51:41
-2016-09-21 10:51:41
-2016-09-21 10:51:41
-2016-09-21 10:51:41
-2016-09-21 10:51:42
-2016-09-21 10:51:42
-2016-09-21 10:51:42
-2016-09-21 10:51:43
-2016-09-21 10:51:43
-2016-09-21 10:51:43
-2016-09-21 10:51:44
-2016-09-21 10:51:44
-2016-09-21 10:51:45
-2016-09-21 10:51:45
-2016-09-21 10:51:47
-2016-09-21 10:51:48
-2016-09-21 10:51:49
-2016-09-21 10:51:49
-2016-09-21 10:51:50
-2016-09-21 10:51:50
-2016-09-21 10:51:51
-2016-09-21 10:51:51
-2016-09-21 10:51:51
-2016-09-21 10:51:51
-2016-09-21 10:51:52
-2016-09-21 10:51:52
-2016-09-21 10:51:52
-2016-09-21 10:51:53
-2016-09-21 10:51:53
-2016-09-21 10:51:53
-2016-09-21 10:51:54
-2016-09-21 10:51:54
-2016-09-21 10:51:54
-2016-09-21 10:51:55
-2016-09-21 10:51:55
-2016-09-21 10:51:55
-2016-09-21 10:51:56
-2016-09-21 10:51:56
-2016-09-21 10:51:56
-2016-09-21 10:51:56
-2016-09-21 10:51:57
-2016-09-21 10:51:57
-2016-09-21 10:51:57
-2016-09-21 10:51:58
-2016-09-21 10:51:58
-2016-09-21 10:51:59
-2016-09-21 10:51:59
-2016-09-21 10:51:59
-2016-09-21 10:52:00
-2016-09-21 10:52:00
-2016-09-21 10:52:00
-2016-09-21 10:52:01
-2016-09-21 10:52:01
-2016-09-21 10:52:02
-2016-09-21 10:52:02
-2016-09-21 10:52:02
-2016-09-21 10:52:03
-2016-09-21 10:52:03
-2016-09-21 10:52:03
-2016-09-21 10:52:04
-2016-09-21 10:52:04
-2016-09-21 10:52:05
-2016-09-21 10:52:05
-2016-09-21 10:52:06
-2016-09-21 10:52:07
-2016-09-21 10:52:07
-2016-09-21 10:52:08
-2016-09-21 10:52:08
-2016-09-21 10:52:08
-2016-09-21 10:52:09
-2016-09-21 10:52:09
-2016-09-21 10:52:09
-2016-09-21 10:52:10
-2016-09-21 10:52:10
-2016-09-21 10:52:11
-2016-09-21 10:52:11
-2016-09-21 10:52:11
-2016-09-21 10:52:11
-2016-09-21 10:52:12
-2016-09-21 10:52:12
-2016-09-21 10:52:12
-2016-09-21 10:52:12
-2016-09-21 10:52:13
-2016-09-21 10:52:13
-2016-09-21 10:52:13
-2016-09-21 10:52:14
-2016-09-21 10:52:14
-2016-09-21 10:52:14
-2016-09-21 10:52:14
-2016-09-21 10:52:15
-2016-09-21 10:52:15
-2016-09-21 10:52:16
-2016-09-21 10:52:16
-2016-09-21 10:52:16
-2016-09-21 10:52:17
-2016-09-21 10:52:17
-2016-09-21 10:52:17
-2016-09-21 10:52:18
-2016-09-21 10:52:18
-2016-09-21 10:52:18
-2016-09-21 10:52:19
-2016-09-21 10:52:19
-2016-09-21 10:52:19
-2016-09-21 10:52:19
-2016-09-21 10:52:20
-2016-09-21 10:52:20
-2016-09-21 10:52:20
-2016-09-21 10:52:21
-2016-09-21 10:52:21
-2016-09-21 10:52:22
-2016-09-21 10:52:22
-2016-09-21 10:52:23
-2016-09-21 10:52:23
-2016-09-21 10:52:23
-2016-09-21 10:52:23
-2016-09-21 10:52:24
-2016-09-21 10:52:24
-2016-09-21 10:52:24
-2016-09-21 10:52:24
-2016-09-21 10:52:25
-2016-09-21 10:52:25
-2016-09-21 10:52:25
-2016-09-21 10:52:26
-2016-09-21 10:52:26
-2016-09-21 10:52:26
-2016-09-21 10:52:27
-2016-09-21 10:52:27
-2016-09-21 10:52:27
-2016-09-21 10:52:28
-2016-09-21 10:52:28
-2016-09-21 10:52:28
-2016-09-21 10:52:29
-2016-09-21 10:52:29
-2016-09-21 10:52:29
-2016-09-21 10:52:30
-2016-09-21 10:52:30
-2016-09-21 10:52:31
-2016-09-21 10:52:31
-2016-09-21 10:52:31
-2016-09-21 10:52:31
-2016-09-21 10:52:32
-2016-09-21 10:52:32
-2016-09-21 10:52:33
-2016-09-21 10:52:33
-2016-09-21 10:52:33
-2016-09-21 10:52:34
-2016-09-21 10:52:34
-2016-09-21 10:52:35
-2016-09-21 10:52:35
-2016-09-21 10:52:36
-2016-09-21 10:52:36
-2016-09-21 10:52:36
-2016-09-21 10:52:37
-2016-09-21 10:52:37
-2016-09-21 10:52:37
-2016-09-21 10:52:37
-2016-09-21 10:52:38
-2016-09-21 10:52:38
-2016-09-21 10:52:38
-2016-09-21 10:52:39
-2016-09-21 10:52:39
-2016-09-21 10:52:39
-2016-09-21 10:52:39
-2016-09-21 10:52:40
-2016-09-21 10:52:41
-2016-09-21 10:52:41
-2016-09-21 10:52:42
-2016-09-21 10:52:42
-2016-09-21 10:52:42
-2016-09-21 10:52:42
-2016-09-21 10:52:42
-2016-09-21 10:52:42
-2016-09-21 10:52:43
-2016-09-21 10:52:43
-2016-09-21 10:52:43
-2016-09-21 10:52:44
-2016-09-21 10:52:44
-2016-09-21 10:52:44
-2016-09-21 10:52:45
-2016-09-21 10:52:45
-2016-09-21 10:52:46
-2016-09-21 10:52:46
-2016-09-21 10:52:47
-2016-09-21 10:52:47
-2016-09-21 10:52:47
-2016-09-21 10:52:47
-2016-09-21 10:52:48
-2016-09-21 10:52:48
-2016-09-21 10:52:48
-2016-09-21 10:52:49
-2016-09-21 10:52:49
-2016-09-21 10:52:49
-2016-09-21 10:52:50
-2016-09-21 10:52:50
-2016-09-21 10:52:50
-2016-09-21 10:52:50
-2016-09-21 10:52:51
-2016-09-21 10:52:51
-2016-09-21 10:52:51
-2016-09-21 10:52:52
-2016-09-21 10:52:52
-2016-09-21 10:52:52
-2016-09-21 10:52:52
-2016-09-21 10:52:53
-2016-09-21 10:52:53
-2016-09-21 10:52:56
-2016-09-21 10:52:58
-2016-09-21 10:52:58
-2016-09-21 10:52:59
-2016-09-21 10:52:59
-2016-09-21 10:53:00
-2016-09-21 10:53:00
-2016-09-21 10:53:00
-2016-09-21 10:53:01
-2016-09-21 10:53:01
-2016-09-21 10:53:02
-2016-09-21 10:53:02
-2016-09-21 10:53:02
-2016-09-21 10:53:02
-2016-09-21 10:53:03
-2016-09-21 10:53:03
-2016-09-21 10:53:03
-2016-09-21 10:53:04
-2016-09-21 10:53:04
-2016-09-21 10:53:04
-2016-09-21 10:53:04
-2016-09-21 10:53:05
-2016-09-21 10:53:05
-2016-09-21 10:53:05
-2016-09-21 10:53:05
-2016-09-21 10:53:06
-2016-09-21 10:53:06
-2016-09-21 10:53:07
-2016-09-21 10:53:07
-2016-09-21 10:53:07
-2016-09-21 10:53:08
-2016-09-21 10:53:08
-2016-09-21 10:53:09
-2016-09-21 10:53:09
-2016-09-21 10:53:09
-2016-09-21 10:53:10
-2016-09-21 10:53:10
-2016-09-21 10:53:10
-2016-09-21 10:53:10
-2016-09-21 10:53:10
-2016-09-21 10:53:11
-2016-09-21 10:53:11
-2016-09-21 10:53:11
-2016-09-21 10:53:12
-2016-09-21 10:53:12
-2016-09-21 10:53:12
-2016-09-21 10:53:13
-2016-09-21 10:53:13
-2016-09-21 10:53:13
-2016-09-21 10:53:14
-2016-09-21 10:53:14
-2016-09-21 10:53:14
-2016-09-21 10:53:15
-2016-09-21 10:53:15
-2016-09-21 10:53:15
-2016-09-21 10:53:16
-2016-09-21 10:53:17
-2016-09-21 10:53:17
-2016-09-21 10:53:17
-2016-09-21 10:53:17
-2016-09-21 10:53:18
-2016-09-21 10:53:18
-2016-09-21 10:53:18
-2016-09-21 10:53:19
-2016-09-21 10:53:19
-2016-09-21 10:53:19
-2016-09-21 10:53:20
-2016-09-21 10:53:20
-2016-09-21 10:53:20
-2016-09-21 10:53:20
-2016-09-21 10:53:21
-2016-09-21 10:53:21
-2016-09-21 10:53:22
-2016-09-21 10:53:22
-2016-09-21 10:53:22
-2016-09-21 10:53:22
-2016-09-21 10:53:23
-2016-09-21 10:53:23
-2016-09-21 10:53:23
-2016-09-21 10:53:24
-2016-09-21 10:53:24
-2016-09-21 10:53:24
-2016-09-21 10:53:25
-2016-09-21 10:53:25
-2016-09-21 10:53:25
-2016-09-21 10:53:26
-2016-09-21 10:53:26
-2016-09-21 10:53:26
-2016-09-21 10:53:27
-2016-09-21 10:53:27
-2016-09-21 10:53:27
-2016-09-21 10:53:28
-2016-09-21 10:53:28
-2016-09-21 10:53:28
-2016-09-21 10:53:29
-2016-09-21 10:53:29
-2016-09-21 10:53:29
-2016-09-21 10:53:30
-2016-09-21 10:53:30
-2016-09-21 10:53:30
-2016-09-21 10:53:31
-2016-09-21 10:53:31
-2016-09-21 10:53:31
-2016-09-21 10:53:32
-2016-09-21 10:53:32
-2016-09-21 10:53:33
-2016-09-21 10:53:33
-2016-09-21 10:53:33
-2016-09-21 10:53:33
-2016-09-21 10:53:34
-2016-09-21 10:53:34
-2016-09-21 10:53:34
-2016-09-21 10:53:35
-2016-09-21 10:53:35
-2016-09-21 10:53:36
-2016-09-21 10:53:36
-2016-09-21 10:53:37
-2016-09-21 10:53:37
-2016-09-21 10:53:37
-2016-09-21 10:53:38
-2016-09-21 10:53:38
-2016-09-21 10:53:38
-2016-09-21 10:53:39
-2016-09-21 10:53:39
-2016-09-21 10:53:40
-2016-09-21 10:53:40
-2016-09-21 10:53:40
-2016-09-21 10:53:41
-2016-09-21 10:53:41
-2016-09-21 10:53:42
-2016-09-21 10:53:42
-2016-09-21 10:53:42
-2016-09-21 10:53:43
-2016-09-21 10:53:43
-2016-09-21 10:53:43
-2016-09-21 10:53:43
-2016-09-21 10:53:44
-2016-09-21 10:53:44
-2016-09-21 10:53:44
-2016-09-21 10:53:45
-2016-09-21 10:53:45
-2016-09-21 10:53:45
-2016-09-21 10:53:46
-2016-09-21 10:53:46
-2016-09-21 10:53:46
-2016-09-21 10:53:47
-2016-09-21 10:53:47
-2016-09-21 10:53:47
-2016-09-21 10:53:48
-2016-09-21 10:53:48
-2016-09-21 10:53:48
-2016-09-21 10:53:49
-2016-09-21 10:53:49
-2016-09-21 10:53:50
-2016-09-21 10:53:50
-2016-09-21 10:53:50
-2016-09-21 10:53:51
-2016-09-21 10:53:51
-2016-09-21 10:53:51
-2016-09-21 10:53:52
-2016-09-21 10:53:52
-2016-09-21 10:53:53
-2016-09-21 10:53:53
-2016-09-21 10:53:53
-2016-09-21 10:53:54
-2016-09-21 10:53:54
-2016-09-21 10:53:54
-2016-09-21 10:53:55
-2016-09-21 10:53:55
-2016-09-21 10:53:55
-2016-09-21 10:53:56
-2016-09-21 10:53:56
-2016-09-21 10:53:56
-2016-09-21 10:53:56
-2016-09-21 10:53:57
-2016-09-21 10:53:57
-2016-09-21 10:53:57
-2016-09-21 10:53:58
-2016-09-21 10:53:58
-2016-09-21 10:53:58
-2016-09-21 10:53:59
-2016-09-21 10:53:59
-2016-09-21 10:53:59
-2016-09-21 10:54:00
-2016-09-21 10:54:00
-2016-09-21 10:54:00
-2016-09-21 10:54:01
-2016-09-21 10:54:01
-2016-09-21 10:54:01
-2016-09-21 10:54:02
-2016-09-21 10:54:02
-2016-09-21 10:54:03
-2016-09-21 10:54:03
-2016-09-21 10:54:03
-2016-09-21 10:54:04
-2016-09-21 10:54:04
-2016-09-21 10:54:04
-2016-09-21 10:54:05
-2016-09-21 10:54:05
-2016-09-21 10:54:05
-2016-09-21 10:54:06
-2016-09-21 10:54:06
-2016-09-21 10:54:06
-2016-09-21 10:54:07
-2016-09-21 10:54:07
-2016-09-21 10:54:07
-2016-09-21 10:54:07
-2016-09-21 10:54:08
-2016-09-21 10:54:08
-2016-09-21 10:54:09
-2016-09-21 10:54:09
-2016-09-21 10:54:10
-2016-09-21 10:54:11
-2016-09-21 10:54:12
-2016-09-21 10:54:12
-2016-09-21 10:54:12
-2016-09-21 10:54:13
-2016-09-21 10:54:13
-2016-09-21 10:54:14
-2016-09-21 10:54:14
-2016-09-21 10:54:15
-2016-09-21 10:54:15
-2016-09-21 10:54:15
-2016-09-21 10:54:15
-2016-09-21 10:54:16
-2016-09-21 10:54:16
-2016-09-21 10:54:16
-2016-09-21 10:54:17
-2016-09-21 10:54:17
-2016-09-21 10:54:17
-2016-09-21 10:54:18
-2016-09-21 10:54:18
-2016-09-21 10:54:18
-2016-09-21 10:54:19
-2016-09-21 10:54:19
-2016-09-21 10:54:19
-2016-09-21 10:54:20
-2016-09-21 10:54:20
-2016-09-21 10:54:21
-2016-09-21 10:54:21
-2016-09-21 10:54:21
-2016-09-21 10:54:22
-2016-09-21 10:54:22
-2016-09-21 10:54:22
-2016-09-21 10:54:23
-2016-09-21 10:54:23
-2016-09-21 10:54:23
-2016-09-21 10:54:24
-2016-09-21 10:54:24
-2016-09-21 10:54:24
-2016-09-21 10:54:25
-2016-09-21 10:54:25
-2016-09-21 10:54:25
-2016-09-21 10:54:25
-2016-09-21 10:54:26
-2016-09-21 10:54:26
-2016-09-21 10:54:29
-2016-09-21 10:54:30
-2016-09-21 10:54:31
-2016-09-21 10:54:31
-2016-09-21 10:54:31
-2016-09-21 10:54:32
-2016-09-21 10:54:32
-2016-09-21 10:54:32
-2016-09-21 10:54:33
-2016-09-21 10:54:33
-2016-09-21 10:54:33
-2016-09-21 10:54:34
-2016-09-21 10:54:34
-2016-09-21 10:54:34
-2016-09-21 10:54:35
-2016-09-21 10:54:35
-2016-09-21 10:54:35
-2016-09-21 10:54:36
-2016-09-21 10:54:36
-2016-09-21 10:54:36
-2016-09-21 10:54:36
-2016-09-21 10:54:37
-2016-09-21 10:54:37
-2016-09-21 10:54:38
-2016-09-21 10:54:38
-2016-09-21 10:54:38
-2016-09-21 10:54:39
-2016-09-21 10:54:39
-2016-09-21 10:54:40
-2016-09-21 10:54:40
-2016-09-21 10:54:40
-2016-09-21 10:54:41
-2016-09-21 10:54:41
-2016-09-21 10:54:41
-2016-09-21 10:54:42
-2016-09-21 10:54:42
-2016-09-21 10:54:43
-2016-09-21 10:54:43
-2016-09-21 10:54:43
-2016-09-21 10:54:44
-2016-09-21 10:54:44
-2016-09-21 10:54:45
-2016-09-21 10:54:45
-2016-09-21 10:54:46
-2016-09-21 10:54:46
-2016-09-21 10:54:46
-2016-09-21 10:54:47
-2016-09-21 10:54:47
-2016-09-21 10:54:47
-2016-09-21 10:54:48
-2016-09-21 10:54:48
-2016-09-21 10:54:48
-2016-09-21 10:54:49
-2016-09-21 10:54:49
-2016-09-21 10:54:50
-2016-09-21 10:54:50
-2016-09-21 10:54:50
-2016-09-21 10:54:50
-2016-09-21 10:54:51
-2016-09-21 10:54:51
-2016-09-21 10:54:51
-2016-09-21 10:54:52
-2016-09-21 10:54:52
-2016-09-21 10:54:52
-2016-09-21 10:54:53
-2016-09-21 10:54:53
-2016-09-21 10:54:53
-2016-09-21 10:54:54
-2016-09-21 10:54:54
-2016-09-21 10:54:54
-2016-09-21 10:54:55
-2016-09-21 10:54:55
-2016-09-21 10:54:56
-2016-09-21 10:54:56
-2016-09-21 10:54:56
-2016-09-21 10:54:57
-2016-09-21 10:54:57
-2016-09-21 10:54:57
-2016-09-21 10:54:58
-2016-09-21 10:54:58
-2016-09-21 10:54:58
-2016-09-21 10:54:59
-2016-09-21 10:54:59
-2016-09-21 10:54:59
-2016-09-21 10:55:00
-2016-09-21 10:55:00
-2016-09-21 10:55:00
-2016-09-21 10:55:01
-2016-09-21 10:55:01
-2016-09-21 10:55:01
-2016-09-21 10:55:02
-2016-09-21 10:55:02
-2016-09-21 10:55:02
-2016-09-21 10:55:02
-2016-09-21 10:55:03
-2016-09-21 10:55:04
-2016-09-21 10:55:04
-2016-09-21 10:55:19
-2016-09-21 10:55:26
-2016-09-21 10:55:26
-2016-09-21 10:55:27
-2016-09-21 10:55:27
-2016-09-21 10:55:27
-2016-09-21 10:55:28
-2016-09-21 10:55:28
-2016-09-21 10:55:29
-2016-09-21 10:55:29
-2016-09-21 10:55:30
-2016-09-21 10:55:30
-2016-09-21 10:55:30
-2016-09-21 10:55:31
-2016-09-21 10:55:31
-2016-09-21 10:55:31
-2016-09-21 10:55:32
-2016-09-21 10:55:32
-2016-09-21 10:55:33
-2016-09-21 10:55:33
-2016-09-21 10:55:33
-2016-09-21 10:55:34
-2016-09-21 10:55:34
-2016-09-21 10:55:35
-2016-09-21 10:55:35
-2016-09-21 10:55:35
-2016-09-21 10:55:36
-2016-09-21 10:55:36
-2016-09-21 10:55:36
-2016-09-21 10:55:37
-2016-09-21 10:55:37
-2016-09-21 10:55:37
-2016-09-21 10:55:38
-2016-09-21 10:55:38
-2016-09-21 10:55:38
-2016-09-21 10:55:39
-2016-09-21 10:55:39
-2016-09-21 10:55:40
-2016-09-21 10:55:40
-2016-09-21 10:55:40
-2016-09-21 10:55:41
-2016-09-21 10:55:41
-2016-09-21 10:55:42
-2016-09-21 10:55:42
-2016-09-21 10:55:42
-2016-09-21 10:55:43
-2016-09-21 10:55:43
-2016-09-21 10:55:44
-2016-09-21 10:55:44
-2016-09-21 10:55:44
-2016-09-21 10:55:45
-2016-09-21 10:55:45
-2016-09-21 10:55:45
-2016-09-21 10:55:46
-2016-09-21 10:55:46
-2016-09-21 10:55:46
-2016-09-21 10:55:47
-2016-09-21 10:55:47
-2016-09-21 10:55:47
-2016-09-21 10:55:48
-2016-09-21 10:55:48
-2016-09-21 10:55:48
-2016-09-21 10:55:49
-2016-09-21 10:55:49
-2016-09-21 10:55:50
-2016-09-21 10:55:50
-2016-09-21 10:55:50
-2016-09-21 10:55:51
-2016-09-21 10:55:51
-2016-09-21 10:55:51
-2016-09-21 10:55:51
-2016-09-21 10:55:52
-2016-09-21 10:55:52
-2016-09-21 10:55:53
-2016-09-21 10:55:53
-2016-09-21 10:55:53
-2016-09-21 10:55:54
-2016-09-21 10:55:54
-2016-09-21 10:55:55
-2016-09-21 10:55:55
-2016-09-21 10:55:55
-2016-09-21 10:55:56
-2016-09-21 10:55:56
-2016-09-21 10:55:56
-2016-09-21 10:55:57
-2016-09-21 10:55:57
-2016-09-21 10:55:57
-2016-09-21 10:55:58
-2016-09-21 10:55:58
-2016-09-21 10:55:58
-2016-09-21 10:55:59
-2016-09-21 10:55:59
-2016-09-21 10:55:59
-2016-09-21 10:55:59
-2016-09-21 10:56:00
-2016-09-21 10:56:00
-2016-09-21 10:56:00
-2016-09-21 10:56:01
-2016-09-21 10:56:01
-2016-09-21 10:56:01
-2016-09-21 10:56:01
-2016-09-21 10:56:02
-2016-09-21 10:56:02
-2016-09-21 10:56:02
-2016-09-21 10:56:03
-2016-09-21 10:56:03
-2016-09-21 10:56:03
-2016-09-21 10:56:04
-2016-09-21 10:56:04
-2016-09-21 10:56:04
-2016-09-21 10:56:05
-2016-09-21 10:56:05
-2016-09-21 10:56:05
-2016-09-21 10:56:06
-2016-09-21 10:56:06
-2016-09-21 10:56:06
-2016-09-21 10:56:07
-2016-09-21 10:56:07
-2016-09-21 10:56:07
-2016-09-21 10:56:08
-2016-09-21 10:56:08
-2016-09-21 10:56:08
-2016-09-21 10:56:08
-2016-09-21 10:56:09
-2016-09-21 10:56:09
-2016-09-21 10:56:10
-2016-09-21 10:56:10
-2016-09-21 10:56:10
-2016-09-21 10:56:11
-2016-09-21 10:56:11
-2016-09-21 10:56:11
-2016-09-21 10:56:12
-2016-09-21 10:56:12
-2016-09-21 10:56:13
-2016-09-21 10:56:13
-2016-09-21 10:56:13
-2016-09-21 10:56:14
-2016-09-21 10:56:14
-2016-09-21 10:56:14
-2016-09-21 10:56:14
-2016-09-21 10:56:15
-2016-09-21 10:56:15
-2016-09-21 10:56:16
-2016-09-21 10:56:16
-2016-09-21 10:56:16
-2016-09-21 10:56:17
-2016-09-21 10:56:17
-2016-09-21 10:56:17
-2016-09-21 10:56:18
-2016-09-21 10:56:18
-2016-09-21 10:56:18
-2016-09-21 10:56:19
-2016-09-21 10:56:19
-2016-09-21 10:56:20
-2016-09-21 10:56:20
-2016-09-21 10:56:20
-2016-09-21 10:56:21
292.3 KiB2016-09-21 10:33:42
408.5 KiB2016-09-21 10:33:42
5.1 KiB2016-09-21 10:34:10
7.1 KiB2016-09-21 10:34:10
8.2 KiB2016-09-21 10:34:10
2.6 KiB2016-09-21 10:34:10
7.1 KiB2016-09-21 10:34:10
7.0 KiB2016-09-21 10:34:10
1.1 MiB2016-09-21 10:56:53
1.3 MiB2016-09-21 10:57:30
5.6 KiB2016-09-21 10:58:07
6.3 KiB2016-09-21 10:58:07
108.0 KiB2016-09-21 10:58:07
5.8 KiB2016-09-21 10:58:07
1.3 MiB2016-09-21 10:58:07
108.2 KiB2016-09-21 10:58:07
104.4 KiB2016-09-21 10:58:07
4.7 MiB2016-09-21 10:59:24
14.7 MiB2016-09-21 11:00:02