Welcome to mirrors.dotsrc.org

All our mirrors of open source software are available via http, https, ftp and an onion service. More information about our mirrors including statistics and contact information is available on our mirror info pages.

For information about dotsrc.org and our other services please go to our website.

Index of /bioconductor/checkResults/3.3/bioc-20151027/

File Name  ↓ File Size  ↓ Date  ↓ 
--
-2015-10-28 06:08:53
-2015-10-28 06:08:53
-2015-10-28 06:08:53
-2015-10-28 06:08:53
-2015-10-28 06:08:53
-2015-10-28 06:08:53
-2015-10-28 06:08:53
-2015-10-28 06:08:53
-2015-10-28 06:08:53
-2015-10-28 06:08:53
-2015-10-28 06:08:53
-2015-10-28 06:08:53
-2015-10-28 06:08:53
-2015-10-28 06:08:53
-2015-10-28 06:08:53
-2015-10-28 06:08:53
-2015-10-28 06:08:53
-2015-10-28 06:08:53
-2015-10-28 06:08:53
-2015-10-28 06:08:53
-2015-10-28 06:08:53
-2015-10-28 06:08:53
-2015-10-28 06:08:53
-2015-10-28 06:08:53
-2015-10-28 06:08:53
-2015-10-28 06:08:53
-2015-10-28 06:08:53
-2015-10-28 06:08:53
-2015-10-28 06:08:53
-2015-10-28 06:08:53
-2015-10-28 06:08:53
-2015-10-28 06:08:53
-2015-10-28 06:08:53
-2015-10-28 06:08:53
-2015-10-28 06:08:53
-2015-10-28 06:08:53
-2015-10-28 06:08:53
-2015-10-28 06:08:53
-2015-10-28 06:08:53
-2015-10-28 06:08:53
-2015-10-28 06:08:53
-2015-10-28 06:08:53
-2015-10-28 06:08:53
-2015-10-28 06:08:53
-2015-10-28 06:08:53
-2015-10-28 06:08:53
-2015-10-28 06:08:52
-2015-10-28 06:08:52
-2015-10-28 06:08:52
-2015-10-28 06:08:52
-2015-10-28 06:08:52
-2015-10-28 06:08:52
-2015-10-28 06:08:52
-2015-10-28 06:08:52
-2015-10-28 06:08:52
-2015-10-28 06:08:52
-2015-10-28 06:08:52
-2015-10-28 06:08:52
-2015-10-28 06:08:52
-2015-10-28 06:08:52
-2015-10-28 06:08:52
-2015-10-28 06:08:52
-2015-10-28 06:08:52
-2015-10-28 06:08:52
-2015-10-28 06:08:52
-2015-10-28 06:08:52
-2015-10-28 06:08:52
-2015-10-28 06:08:52
-2015-10-28 06:08:52
-2015-10-28 06:08:52
-2015-10-28 06:08:52
-2015-10-28 06:08:52
-2015-10-28 06:08:52
-2015-10-28 06:08:52
-2015-10-28 06:08:52
-2015-10-28 06:08:52
-2015-10-28 06:08:52
-2015-10-28 06:08:52
-2015-10-28 06:08:52
-2015-10-28 06:08:52
-2015-10-28 06:08:52
-2015-10-28 06:08:52
-2015-10-28 06:08:52
-2015-10-28 06:08:52
-2015-10-28 06:08:52
-2015-10-28 06:08:52
-2015-10-28 06:08:52
-2015-10-28 06:08:52
-2015-10-28 06:08:52
-2015-10-28 06:08:52
-2015-10-28 06:08:52
-2015-10-28 06:08:52
-2015-10-28 06:08:52
-2015-10-28 06:08:52
-2015-10-28 06:08:52
-2015-10-28 06:08:52
-2015-10-28 06:08:52
-2015-10-28 06:08:52
-2015-10-28 06:08:52
-2015-10-28 06:08:52
-2015-10-28 06:08:52
-2015-10-28 06:08:52
-2015-10-28 06:08:52
-2015-10-28 06:08:52
-2015-10-28 06:08:51
-2015-10-28 06:08:51
-2015-10-28 06:08:51
-2015-10-28 06:08:51
-2015-10-28 06:08:51
-2015-10-28 06:08:51
-2015-10-28 06:08:51
-2015-10-28 06:08:51
-2015-10-28 06:08:51
-2015-10-28 06:08:52
-2015-10-28 06:08:52
-2015-10-28 06:08:52
-2015-10-28 06:08:52
-2015-10-28 06:08:52
-2015-10-28 06:08:52
-2015-10-28 06:08:52
-2015-10-28 06:08:52
-2015-10-28 06:08:52
-2015-10-28 06:08:51
-2015-10-28 06:08:51
-2015-10-28 06:08:51
-2015-10-28 06:08:51
-2015-10-28 06:08:51
-2015-10-28 06:08:51
-2015-10-28 06:08:51
-2015-10-28 06:08:51
-2015-10-28 06:08:51
-2015-10-28 06:08:51
-2015-10-28 06:08:51
-2015-10-28 06:08:51
-2015-10-28 06:08:51
-2015-10-28 06:08:51
-2015-10-28 06:08:51
-2015-10-28 06:08:51
-2015-10-28 06:08:51
-2015-10-28 06:08:51
-2015-10-28 06:08:51
-2015-10-28 06:08:51
-2015-10-28 06:08:51
-2015-10-28 06:08:51
-2015-10-28 06:08:51
-2015-10-28 06:08:51
-2015-10-28 06:08:51
-2015-10-28 06:08:51
-2015-10-28 06:08:51
-2015-10-28 06:08:51
-2015-10-28 06:08:51
-2015-10-28 06:08:51
-2015-10-28 06:08:51
-2015-10-28 06:08:51
-2015-10-28 06:08:51
-2015-10-28 06:08:51
-2015-10-28 06:08:51
-2015-10-28 06:08:51
-2015-10-28 06:08:51
-2015-10-28 06:08:51
-2015-10-28 06:08:51
-2015-10-28 06:08:51
-2015-10-28 06:08:51
-2015-10-28 06:08:51
-2015-10-28 06:08:51
-2015-10-28 06:08:51
-2015-10-28 06:08:51
-2015-10-28 06:08:51
-2015-10-28 06:08:51
-2015-10-28 06:08:51
-2015-10-28 06:08:51
-2015-10-28 06:08:51
-2015-10-28 06:08:51
-2015-10-28 06:08:51
-2015-10-28 06:08:51
-2015-10-28 06:08:51
-2015-10-28 06:08:51
-2015-10-28 06:08:51
-2015-10-28 06:08:51
-2015-10-28 06:08:51
-2015-10-28 06:08:51
-2015-10-28 06:08:51
-2015-10-28 06:08:51
-2015-10-28 06:08:50
-2015-10-28 06:08:50
-2015-10-28 06:08:50
-2015-10-28 06:08:50
-2015-10-28 06:08:50
-2015-10-28 06:08:50
-2015-10-28 06:08:50
-2015-10-28 06:08:50
-2015-10-28 06:08:50
-2015-10-28 06:08:50
-2015-10-28 06:08:50
-2015-10-28 06:08:50
-2015-10-28 06:08:50
-2015-10-28 06:08:50
-2015-10-28 06:08:50
-2015-10-28 06:08:50
-2015-10-28 06:08:50
-2015-10-28 06:08:50
-2015-10-28 06:08:50
-2015-10-28 06:08:50
-2015-10-28 06:08:50
-2015-10-28 06:08:50
-2015-10-28 06:08:50
-2015-10-28 06:08:50
-2015-10-28 06:08:50
-2015-10-28 06:08:50
-2015-10-28 06:08:50
-2015-10-28 06:08:50
-2015-10-28 06:08:50
-2015-10-28 06:08:50
-2015-10-28 06:08:50
-2015-10-28 06:08:50
-2015-10-28 06:08:50
-2015-10-28 06:08:50
-2015-10-28 06:08:50
-2015-10-28 06:08:50
-2015-10-28 06:08:50
-2015-10-28 06:08:50
-2015-10-28 06:08:50
-2015-10-28 06:08:50
-2015-10-28 06:08:50
-2015-10-28 06:08:50
-2015-10-28 06:08:50
-2015-10-28 06:08:50
-2015-10-28 06:08:50
-2015-10-28 06:08:50
-2015-10-28 06:08:50
-2015-10-28 06:08:50
-2015-10-28 06:08:50
-2015-10-28 06:08:50
-2015-10-28 06:08:50
-2015-10-28 06:08:50
-2015-10-28 06:08:50
-2015-10-28 06:08:50
-2015-10-28 06:08:50
-2015-10-28 06:08:50
-2015-10-28 06:08:50
-2015-10-28 06:08:50
-2015-10-28 06:08:50
-2015-10-28 06:08:50
-2015-10-28 06:08:50
-2015-10-28 06:08:50
-2015-10-28 06:08:50
-2015-10-28 06:08:50
-2015-10-28 06:08:50
-2015-10-28 06:08:49
-2015-10-28 06:08:49
-2015-10-28 06:08:49
-2015-10-28 06:08:49
-2015-10-28 06:08:49
-2015-10-28 06:08:49
-2015-10-28 06:08:49
-2015-10-28 06:08:49
-2015-10-28 06:08:49
-2015-10-28 06:08:49
-2015-10-28 06:08:49
-2015-10-28 06:08:49
-2015-10-28 06:08:49
-2015-10-28 06:08:49
-2015-10-28 06:08:49
-2015-10-28 06:08:49
-2015-10-28 06:08:49
-2015-10-28 06:08:49
-2015-10-28 06:08:50
-2015-10-28 06:08:49
-2015-10-28 06:08:49
-2015-10-28 06:08:49
-2015-10-28 06:08:49
-2015-10-28 06:08:49
-2015-10-28 06:08:49
-2015-10-28 06:08:49
-2015-10-28 06:08:49
-2015-10-28 06:08:49
-2015-10-28 06:08:49
-2015-10-28 06:08:49
-2015-10-28 06:08:49
-2015-10-28 06:08:49
-2015-10-28 06:08:49
-2015-10-28 06:08:49
-2015-10-28 06:08:49
-2015-10-28 06:08:49
-2015-10-28 06:08:49
-2015-10-28 06:08:49
-2015-10-28 06:08:49
-2015-10-28 06:08:49
-2015-10-28 06:08:49
-2015-10-28 06:08:49
-2015-10-28 06:08:49
-2015-10-28 06:08:49
-2015-10-28 06:08:49
-2015-10-28 06:08:49
-2015-10-28 06:08:49
-2015-10-28 06:08:49
-2015-10-28 06:08:49
-2015-10-28 06:08:49
-2015-10-28 06:08:49
-2015-10-28 06:08:49
-2015-10-28 06:08:49
-2015-10-28 06:08:49
-2015-10-28 06:08:49
-2015-10-28 06:08:49
-2015-10-28 06:08:49
-2015-10-28 06:08:49
-2015-10-28 06:08:49
-2015-10-28 06:08:49
-2015-10-28 06:08:49
-2015-10-28 06:08:49
-2015-10-28 06:08:49
-2015-10-28 06:08:49
-2015-10-28 06:08:49
-2015-10-28 06:08:49
-2015-10-28 06:08:49
-2015-10-28 06:08:49
-2015-10-28 06:08:49
-2015-10-28 06:08:49
-2015-10-28 06:08:49
-2015-10-28 06:08:49
-2015-10-28 06:08:49
-2015-10-28 06:08:49
-2015-10-28 06:08:48
-2015-10-28 06:08:48
-2015-10-28 06:08:48
-2015-10-28 06:08:48
-2015-10-28 06:08:48
-2015-10-28 06:08:48
-2015-10-28 06:08:48
-2015-10-28 06:08:48
-2015-10-28 06:08:48
-2015-10-28 06:08:48
-2015-10-28 06:08:48
-2015-10-28 06:08:48
-2015-10-28 06:08:48
-2015-10-28 06:08:48
-2015-10-28 06:08:48
-2015-10-28 06:08:48
-2015-10-28 06:08:48
-2015-10-28 06:08:48
-2015-10-28 06:08:48
-2015-10-28 06:08:48
-2015-10-28 06:08:48
-2015-10-28 06:08:48
-2015-10-28 06:08:48
-2015-10-28 06:08:48
-2015-10-28 06:08:48
-2015-10-28 06:08:48
-2015-10-28 06:08:48
-2015-10-28 06:08:48
-2015-10-28 06:08:48
-2015-10-28 06:08:48
-2015-10-28 06:08:48
-2015-10-28 06:08:48
-2015-10-28 06:08:48
-2015-10-28 06:08:48
-2015-10-28 06:08:48
-2015-10-28 06:08:48
-2015-10-28 06:08:48
-2015-10-28 06:08:48
-2015-10-28 06:08:48
-2015-10-28 06:08:48
-2015-10-28 06:08:48
-2015-10-28 06:08:48
-2015-10-28 06:08:48
-2015-10-28 06:08:48
-2015-10-28 06:08:48
-2015-10-28 06:08:48
-2015-10-28 06:08:48
-2015-10-28 06:08:48
-2015-10-28 06:08:48
-2015-10-28 06:08:48
-2015-10-28 06:08:48
-2015-10-28 06:08:48
-2015-10-28 06:08:48
-2015-10-28 06:08:48
-2015-10-28 06:08:48
-2015-10-28 06:08:48
-2015-10-28 06:08:48
-2015-10-28 06:08:48
-2015-10-28 06:08:48
-2015-10-28 06:08:48
-2015-10-28 06:08:48
-2015-10-28 06:08:48
-2015-10-28 06:08:48
-2015-10-28 06:08:48
-2015-10-28 06:08:48
-2015-10-28 06:08:48
-2015-10-28 06:08:48
-2015-10-28 06:08:48
-2015-10-28 06:08:48
-2015-10-28 06:08:48
-2015-10-28 06:08:48
-2015-10-28 06:08:48
-2015-10-28 06:08:48
-2015-10-28 06:08:48
-2015-10-28 06:08:48
-2015-10-28 06:08:48
-2015-10-28 06:08:48
-2015-10-28 06:08:48
-2015-10-28 06:08:48
-2015-10-28 06:08:48
-2015-10-28 06:08:48
-2015-10-28 06:08:48
-2015-10-28 06:08:48
-2015-10-28 06:08:48
-2015-10-28 06:08:47
-2015-10-28 06:08:47
-2015-10-28 06:08:47
-2015-10-28 06:08:47
-2015-10-28 06:08:47
-2015-10-28 06:08:47
-2015-10-28 06:08:47
-2015-10-28 06:08:47
-2015-10-28 06:08:47
-2015-10-28 06:08:47
-2015-10-28 06:08:47
-2015-10-28 06:08:47
-2015-10-28 06:08:47
-2015-10-28 06:08:47
-2015-10-28 06:08:47
-2015-10-28 06:08:47
-2015-10-28 06:08:47
-2015-10-28 06:08:47
-2015-10-28 06:08:47
-2015-10-28 06:08:47
-2015-10-28 06:08:47
-2015-10-28 06:08:47
-2015-10-28 06:08:47
-2015-10-28 06:08:47
-2015-10-28 06:08:47
-2015-10-28 06:08:47
-2015-10-28 06:08:47
-2015-10-28 06:08:47
-2015-10-28 06:08:47
-2015-10-28 06:08:47
-2015-10-28 06:08:47
-2015-10-28 06:08:47
-2015-10-28 06:08:47
-2015-10-28 06:08:47
-2015-10-28 06:08:47
-2015-10-28 06:08:47
-2015-10-28 06:08:47
-2015-10-28 06:08:47
-2015-10-28 06:08:47
-2015-10-28 06:08:47
-2015-10-28 06:08:47
-2015-10-28 06:08:47
-2015-10-28 06:08:47
-2015-10-28 06:08:47
-2015-10-28 06:08:47
-2015-10-28 06:08:47
-2015-10-28 06:08:47
-2015-10-28 06:08:47
-2015-10-28 06:08:47
-2015-10-28 06:08:47
-2015-10-28 06:08:47
-2015-10-28 06:08:47
-2015-10-28 06:08:47
-2015-10-28 06:08:47
-2015-10-28 06:08:47
-2015-10-28 06:08:47
-2015-10-28 06:08:47
-2015-10-28 06:08:47
-2015-10-28 06:08:47
-2015-10-28 06:08:47
-2015-10-28 06:08:47
-2015-10-28 06:08:47
-2015-10-28 06:08:47
-2015-10-28 06:08:46
-2015-10-28 06:08:46
-2015-10-28 06:08:46
-2015-10-28 06:08:46
-2015-10-28 06:08:46
-2015-10-28 06:08:46
-2015-10-28 06:08:46
-2015-10-28 06:08:46
-2015-10-28 06:08:46
-2015-10-28 06:08:46
-2015-10-28 06:08:46
-2015-10-28 06:08:46
-2015-10-28 06:08:46
-2015-10-28 06:08:46
-2015-10-28 06:08:46
-2015-10-28 06:08:46
-2015-10-28 06:08:46
-2015-10-28 06:08:46
-2015-10-28 06:08:46
-2015-10-28 06:08:46
-2015-10-28 06:08:46
-2015-10-28 06:08:46
-2015-10-28 06:08:46
-2015-10-28 06:08:46
-2015-10-28 06:08:46
-2015-10-28 06:08:46
-2015-10-28 06:08:46
-2015-10-28 06:08:46
-2015-10-28 06:08:46
-2015-10-28 06:08:46
-2015-10-28 06:08:46
-2015-10-28 06:08:46
-2015-10-28 06:08:46
-2015-10-28 06:08:46
-2015-10-28 06:08:46
-2015-10-28 06:08:46
-2015-10-28 06:08:46
-2015-10-28 06:08:46
-2015-10-28 06:08:46
-2015-10-28 06:08:46
-2015-10-28 06:08:46
-2015-10-28 06:08:46
-2015-10-28 06:08:46
-2015-10-28 06:08:46
-2015-10-28 06:08:46
-2015-10-28 06:08:46
-2015-10-28 06:08:46
-2015-10-28 06:08:46
-2015-10-28 06:08:46
-2015-10-28 06:08:46
-2015-10-28 06:08:46
-2015-10-28 06:08:46
-2015-10-28 06:08:46
-2015-10-28 06:08:46
-2015-10-28 06:08:46
-2015-10-28 06:08:46
-2015-10-28 06:08:46
-2015-10-28 06:08:46
-2015-10-28 06:08:46
-2015-10-28 06:08:46
-2015-10-28 06:08:46
-2015-10-28 06:08:45
-2015-10-28 06:08:45
-2015-10-28 06:08:45
-2015-10-28 06:08:45
-2015-10-28 06:08:45
-2015-10-28 06:08:45
-2015-10-28 06:08:45
-2015-10-28 06:08:45
-2015-10-28 06:08:45
-2015-10-28 06:08:45
-2015-10-28 06:08:45
-2015-10-28 06:08:45
-2015-10-28 06:08:45
-2015-10-28 06:08:45
-2015-10-28 06:08:45
-2015-10-28 06:08:45
-2015-10-28 06:08:45
-2015-10-28 06:08:45
-2015-10-28 06:08:45
-2015-10-28 06:08:45
-2015-10-28 06:08:45
-2015-10-28 06:08:44
-2015-10-28 06:08:53
-2015-10-28 06:08:53
-2015-10-28 06:08:53
-2015-10-28 06:08:53
-2015-10-28 06:08:53
-2015-10-28 06:08:53
-2015-10-28 06:08:53
-2015-10-28 06:08:53
-2015-10-28 06:08:53
-2015-10-28 06:08:53
-2015-10-28 06:08:53
-2015-10-28 06:08:53
-2015-10-28 06:08:53
-2015-10-28 06:08:53
-2015-10-28 06:08:53
-2015-10-28 06:08:53
-2015-10-28 06:08:53
-2015-10-28 06:08:53
-2015-10-28 06:08:53
-2015-10-28 06:08:53
-2015-10-28 06:08:53
-2015-10-28 06:08:53
-2015-10-28 06:08:53
-2015-10-28 06:08:53
-2015-10-28 06:08:53
-2015-10-28 06:08:53
-2015-10-28 06:08:53
-2015-10-28 06:08:53
-2015-10-28 06:08:53
-2015-10-28 06:08:53
-2015-10-28 06:08:53
-2015-10-28 06:08:53
-2015-10-28 06:08:53
-2015-10-28 06:08:53
-2015-10-28 06:08:53
-2015-10-28 06:08:52
-2015-10-28 06:08:52
-2015-10-28 06:08:52
-2015-10-28 06:08:52
-2015-10-28 06:08:52
-2015-10-28 06:08:52
-2015-10-28 06:08:52
-2015-10-28 06:08:52
-2015-10-28 06:08:52
-2015-10-28 06:08:52
-2015-10-28 06:08:52
-2015-10-28 06:08:52
-2015-10-28 06:08:52
-2015-10-28 06:08:52
-2015-10-28 06:08:52
-2015-10-28 06:08:53
-2015-10-28 06:08:53
-2015-10-28 06:08:53
-2015-10-28 06:08:53
-2015-10-28 06:08:53
-2015-10-28 06:08:52
-2015-10-28 06:08:52
-2015-10-28 06:08:52
-2015-10-28 06:08:52
-2015-10-28 06:08:52
-2015-10-28 06:08:52
-2015-10-28 06:08:52
-2015-10-28 06:08:52
-2015-10-28 06:08:52
-2015-10-28 06:08:52
-2015-10-28 06:08:52
-2015-10-28 06:08:52
-2015-10-28 06:08:52
-2015-10-28 06:08:52
-2015-10-28 06:08:52
-2015-10-28 06:08:52
-2015-10-28 06:08:52
-2015-10-28 06:08:52
-2015-10-28 06:08:52
-2015-10-28 06:08:52
-2015-10-28 06:08:52
-2015-10-28 06:08:52
-2015-10-28 06:08:52
-2015-10-28 06:08:52
-2015-10-28 06:08:52
-2015-10-28 06:08:52
-2015-10-28 06:08:52
-2015-10-28 06:08:52
-2015-10-28 06:08:52
-2015-10-28 06:08:52
-2015-10-28 06:08:52
-2015-10-28 06:08:52
-2015-10-28 06:08:52
-2015-10-28 06:08:52
-2015-10-28 06:08:52
-2015-10-28 06:08:52
-2015-10-28 06:08:52
-2015-10-28 06:08:52
-2015-10-28 06:08:52
-2015-10-28 06:08:52
-2015-10-28 06:08:52
-2015-10-28 06:08:52
-2015-10-28 06:08:51
-2015-10-28 06:08:51
-2015-10-28 06:08:51
-2015-10-28 06:08:51
-2015-10-28 06:08:51
-2015-10-28 06:08:51
-2015-10-28 06:08:51
-2015-10-28 06:08:51
-2015-10-28 06:08:51
-2015-10-28 06:08:51
-2015-10-28 06:08:51
-2015-10-28 06:08:51
-2015-10-28 06:08:51
-2015-10-28 06:08:51
-2015-10-28 06:08:51
-2015-10-28 06:08:51
-2015-10-28 06:08:51
-2015-10-28 06:08:51
-2015-10-28 06:08:51
-2015-10-28 06:08:52
-2015-10-28 06:08:52
-2015-10-28 06:08:52
-2015-10-28 06:08:52
-2015-10-28 06:08:52
-2015-10-28 06:08:52
-2015-10-28 06:08:52
-2015-10-28 06:08:52
-2015-10-28 06:08:52
-2015-10-28 06:08:52
-2015-10-28 06:08:52
-2015-10-28 06:08:52
-2015-10-28 06:08:52
-2015-10-28 06:08:52
-2015-10-28 06:08:52
-2015-10-28 06:08:52
-2015-10-28 06:08:52
-2015-10-28 06:08:52
-2015-10-28 06:08:52
-2015-10-28 06:08:52
-2015-10-28 06:08:52
-2015-10-28 06:08:52
-2015-10-28 06:08:52
-2015-10-28 06:08:51
-2015-10-28 06:08:51
-2015-10-28 06:08:51
-2015-10-28 06:08:51
-2015-10-28 06:08:51
-2015-10-28 06:08:51
-2015-10-28 06:08:51
-2015-10-28 06:08:51
-2015-10-28 06:08:51
-2015-10-28 06:08:51
-2015-10-28 06:08:51
-2015-10-28 06:08:51
-2015-10-28 06:08:51
-2015-10-28 06:08:51
-2015-10-28 06:08:51
-2015-10-28 06:08:51
-2015-10-28 06:08:51
-2015-10-28 06:08:51
-2015-10-28 06:08:51
-2015-10-28 06:08:51
-2015-10-28 06:08:51
-2015-10-28 06:08:51
-2015-10-28 06:08:51
-2015-10-28 06:08:51
-2015-10-28 06:08:51
-2015-10-28 06:08:51
-2015-10-28 06:08:51
-2015-10-28 06:08:51
-2015-10-28 06:08:51
-2015-10-28 06:08:51
-2015-10-28 06:08:51
-2015-10-28 06:08:51
-2015-10-28 06:08:51
-2015-10-28 06:08:51
-2015-10-28 06:08:51
-2015-10-28 06:08:51
-2015-10-28 06:08:51
-2015-10-28 06:08:51
-2015-10-28 06:08:51
-2015-10-28 06:08:51
-2015-10-28 06:08:51
-2015-10-28 06:08:51
-2015-10-28 06:08:51
-2015-10-28 06:08:51
-2015-10-28 06:08:51
-2015-10-28 06:08:51
-2015-10-28 06:08:51
-2015-10-28 06:08:51
-2015-10-28 06:08:51
-2015-10-28 06:08:51
-2015-10-28 06:08:51
-2015-10-28 06:08:50
-2015-10-28 06:08:50
-2015-10-28 06:08:50
-2015-10-28 06:08:51
-2015-10-28 06:08:51
-2015-10-28 06:08:50
-2015-10-28 06:08:50
-2015-10-28 06:08:50
-2015-10-28 06:08:50
-2015-10-28 06:08:50
-2015-10-28 06:08:50
-2015-10-28 06:08:50
-2015-10-28 06:08:50
-2015-10-28 06:08:50
-2015-10-28 06:08:50
-2015-10-28 06:08:50
-2015-10-28 06:08:50
-2015-10-28 06:08:50
-2015-10-28 06:08:50
-2015-10-28 06:08:50
-2015-10-28 06:08:50
-2015-10-28 06:08:50
-2015-10-28 06:08:50
-2015-10-28 06:08:50
-2015-10-28 06:08:50
-2015-10-28 06:08:50
-2015-10-28 06:08:50
-2015-10-28 06:08:50
-2015-10-28 06:08:50
-2015-10-28 06:08:50
-2015-10-28 06:08:50
-2015-10-28 06:08:50
-2015-10-28 06:08:50
-2015-10-28 06:08:50
-2015-10-28 06:08:50
-2015-10-28 06:08:50
-2015-10-28 06:08:50
-2015-10-28 06:08:50
-2015-10-28 06:08:49
-2015-10-28 06:08:49
-2015-10-28 06:08:49
-2015-10-28 06:08:49
-2015-10-28 06:08:49
-2015-10-28 06:08:49
-2015-10-28 06:08:49
-2015-10-28 06:08:49
-2015-10-28 06:08:50
-2015-10-28 06:08:50
-2015-10-28 06:08:50
-2015-10-28 06:08:50
-2015-10-28 06:08:50
-2015-10-28 06:08:50
-2015-10-28 06:08:50
-2015-10-28 06:08:50
-2015-10-28 06:08:50
-2015-10-28 06:08:50
-2015-10-28 06:08:50
-2015-10-28 06:08:50
-2015-10-28 06:08:50
-2015-10-28 06:08:49
-2015-10-28 06:08:49
-2015-10-28 06:08:49
-2015-10-28 06:08:49
-2015-10-28 06:08:49
-2015-10-28 06:08:49
-2015-10-28 06:08:49
-2015-10-28 06:08:49
-2015-10-28 06:08:49
-2015-10-28 06:08:49
-2015-10-28 06:08:49
-2015-10-28 06:08:49
-2015-10-28 06:08:49
-2015-10-28 06:08:49
-2015-10-28 06:08:49
-2015-10-28 06:08:49
-2015-10-28 06:08:49
-2015-10-28 06:08:49
-2015-10-28 06:08:49
-2015-10-28 06:08:49
-2015-10-28 06:08:49
-2015-10-28 06:08:49
-2015-10-28 06:08:49
-2015-10-28 06:08:49
-2015-10-28 06:08:49
-2015-10-28 06:08:49
-2015-10-28 06:08:49
-2015-10-28 06:08:49
-2015-10-28 06:08:49
-2015-10-28 06:08:49
-2015-10-28 06:08:49
-2015-10-28 06:08:49
-2015-10-28 06:08:49
-2015-10-28 06:08:49
-2015-10-28 06:08:49
-2015-10-28 06:08:49
-2015-10-28 06:08:49
-2015-10-28 06:08:49
-2015-10-28 06:08:49
-2015-10-28 06:08:49
-2015-10-28 06:08:49
-2015-10-28 06:08:49
-2015-10-28 06:08:49
-2015-10-28 06:08:49
-2015-10-28 06:08:49
-2015-10-28 06:08:49
-2015-10-28 06:08:49
-2015-10-28 06:08:49
-2015-10-28 06:08:49
-2015-10-28 06:08:49
-2015-10-28 06:08:49
-2015-10-28 06:08:49
-2015-10-28 06:08:49
-2015-10-28 06:08:49
-2015-10-28 06:08:49
-2015-10-28 06:08:49
-2015-10-28 06:08:49
-2015-10-28 06:08:49
-2015-10-28 06:08:49
-2015-10-28 06:08:48
-2015-10-28 06:08:48
-2015-10-28 06:08:48
-2015-10-28 06:08:48
-2015-10-28 06:08:48
-2015-10-28 06:08:48
-2015-10-28 06:08:48
-2015-10-28 06:08:48
-2015-10-28 06:08:48
-2015-10-28 06:08:48
-2015-10-28 06:08:48
-2015-10-28 06:08:48
-2015-10-28 06:08:48
-2015-10-28 06:08:48
-2015-10-28 06:08:48
-2015-10-28 06:08:48
-2015-10-28 06:08:48
-2015-10-28 06:08:48
-2015-10-28 06:08:48
-2015-10-28 06:08:48
-2015-10-28 06:08:48
-2015-10-28 06:08:48
-2015-10-28 06:08:48
-2015-10-28 06:08:48
-2015-10-28 06:08:48
-2015-10-28 06:08:48
-2015-10-28 06:08:48
-2015-10-28 06:08:48
-2015-10-28 06:08:49
-2015-10-28 06:08:49
-2015-10-28 06:08:49
-2015-10-28 06:08:48
-2015-10-28 06:08:48
-2015-10-28 06:08:48
-2015-10-28 06:08:48
-2015-10-28 06:08:48
-2015-10-28 06:08:48
-2015-10-28 06:08:48
-2015-10-28 06:08:48
-2015-10-28 06:08:48
-2015-10-28 06:08:48
-2015-10-28 06:08:48
-2015-10-28 06:08:48
-2015-10-28 06:08:48
-2015-10-28 06:08:48
-2015-10-28 06:08:48
-2015-10-28 06:08:48
-2015-10-28 06:08:48
-2015-10-28 06:08:48
-2015-10-28 06:08:48
-2015-10-28 06:08:48
-2015-10-28 06:08:48
-2015-10-28 06:08:48
-2015-10-28 06:08:48
-2015-10-28 06:08:48
-2015-10-28 06:08:48
-2015-10-28 06:08:48
-2015-10-28 06:08:48
-2015-10-28 06:08:48
-2015-10-28 06:08:48
-2015-10-28 06:08:48
-2015-10-28 06:08:48
-2015-10-28 06:08:48
-2015-10-28 06:08:48
-2015-10-28 06:08:48
-2015-10-28 06:08:47
-2015-10-28 06:08:47
-2015-10-28 06:08:47
-2015-10-28 06:08:47
-2015-10-28 06:08:47
-2015-10-28 06:08:47
-2015-10-28 06:08:47
-2015-10-28 06:08:47
-2015-10-28 06:08:47
-2015-10-28 06:08:47
-2015-10-28 06:08:47
-2015-10-28 06:08:47
-2015-10-28 06:08:47
-2015-10-28 06:08:47
-2015-10-28 06:08:47
-2015-10-28 06:08:47
-2015-10-28 06:08:47
-2015-10-28 06:08:47
-2015-10-28 06:08:47
-2015-10-28 06:08:47
-2015-10-28 06:08:47
-2015-10-28 06:08:47
-2015-10-28 06:08:47
-2015-10-28 06:08:47
-2015-10-28 06:08:47
-2015-10-28 06:08:47
-2015-10-28 06:08:47
-2015-10-28 06:08:47
-2015-10-28 06:08:47
-2015-10-28 06:08:47
-2015-10-28 06:08:47
-2015-10-28 06:08:47
-2015-10-28 06:08:47
-2015-10-28 06:08:47
-2015-10-28 06:08:47
-2015-10-28 06:08:47
-2015-10-28 06:08:47
-2015-10-28 06:08:47
-2015-10-28 06:08:47
-2015-10-28 06:08:47
-2015-10-28 06:08:47
-2015-10-28 06:08:47
-2015-10-28 06:08:47
-2015-10-28 06:08:47
-2015-10-28 06:08:47
-2015-10-28 06:08:47
-2015-10-28 06:08:47
-2015-10-28 06:08:47
-2015-10-28 06:08:47
-2015-10-28 06:08:47
-2015-10-28 06:08:47
-2015-10-28 06:08:47
-2015-10-28 06:08:47
-2015-10-28 06:08:47
-2015-10-28 06:08:47
-2015-10-28 06:08:47
-2015-10-28 06:08:47
-2015-10-28 06:08:47
-2015-10-28 06:08:47
-2015-10-28 06:08:47
-2015-10-28 06:08:47
-2015-10-28 06:08:46
-2015-10-28 06:08:46
-2015-10-28 06:08:46
-2015-10-28 06:08:46
-2015-10-28 06:08:46
-2015-10-28 06:08:46
-2015-10-28 06:08:46
-2015-10-28 06:08:46
-2015-10-28 06:08:46
-2015-10-28 06:08:46
-2015-10-28 06:08:46
-2015-10-28 06:08:46
-2015-10-28 06:08:46
-2015-10-28 06:08:46
-2015-10-28 06:08:46
-2015-10-28 06:08:46
-2015-10-28 06:08:46
-2015-10-28 06:08:46
-2015-10-28 06:08:46
-2015-10-28 06:08:46
-2015-10-28 06:08:47
-2015-10-28 06:08:47
-2015-10-28 06:08:47
-2015-10-28 06:08:47
-2015-10-28 06:08:47
-2015-10-28 06:08:47
-2015-10-28 06:08:47
-2015-10-28 06:08:47
-2015-10-28 06:08:47
-2015-10-28 06:08:47
-2015-10-28 06:08:47
-2015-10-28 06:08:47
-2015-10-28 06:08:47
-2015-10-28 06:08:47
-2015-10-28 06:08:47
-2015-10-28 06:08:47
-2015-10-28 06:08:47
-2015-10-28 06:08:47
-2015-10-28 06:08:47
-2015-10-28 06:08:47
-2015-10-28 06:08:47
-2015-10-28 06:08:46
-2015-10-28 06:08:46
-2015-10-28 06:08:46
-2015-10-28 06:08:46
-2015-10-28 06:08:46
-2015-10-28 06:08:46
-2015-10-28 06:08:46
-2015-10-28 06:08:46
-2015-10-28 06:08:46
-2015-10-28 06:08:46
-2015-10-28 06:08:46
-2015-10-28 06:08:46
-2015-10-28 06:08:46
-2015-10-28 06:08:46
-2015-10-28 06:08:46
-2015-10-28 06:08:46
-2015-10-28 06:08:46
-2015-10-28 06:08:46
-2015-10-28 06:08:46
-2015-10-28 06:08:46
-2015-10-28 06:08:46
-2015-10-28 06:08:46
-2015-10-28 06:08:46
-2015-10-28 06:08:46
-2015-10-28 06:08:46
-2015-10-28 06:08:46
-2015-10-28 06:08:46
-2015-10-28 06:08:46
-2015-10-28 06:08:46
-2015-10-28 06:08:46
-2015-10-28 06:08:46
-2015-10-28 06:08:46
-2015-10-28 06:08:46
-2015-10-28 06:08:46
-2015-10-28 06:08:46
-2015-10-28 06:08:46
-2015-10-28 06:08:46
-2015-10-28 06:08:46
-2015-10-28 06:08:46
-2015-10-28 06:08:46
-2015-10-28 06:08:46
-2015-10-28 06:08:46
-2015-10-28 06:08:46
-2015-10-28 06:08:46
-2015-10-28 06:08:46
-2015-10-28 06:08:46
-2015-10-28 06:08:46
-2015-10-28 06:08:46
-2015-10-28 06:08:46
-2015-10-28 06:08:46
-2015-10-28 06:08:46
-2015-10-28 06:08:46
-2015-10-28 06:08:46
-2015-10-28 06:08:46
-2015-10-28 06:08:46
-2015-10-28 06:08:46
-2015-10-28 06:08:46
-2015-10-28 06:08:46
-2015-10-28 06:08:46
-2015-10-28 06:08:46
-2015-10-28 06:08:46
-2015-10-28 06:08:46
-2015-10-28 06:08:45
-2015-10-28 06:08:45
-2015-10-28 06:08:45
-2015-10-28 06:08:45
-2015-10-28 06:08:45
-2015-10-28 06:08:46
-2015-10-28 06:08:46
-2015-10-28 06:08:46
-2015-10-28 06:08:46
-2015-10-28 06:08:46
-2015-10-28 06:08:46
-2015-10-28 06:08:45
-2015-10-28 06:08:45
-2015-10-28 06:08:45
-2015-10-28 06:08:45
-2015-10-28 06:08:45
-2015-10-28 06:08:45
-2015-10-28 06:08:45
1.3 MiB2015-10-28 06:08:53
90.9 KiB2015-10-28 06:08:53
6.1 KiB2015-10-28 06:08:53
7.0 MiB2015-10-28 06:08:51
5.1 KiB2015-10-28 06:08:51
8.3 KiB2015-10-30 18:28:54
1.1 MiB2015-10-28 06:08:50
89.4 KiB2015-10-28 06:08:50
5.6 KiB2015-10-28 06:08:50
216.4 KiB2015-10-28 06:08:49
1.2 MiB2015-10-28 06:08:49
90.7 KiB2015-10-28 06:08:49
6.0 KiB2015-10-28 06:08:49
3.5 MiB2015-10-28 06:08:49
360.9 KiB2015-10-28 06:08:53
742 B2015-10-28 06:08:47
7.0 KiB2015-10-28 06:08:44
7.1 KiB2015-10-28 06:08:44
7.1 KiB2015-10-28 06:08:44