]rHfM|D#=L{a^]|_7jN_S 2>9ukDGHOװ1 OOۀ<}jO6PނIyإ8 6"Mr2j΁Lw=aME1GUVk%E) T,g |>=99v= ܿp3m9ȝ|]|\sAHˬṽ16 A$~ÈOpW~ kbjH%8<v8R!%w-$*U]I^OC1q_;^P*Gy%T9|»RxgɄ8pA_K#neQСz1b!uXkک<6kҹsYlY;T\Bi;0/@V7#}q=bDJ̹}P@my7 4 "{ ~rM kf~_RRѰZEw=_|uNq?g]Ąq1ӓ{v,Q<18-ˊ>6kP]TL$6CV~Pin0l}!=?kpynB0`AQn͈^ wntFc11MԲ2L2Jx,D~*^ E|mĈ4\TY墙904ZrOd]lM4&6-[iȁc5фgIq~<%ꠕrX%t@@ȼD̹RHeqxAR-/OF`ahSw'MYcP7aWTIy^~ODat V˳9 $-@-Kh<[C:N8]<Hw*{̒FH+3\'U`5 c ,:D 799#Ƽpm#F?`N¢cu`E}5wF6?qlڛ Z@T!!`!r/uLϭ3lxfPy ƉܧcT' 6Ƈrbb8_N𒹢7Te)H#:X=6q0vFu+W+yP 3y8W 0s p^+y8WwUGJyG y 85HX^S5z%ZSm+K'%޼a)vJki#C4Z1A{ˌy93/g)+ͼwHV=ʱm+k1eZYʵq2*(@8LjjQI##Z$i[ŕto&o#;c=4-%p Q%% Tc ֓(L{hCQ.iC؇m-^i *7\У-AB(W벚c$xMsR90k#)$3B r*?gbo/<{1vȿ ~]e13Mw'][ژ{=j5|?Z`e]r[ww}~_^ ]|Q-ylLnjz0q /c$ 5׭/Y0:9=c_Xj;m?Z@ͷ~mpz[AVw{W+;ʿ7zM<&ox;<o _w(=û}"-ǮR|q6E yϱ*&-nhmm"෉|LcgXll UK@ڭ"`s-]w)#DdoVQm]] "  - &D͹AAҰO01'w(Qj pl dvZ@Ib vjȏfrQFCQ׏RnbwWRV;WW#DT1a|ɮ]$?) {3ኚ #pUOda=RIJuI6v1:th%hx}_Fix6vrl0GN4ATuzp'|9? c:W R?oAUJ|6c~DK5Nq$ K9F= }5]iE3-xl.}R`n|)nXAL;`GFx>!ϜĉJ)dNhL&sBWa{1{K)g!w,6@_}x:ijmcˊ_Ɯ/fӅR|Tn ewk,]$1?uAE/ =KGm n\bGG x1W%\Eܮsf1tXTZ+~EcɃxVJp~4n΄(0go0'Mw.\(ZKksxU%_Mlhݱx,}F8r|6³JS-*lXq,3x ** uG̈́?ҟޙnLKfIߙL3?|1v}u>REwӕ * Kw'9 P,{I u +*ڶaO~mU܃>V}7ywf5^۝ ?8q^x )w90'@9 ^c2A '̟ˠ:k?Od_<,C>wM7ՙ9.;څ胋΁Oewxׯo}o+r!|4s*ZBs?!-w*ϛC`'MoUQd7uR13_g9^%w>:.srox11ٸ_JMVqU-7,ZO?|x23_y߾u!XŘ{zTͿH8ZKdMfqg1V׏&Ed郔# co wNZx`'d(*|r%VSO-gWg|r7/zc`[ o0~}s.@a*}>Aynp)3Q ~.1ȳSW109T}Ciׯ<ε{Unu{ܟO_x#~ޮm"kd9qFy$,aL H:q~}%v;t:SY _D!)rN?)Zјx@t!0o"C:^}x+tfD3Po-PWJԋ'AjCl(_W_; jr|yrY ѿ7hjs&NF Og-OLl,o-o+Cw[^ǿ[_ucKd~2/ݧ(#d||ͷx25x_]_o߇P=z$j79 OjM:*× ^4-?l2}~qo7eH煎Oĉβ[S̷h9^%>@/!N׏F@n|klr7ؤwA:h}~+wuO_*Op$'_~~~ڞo|lͪ/Z"mʺZ̃]v , |(|vgx6;K2p}MǫWdKt3¶o2/~}s!}XSIW<&UbE _R۟oݣ4/ngaNӹHBo{nB{ ի|(Ǯ'z?ki7@?<_.B|Ϩ;㡻Wx5ս_Z,< _2o-k7c㽥v31 M\'IKt.O*^~[;s~.26 X:Y-1)z;YA\?f Kd:|OAby&0傻bx{OLb?D0ʗ m[='xLj=?]=AVc1[g;=2vGcKLӇ|))WYsG~ xvMoEHGr&4~a"z z1ogKC>3o @z: F/wqQWRJOgxԙruv Y !Si]F͎2UUUEddj#G},a+$毄kg&Ӈ-ލj°9>|z&og!/,}nSK>$6Th7o\)3wM~(C0%Jzolmϑ M8p^ l큌ą7=_z;(.!9M|?>\#wkQJ3 }6'Ј `__O(RџC~rx@?ę4'W!]=l%VOAgU.ya;z|yQjz,kt o8/- 7?5+$h{B?*o/00o5'xl=)Dg8Wjp3-ğƛԪqM5Al՜䪺߾(} /ҙ^0h;  &<;+^hsULWvC7.0^f};x]wy+xVmpZX/뿾yVOxn*鼠ǫs3x'c9.cy_cz_v- $/ u a<cv^!dD;`*^;Ro_;;_跏+ iB5_ȪoORW祫!b IN~ۘqo^;Sh:5_C7 ?^ܬ/TvЬ+Ncq?W\~m'7yiPd:G='GN]S~fX4!ٟJĶ@0;}[ISM(‡&]Qu#Tg`[_=K$tO% `2 ~HMF3<]huC.ٝYo)ZkYX<x/z32OGkq'OxRgultr:D4-h,R󦖙 뒖ߟC=QeS!8;%,72^_ ᡳ!daW9 ޙ)po(u?XL6_;x8MN΋7^NR伀^9c* Kݎ &B>7B6$ -.E#*Ikߓg+sM5B zpR}]_9$]H}Fp؇$$Dipu21ںZeKd1V؆Q٩7zEa<pBcEGt1RRd~ؾ? G'S|oCc_VƉ|N!=W̺Z0^j\EoxMmRڣn>⼑>A8 ?is(!m U\wtܱoezzCt#M{g +~KAje:z=ekD拂l<^Y 'u>?xb3t5ζ> ?TyP+ݣ~$y iYdz@fKRVJb=(Wiv~82nUf>9a&; Nnʑ WrUt:KWN}wN9DAX1m)Fqr !Z\-StO]PxwZ2{_pyxXICz-/8!xP?v&Z:ސ^v/-n] bX`l2:tys/GoiP2 ǛUt%4obg D~9=re?S=ե.ޙZu0)wo[mJFmju;p)ѼjCh`d/K4Tk]H9B;ِص|P^?2{g?xIR>Il3دx[@xDR帔9?}?R?W x+Mbȷx*k[?+<}x1Ɛ xG:ĆӹHgo rP( EpA<1zO_ͯ+0ӋП˳ Z@ѕ@ w)$ |0^*[,~L2??90wԱa?mSSr!/nTz* Y]=__Notcou}%3"Q:W-o x֥Mn.KB(<0|2YI?_ Omlq3@AwLO0 #poV9Š3U&] '<6~G2kĭga<]k > CMQ[*gPkwsOl!^Bj g.Տ0 ulA' r>تU+nt|&3.俬A*hC|V1SLUI' h[ G5'+}If/mHjC;a ЎmydGwVm\̰Oɶkt3'r:?j!O~E3ix|[rwo}X` ^FTKWT%dz|e|sCV()0)yv3Nx́sG^:eIU x)ʪåyv<<)8bkL_q^{ߧYHO`k`+?.zm4op6DxIA]%C?`>.=ɋ!W׷[T6~in̉%y[>5/c:#~J^2[B _ex?d}*nvYzNf0oƛuym/a CG:7&l}'ؒ_(T>4Z܏0B6stI{ 'uf}y:Gȏ!Aֽm?w9R[JXYJjóF0k*9It{tѽ>DTPY_&Qbf}Y*~F γ=ig ۊAh#=^7HxC%"EP*Y1N4[<^,`&1A^߅E dC|=ny#lC^w{7K%J?—ݡྍMc>9h_sPgR OT8_4/ߏpO;:Ic=x؞|'wۻW3H}荂!?8S|Vn=^h[2սˬ5$?xvEB`Nw6 ȿDb'/$Ra{=(SC2<x\ZGz#ϸcy˞8&{͑7gy"Ƨ>x^"]{_{ ;uWxZ9H>#' ç8]įy eY>`w?_L +Dחy'w+;:_4ZN:x[Z^ #YT‹=hJy!Gy~7Hω=Q+O<%bD˿Zߍ9mZ0*Ly!WbiŻ / |ߌ1˱>z} l}W/_o!{7*-vO^tKo|} YlJiσ! :*[^V8-2R'Sx\`j_N}鍷c/뻀wͫ 8'ƥ<^ gBxyӋx<|ߍN{GH.=WW|<s/&?5os>1c.V y7r:g<|՞JYL`pdӼ1v}ÿwox5os=2Ns(+ǘm9{]iO(}^Η!}xkg-yꅍ=2'ˊ 9啍!z"?U%;oL7<9bׇ$!]hy$- gOk`m7XI6)7}Z ^\#L13Ź]dxjhUG!^y |"^w?fʌ dVJ,EfYĎd> ώyd K).b\ QPex3}%q[ l)o΍o_xe)v >Zz} mV؀>:7 ؃$`N=_z3Bx *W"_Z MiM֤. - ߸ pɎ/5o <̲uQY&bԍZg/.%wNۆ?򘪰jD7HG-/|͋X x> sAoտ0YrR;Hb:*߷OڃyJQ5JJC?WvKtD6ck/F BHx~7(/<!=? 5/q_xK{^ &y|(2cGQ\_l= w7x><[VEwS%*+z^@OKt<~O= o@? ϖPOʳd)'Eg5nÙoFSS{W, SՆׇޟG iwx[I\3 @k%ҌKsFwxNEi󍑟HeFiM~T:?_6GӠxyn_^x}v䆳Yؿ{3s8{^<蟽6= 2\nJVշi<8giVqM Ӌ&o,)r?֏V̐zHQE+ø:<~wSz쳨{a\G3ӳ`;X.V"4jTyɿ< F8A|PJ8ySA=qa>+_U Ts»/K!'tЁ=y^ _j228r#ǟ{jz; RLVyb {ގM@8oT19~4@W[DZby uSqrL5!>/P|Ro%~Wx%6++/Eگ<%yqfCj1^G^JqE}㻼N9v wZɂ\dn p*o oYZGnvI8)->NG]}ߌq#v?xzY6' ,~L7חJŧ2UA?sޥg2_!?iިJ;{2|Ksʏ .Cz2zl{!ypBP*w{O;V+|\јe#|KWx֊ag%jtxF}?X^敏G?,O.Ѥɕ^obJ[` ,>\3û |: NE2*K/O;^JDpO0_Ԕw #k3eϏ5Wr;G_tҟ0<ű*+1S<0f%݉ƻ_huyA0`߮[4Eh@}q0##~ Wt%x&׼!Oe6_\ԙiVۥYCҎx`_ Aߏ@U^Q@ ?kxdxeYuvGP*0NYX5PUZ.C t08h+f}Ůxg@-Vr"cAgP"~n=G@h|a9{JBȢSj|>Kr'z)^r_{3SHkC ^.:Ry4BG$@'KRG=$ͫ3/>Lyo2SO8+x} S>_x+W쇐%9!'~C(dx~{M}}L <\!\Py8e}PR$(I9 S>O yXA$j<TOzש>ۇ[gߜ>OxM ~-E.[w/ANxl^(8A}$OhQ(~Go= yRg˂Ŏüd/!ټ eqʇO z7ڏ\cYVN2>|F'{z%+{`H{D] /мkQ&=6ûK yv\~cE -G^X.#| [`N} /xYy`|Q-@wR;Ghsyui8z3\쇲&yBKVὯ^Z ođXl29gGgnz?@^$<gG)?#Kﶾͪ_s/xJzoM:ץy1:V_0_F~bzjOz:צ⑵Ri7<|Cuu]rOXߦD{\G,*̄mMhotPyXQy("ۻYMߥ?5֢OG=]LnTpy{ɇ}ͼzr_tػ[gؑCYG]|CRk7],%&BD8E k-^'`jkOܣt^o絩4=9 KoM)W28^c/"A|1lopz<^%B!C 1%LK,O Tws[!}6G"7Z]y0|~ ><۾⻟x;q #I' Lz=Fmۖ[I2 I言*[9r_Qz*N%+^y/OFGpEW)l8`M^% ׄ돮/Y/MO U9_Yi^nK_,=C!~ ͮ+X< zk^^Rx}&,S_Ki^W[~߄n+aI]"PgH=?Zz2;38xigO%t~8|~"L笟gƷ)kZ]*;bxE浡| 3ϟN&[?ax<1=xԷ_|N~{E|{qOK#ۅ=qBHT=Q7W"lZxV"rq~W~RF?aK'[^lƇN[tcCVT{¾U[ҁF};O |ތcBT|-e"<*;7g5=63Z<О]lA)$vxE`fO?Z.hi|\偶ɡRy'ܴR$%~<9KB[QcX󝗣j:Y/)yEե|I7LKѩ.r W).'#dn>x]Ʌ=/r.M#=wa^7xyָO/!ae_dAf' wKRcx9S#4ܷ2~E LN^M;Su(~k7C[THRA/+V1 {I.+zvSyrGJM+Ϯ?xjYzpSe/+O`}0c;@zp+mq9FR d}f5.QD~|$aGr?| EA`C^O:>X_1KxǏ4//#/TOap+,{g_s”/7|мbMh%~03S;#]» zSy', .㿘Qz^ѼH8<;O^;0ȼ"Ç^_lvM//[IB6K~1xχI_ȷH:? -G'@x+|y}d ~~Ξa;O']_}"{}OC*g V6~#eD~xjDp NTh/ W=6G)yآyHbl_'}<]Z≼ʍy8]>vqd: Fl-o<{Hf߷UVyȂ3ut^[,{p_(:#<C$ 16[Ɖ?Dl==_ƪ <#+y|ig?(ƵpE\%~'\,͒_p wJ>=}rԇ ߣWVik_Q~IL/Tl=;Q,kONi|Rywp2yp:X 4|q}>˭9 T2O=jw~%Ф3>xP|7W 2J=꟣>žߡ|CqO`}JF|ι ڻ%/r=}S&3&w3%7jAt$`>-x-AƗӡ\Hœ sA|L.ݡAŧۍ@~r$zճb t-^/tXz)!eW OO[ >{=R駿oI!>U鞧P2?Ҿo  Gt<ăKL1x? P[9-y 7K 2^9"& [Z,mc]"xś.ӷp~K=>o"{1OH=?)ֈF=Ux]o?yGIR _y ${x>'SrϮ7h|{gNyYЏ^ 1"Gt]+R3BuR;5]!ȶ [%GܟL5EЀAaqϓ`;a+Gf.ߠd<1KJHm YJb|輧`fXgvXTi|P1ǛKN`=@t 7[jUx-^lǿ}~@_`x=gz0g+lv*<}sB>+&1o4j(BQrhY%,ZC-޷q@gS\?/w`yp}٥?)u X-j?<ĞpJ:Ϟ6}+g(5:r4y\O!Kz)y-yu7 Ɂ}6Ǘx~w:x4/^z>ͻW"E/4/qpxF3~Qd<5МǷ8UtnfXx=7xկ?)wAO&9C6dw2#sÓ'93q.z>Ó9Ss+BCz+ww\M'd:lQ+O#ӍmH,{x:u|yB /*Y۴Y3{A|LBaDw⾍V\Ba 6~/yȂG_".x}zv .Ro;7͞a~?YV^7KB~hKțO,CV0@m^ʏ^ [9whb:b dIo GzAzɬuzɬ)_bo`O)^А=!cX*8QWz!O|{48)^0p. X2eZaN@}Ѭ^3`Olm'LgFd!Lk6x\stkr|KqDL z/@?Bwh9yv㣿}ߋXd}}-zhR~Z?DDĹyjT 3kw=K=9g%M|f sQq?n[ׁǕTty}ݴ ޵Vde/f#(QAcŮUF"Meڜ%ocΓO(X?VBaj8IbF|tۿ͟o_ZKz?ʊD%oę۷b/>PMX;sں<`>0ʫ|+9bE(@4p׆[*VVPlRԏ?'v ^ƃπ gef'_Bbx6oܟ d-֩?$kosZP1kcx?d,ػ㇮z\eopWPnW`gq~R=[-Fٮ:>~HpW VOqHusfR,38Uߞx癷q=L߁W'<߾Eer=ޟ,IdCDqj7aO97b㰾o0j$*Oj'8۵׹p^y_GX'yօ@5ϳx]:wxBT5!=Qf9xU? ZLf<|`s{7yѻz ͛{O{Wgnɤ뭞d_q7Et{4Hduy!O]//XD'{2/NGɬ?>+^XO}V 7Aꉎ{%,eʓ𿌧 gB3ߎ`*\2eS//z}۟5O6\ RM]lD"򲠸{`O$ۯyfFnOO[zU8__gPt^I$pxV|l3yă$36?{wg׃(y Yocš[|k޽~b>xM#.~?yN B_vN/|VZqG{X4S|-Nw{BǞ]ؼTd3 ltGЛe{O ե\sT?fՏa DO8rp2+OѷmEUGf >MoZx5Qrq @q/> oFxKz0AzLC'dg*:3ꖗ+Ӽ-oOrx}f`O`MA:i\kgҿ\L޳7A ~x2{|MIxKģ{woE,wzT\>ڂqd,^+x먂^Ӄ#oo} PGiCzoaƛ|?AHy^V W< _yزm0{ Y@hK}x卫ݞ.vpK83ۉx<ulTy|@A~wwx=_n8',x>,2j_,ރHEiSɓ#x{o,8ƍMu6mD 'XvHdMh' ^,o\KEn.9y~9 go1Hb /U92@ pjrjNcSpޭ}qL7^KaF+Y`e.\:gufA o}<,F'qxll#1uƚAZlZy>drV[y쮾rq`<ǿUݼޱQlA:x~Ig? x,١&w׸=~ut:+_7*/׷xLh'ɎlR|!ۉ~*G;+^t@\SDl,]1DR7ϟ]⻵zs}"Hx=i5S϶exֺ^m>yNEjmRlw(Uuxmuw7p]UL[yG|]'S'0K?䫧C*}}O{fh~=`b3${c>`%9WM64#!Zi⯄ȋ}H*J TS+S\D=s78{{RAJg*w)aJ8AT>'FVϯKyg`LDR#+p>P, txD+iy;7dё?;sYNk'JR&OIʢWw,owʸpLmx>8Ӎuy`o6_,~$fDe;~uŇ[wj=q =Q;/XOu P^M`+}B s.>C~u.A&B-a 5wWHAyS1:QE=N+xC~n짃؜P? i0x`~tL~t-asiIT_-Vm+$iO3)VߣLsck's԰}=?ի{ G:`:Y2h?rr;'R [Á!>zcBpm~иf xEW`g}BT "3䶧)^@6ݟk o0fw M\>.7ߟؗ@<8_1CFb9ϮW2iۭjY{mz4k_Ά/ʆl?l`P`5?µ`g+ѿtKy _V8*tWϩģbO G-,VqͯT<߿vxV|L/ZA ?(@Z&62Y,?];oj_?x O*/? \mw_X*EP;7l +'Sp`:f ǾC5x#1i8Dlyr5o~ϖW}rȷ>A폡1͛5фR1= _c<89ܟʱ%L5,ޚ?m~DVӂg>:X6>F[Ouoexu``kAaJ td=ȁ-*<mPO'rxW,֟־/?X<=/F+^rt|}«FĦ:b7q7 n_{C>{ǻELUP"ׄz>C  PfN,<ܟ9_/usd''?}.^}7 :d~Q\-^Q/>_+d0to2/lx<'+ynYֿ?? M yYX5} 4n=\ZL.}ѸOxp 'ݠ5ߎBDpk|r(4&c!U FCsxtzx;:~Z~((]_7+[.*1/W'ۼ-3pbTŲ rx*ѧyK[B!T›397]c3">4O8nH"?S-^hdCWC/G1BG!e l )Vv ,TU0xzDhj~\k^+?auUξ;Qd)7"nķ{X7D؅o:9/+z`kzNTa d~gqV/_G?x _c_~:?q9'|>eRe('pݎN' Wx\C#zWk)qި? }X!X}{!SõBX1 ^QI+S WxJhobK+ި/||9xmWi* #_bվW k_rm-@|f7HBQ38_a0wl =j;vcj~._Lȷ%*^x:MNU.P=ן~cYt>Fݟ፧Wd*W.)sByϕ]f=5DKޓu~ʝ@;EŜTx */r'"5AaZj7fݠڜB0]hhC?ZGNÜ"3Êo񊫼BBms<{x?f>?Y'Y,u| 63o+xÁQ`3<㝞Kƫ#=>pb|*D|;3[p_a,ǑC LM臵xwnDV7F͟A1ш)~mc7ovg4h B{{~9Od<oKžoGٖNuZ]E Y%_9rD#f HA|y 4筹]d1s^ Z3_oo}?aAo&~s)﻾><3/쬗xP~,.I]^[H8;Ry~732/ %12u=|ı_jnӨ$}hy~ZE~ }p<-Aި_&|z^-fEg?CC.M4R)x.-0ZG߁:_XROݿo TtǢ_8Dk\!s1^̖gYz788x3o ${F؁uϪ<2)Z"|Û}_z$Y5 _|Ǿ7M;/@WaVaJtq.xz]۫헣# wJƻ e g$;8:5 GHaT>&e?(J>lo#++ڠH^4EnCJ}bh@]*>g/9[}?a*_ZC<P?AJ#^8G{g3߉aG?n}o_V2y %0x}P/CH9~h( ≅EZ<-S:.zX<7"G/<|~>mEq g\S|VN!wkM^cF%XIq g:IhxM7*Xܗ\oxyu|9zUMvKMg\U&[K@Ҧ_zNhTN.7O_ohPo1]vpxyx5}xK[Oysd}(N=G6Cϧj>xVjtq#\ZI%[5@j55W|xUQQ@ ϙkTeNއR"7afyceRѽȭ.4nK%Htq߯\<'771MopDwF faz@K/)%yJYS 70;q.Yjs,[<~ʚU~GkYnh%N_U ?^BM˟0T3lb4ղg^,/W<4޻o&F{Z4(gޱ(E6~5ʈIӇO&w__<@ieuAMϻk>cdW;Y7s%,A`>MN#SY9v,'te"y$Ǽ9޽xDV?[R~=<⾉R]Dޑ/_Vqg^dDoϫ~BI~ /2֚<` ϼTXUlBWZ_y{R*8Sq񈯿 䯤"yxCO;5fӇg6kҥV[w,/WU&޼:.>4̣TW\ϼ;\@Qt+g{0J>7l,2[7<|%y}n45Bnl2B| OFWuvo-uvQ]c׈%R *owzb)RQ<^J., ~d]*pD\=z;|Nx]gb,3F]7N;x?)Az0YGSy *l rdL'Lz@'<dy* AdJDXH>3s#t*\'x뮸,HOTz2s<9OSҕkט#끼//b S7c#?_k2t̏gY^ |L]g, h&CF0̫:+#TC/6ZmͰo7s xH| pJ|1Ə_ Uz6 bzHq! ;_ڛkDGn҃Or~x~r&{߳c]{kyg;¸3OՅceZ(N_|*@lڃ~+}| 8Q ٞ{hO]=/~1\4>NhDdDb>C~!ޜM/gʔi^$Q ?۲z}`=i?x>|ɶ}4nPR=Q/C6kުR-C~R9NB=' :#Go|Yl.1OU1\=`Oa,C}kJayz 0G&Oy}^=<#<#g΃Nbɯ ~F@Llyr<חi/h?sGaR <橵|y]SdAz ˻Ö%ˊ20 B#KzZi4?] k:W[2Py ޚ&i5xJ(̦x]z k3L߾/N/pxz0CG|@ߓPL ?);>Eפ|z<4*]b; [BA_yD|_ QM'"1 U+Ğ)ۅ}׷Za9OogWEof]睇^mCd}p'x_xI) Q 46k 7)WM`w^}Opn͗ q:%t1/>d: 1y߇^YnԜ3)Zkð|? ?v;i F}ݖ:ŷ׫K)|~t/ݤϏ֔ C_-@<.}9Ļu?'-zlgL!u}=9~% bHrէ>5}gS}X Oc|;T]u|/=k nW<1^?e:ɱ腏қyvekѴ%&M\/vՈ~DbۻT\kH"]2͋UI;rėh㓨rJ2_D\yh 8Zj>ȯXl:kÏ1 H3aWiO!p4 B/e% }6G<]5/dlT RszW/%q|zŲ>POkc~:@3J|Ǯo`d %-GC&]0Fdze~??_Xr/7F'#=joWIZg}`DNhܽ>'sU,AYcيAul=ػ gX߾}9~~X37_,0ӭi`sT0Mhۘќ+SXvd[Ť~gRLYdX|zhLEsXx|dw=_)d%ҡLw40c"J?}/⼐Ϙk6/EOh>яzf#GaJix#w3ϱÉbo%<ϛjx-γF>]`wٌ?XO?_?S-o" 1wUuyzʍ_X>Ϯ4]s;zq oZSniXVqئ~D!ʥ=s^09mxf _B%vZ4>G0'uXE̠_,\B;<;mWU/~!jfo<+`?0kI,TdfՃ,.c_gSKz[ޏ H~~_No4̻EWP?7ǙS )go?dzkGP&_NI>|"2{s49ny=?oy݅(j㙛V*q5/D$Ւy W*̖P8uptP CcB2̒DE4ۆR͒Χoxr, ՞oG.q-T<@*\q}>W ⼮yV%>X++VCq/R2z,ru`}^]K>?Ɇ~ongr59PB"b\Ãc3_F\/9Di`mxya<gb)-ϗ ϗ!R,-D>َg!Kd~*¾ {~c0l~Ajz*_zMB&p{^m~w6J&?8\VΘ_)Å=X<9\wۊ罙sMմA}Ucg/K|A2gg=ylD vw =|v"gҧ=kzq}(>K',x{lB {^*nFB*4i\25Wd+ő/ ?;-B5~?y_A\+33rëYvr!UV czS]͊n +1/D<g;0*wz<~D'^{c\#6fi\tJηi꭭/Ұ?--(~KLz Op|J,]*u;ߎ/}Ҭ|Yn(=#J*+'ӏ"W8x..I}\Kx1@>27smN~)t1%=u?@zdjŧ'0?m4^l$Om"$_+hΎg>"og^ζ>!dK Y5>`?L^\zk~#X${d~}OHzURNh Cs\3C/^w? S0'p)ox87w<יrl:i\AO* ϊ63 }z|^$$yPaͳ{=3I7\}Hjz>/wts~ޕL9w!n* ou o<>"clHs|"?=bT_6Ycg3O@yI}j7P>Ӂ - MmJS?y*ektOxNFr_YOFFc&~V%Op +I5nE_}tixk8qU"'g٢fmcw1ׯy.;a+S[~-Vwˇܥ=Xm<(՚7^7H8Yy~Yo"ݫ/ж 'ߦe'~>A>gVe[nݖ>{>KT~-/3Ǟ?pAG=?˭l$ dOE^Jy>-~ΫS@GQΦb'9 ?gyy~!=+^n@^z/~oy{A񜚇l㎧6y ?ϪDup^fé7F=\oUx>??co|T{ 82<~' r;>>S+G͓tU<'E9Wek@J ݷiV/C ʏx~qt^ wvi|PJ>B]ʕfO]oRd%2gPoww/֮pŁ eM #HI? oN`ēJeU<_oKu<)T+=!yK>0K?ڈXoON|t>?Rj&xq??vigiq^> NEV|2,3>|h- Xq[-?g$ӵXQsxs5x*46}‹j=:9/ѳVS@=@$lO~3]>cA2 (N@ Ky)2ƧE{r|@J mvM?_CI`Ȩg W'%Yx@|z뢒N]&cӁSi5> Co7bb% XbSּ%ۧ-qҫ4K2>w)aN48+O'Rcӏ>ux~ɖsB>^Ϋ"e!ǀ:. oAޛ!V;-puJY R/3K=b_tɑw;Q:AH[d2b/^*JYb)fB` /+gH'<8&u/(B^=px# W3z=Y^ȎpoWGF+&kuCL ׷vN%k]mxVl<h5Oo읣]v0hځUY;ވm1olR/`<`Rť2޷5YxϦ&Cƕ_WC>[vƦW ~>]N5'߯b;?Osc./O$7S9 Z/`<{݂K`O< vkЗx/ 9@R!eeU 8߭y\[Y.e3 g+IH'<\@܅=XTj 7k,Axɹem;u=R N_\hn5^4<\2#^i =H3>s!Y%!>RN%z׬?NEuYT< >#){l+2 JTdHcb__ceC4SH2, TĠ5֧6GѿH | (h9ȟ2*I5Jw spA)/fx+|$$R?p> .ã7Df dA|~JW؈ J^3B;5>Rh O,ޯ傫|? leX@?D+;9?+ qTx/ l9IF Yú-y_ JR%BNmxLPO5XB.Y]pC?uLD׼B t?7 `;o-OIJ? 8 w-Eg}.*jNWgX# q|Py/?p_|~¼E&I~oY\} _`yu<#Xޥ˅@<חL=Z2d 'u8<؟s?u)** '<\uA+~(2E~˄FMa%E௫yO"VKL y> `::+JwuTpaY4_^yKD7{w3ި ?qǫyZ\ \YdM^/|a3Po(E9j ^x@ˊK1dTw[UG `(<#{5*JBKQS΀~5Z'(_vó/8( 7 zgVL0/+xZ|3>"=øڌ~1+TpChK2#JezpAzWqf>bA{"z߾./ LTbR`ed)Wf(^ W~VI~c `ljp\y5sq`:Gyw e*\RcgX4O_G^wn(BeJ~])8ɥUn|j]It}Ϋ_x>EA5o2byee^ܓtσ,D胁Wy1/-~@pP 'IU5V/zy5 '+\Y ^],svnyXʘJ9"r6,U0 VỵX,⟀⛿ <>!'ۦ,5~$>zlP|!^ϞgX4ΗFa֯?y̗x?gփ |=~X<+tٌ!OQ ہfEY?:9qi9=d愙?oո_DCӗ!$@sJme;!? AU}ךf%G:+@P<2Մ9r}քw^9ǖxknp>!`c;1S<_I+ö?=ׅ>@n>׼%H1CLs(c%R|͵f5yg%:*>u󏕮z>wxǡwD_ϻ V_,[qJZO4p o7װ uT#ZCH}=EIs#JY6kZ?# /ܪA|UM)& Շ8 >*gӃ?ɺ2Ķ̐g>[Qy.\Dr 3J",@%֨z}/L9n➗oE$S=P_nyk=MO{yR4ωBv~Mb)$v$8w!G@x #ZzF?y]h4 o^svN5>_ڟ*ZqWх(\=ػ{آvxjQ,i ǻf8;gٟ*!rќ/t DduX^w^6o_'ݟg߿Kک^yWF_}+.8D} /7V)J}hxs};kn}΁1֨_'MgΓ2 hxw{9˻/uO`ڃwiZ l>yo:CԣӜgĥR=3D>x(Kb]Q/}|5u}}d;o|;*?_WՐW]$Iyk(wQ.ПjW ե|O?w_vntG}OXMGjO^\ʃC/MGߩpd\J"5_,w櫕T<$Ǘ|l= u}dӯ?KLHw9-K/Y*/C_J'FLE2"R61}Jmi}6T;My= 1W>@g߽~HZ= ij׷W?:Fe3&{@TbLDyX c*"CĤ@}65oUw5ϕPLsj}ɣ0Jde/z V 6TM3a:޹EcV7Jj ăՄlowl4?4Au[!u<nQecῧ;ŋw(-=xslXF  r?)N%y;#G4z3UDezۼ2/2Qo?d8 7|5RG_ 8W=4f=iw@@`X|" ?\Zy"^ ug2Ձ#? G_^Auދ0T_b_Zk2+4W'Y65yeRltrf‰xa3O7-ˑmxdyóAe)ϲB=BU)f㑎Kf<<(t`SK@EXcCܟB?Lz2e9#4<}wë߯(9| /ew!yNNjx\?>`_<}WN"_ G/x=>B=**̩_ߡ_6<jē//zW>/Մ/Pp!C`TH *+G{Gxrni PoZ >!\@Tj0C\yUF4_ پ.\97sz!_KHz?J(_OP灯^ID s H@yAW#$5g 9z.y#f}'z7y],E|}eV{9=ߟ.gAxvKcq :6BE,@@5&hoގTW)1RV wԛVfpDŽy쥥X 4݈]{&`ybs#--n};Bnhɵ 02yTzq7\qSWUYT}0n 3?~]ejd4x= }貳 PxGAM;߿w>,PǮw >Xa_yyN.H$.w"C>&d~{v7 9%t=^=棠YLRx?,"wǤ~E4嫧ET x {?]?\B:Ϛ,SћO?VTEM&{^܏{xEq{N==l Y(ͧ ē*N3R/Q1O|ּ 翷"ϏEgb'?,jިTe4ߝա/ VKmP+P&Y6y|+ AxC*x 9{. KDq-UIwȨ5;±=o)☭xBgn[L$ 4[}_ ZJyZ'G-Ţ5qyiyHo:iZD9I#ȿ]z~އ ǾENܿ,oJ_''QOJzߓHsn\wwbt|=}my듟ݵkXKf|*h kl}_ P2_;[+o6њ~݁դ/ٻ崕e~sH$.U6fŮVde? hEHlI&?N tI mhznLn!>{~g㼩kZjk xOJ/Gzqd&֯歁FY|-d.5-9re틿ڮ @o"Ǽ} kpN[2嵪EX-|%U*/\_;ز~NΧn[|z&'-+7Ç$0S}cskCout濴doZJ/'Xo'ʦU rp= f ICzFKg OFRʪ#|McڗGK}!RMU6vxh4"MC+(<((֜|/?uq1mE5ږ5D~k? IJR[㳻%\_ ȗ_Jp)~ ?Zc??!JٵAJڸR wmzz5<0LjOSԯ=@?ԋe-z~߿i|HD/K[%q ALV0-iu?<H4m3`z̉l)rZ5)-=UR?.?M+v0UK qwZm޾$Ql.OuuNξ~._No.3=dP ^4r# )(BWWWKNMJrR)!T-WjM``$6%?:;+R4z5Vץ\UT}_ofCW>yud"ߎϚ$+,7 /J9<زZ(.$;IPߗ1,ܴ 8Y*UM[,>.>NE9rwmE5+w3,OY>XO7?rXyX seLqh$GCsƀO=O^lWxI=ȚLR+KFdfXPi^4g7w2)Ke |.WW ۹.6o}b?:>o4:ȢU>ұ{oD*{?> jAosdJPkOd"6lA?ғU'XU~>ZKhK'#Eh@!_8h@K.0xmyHɽl!ը![|KR5'IbHFHrjHa(|y߱<>Q@eB{l Yꦥc :e_\uڭ9mFSNqhhAi60Fϡ_kS?cO/%LLlg1k;}~l9+nɷ۩fM}%_o:o<׺oxBۧkC킧[?*iƿ0?V\~`@ s@R 4(8Xջ])Pj*>g"fi^w.9{ @DL18v煦[`*ڌ칃`RJƸeXq!-*F3Ӣcy8-w6T#09?)} G'OE&ԤO.H=iB' Ubđf=sDe}63PqWO erf5 eUI-(n U]uxdv:7G_ZD\x _r!GAEiuIU6o>/:u O>cKXꖥÇc4~ʞkME>Ϯ'g7ã9-,\C|kPqzBj8ϧ{eHP*d~E.?<[sOݰ@źijk8قW(["2eg3‚eKb\%TPSC]]-L s[]Ocz܄3Yl*FkVw8ycZ]Jjy G{RQ'Yx.}Rb$Rp_dl|#gW'[55BDbV>5)^Juݴ ο|Yr<8 cx,g@l2"W_Qu#E7.dm~\,vs?Vw[AhM,0bOY"P˫O'T뛨]7s܏ވ=QQQCR86Tڠ3E |޼'0l_ 5Vh"]p5׳>8Cvv4Г }EFk0 s0E/x fһܢvb4EXV4 ~S/e{LbrIYƁ=j&nM;ŀ17{|aY)L 5 Zlh)o:6i^p#B `dbSgCX'&㹠vي`ݛ&֔9f*{' L,Xfc:SS ɓA1Z>έ&c̢ֆ ! 6i}CsF(&)yZ>Lc٘T*{0SQ-p9 S8 0;elrSgB+nr?)xbr}fS.ͱ=1p^@7/`:Wjb``&&(c{|x 5]36z~aIwlϗ?[BLψ !3ֈOlaF(aښ,}(!dA, TDVeIuoa ͡<y ܐ3@h9 Ub?tۓE7K_F[W+~Z w࿶__ @,P姏 X @7G0 6O ONj X`ᝍ!*JB!ƒ1[џ+LP7w9RyzsM!,E2=A0q('S&>?U'K3 穆4C»Fa91@9zzmβj0́e>NUYA!Q޼eIK(/1Xqaѩ6pU 8?l{6fW0뵲89t4Vb8[d+>4c렎= tx鬋٪#!E? G k!QՒ;.X@n[=6'G=EZ(_ T)eђ~q7 $.X?I)˪gl#glvHC E \Qj?zPKX`iex&w;YV4D(+ЗpRR,ݤWHU=Aa?D8-Ɣ 8M)NS;M<2 av0Fc0ƉaaDxf0/4H=.ϕJVw^YJ"p 7p 7u+,y™'y"L^Tn?'Eg[e~~j2U^L:Fx/?Ʊ@0iW`ᒐ)b,S'!579$a [1V CiEy\B$_O^ÓMFg_JRI".RpXЈk[*;Ief+_ 3]?_JjZ t&x= R-5e 7R`_޿Z9pb_ J&wrjk_kEEW_˻2NVB$UjTbiky?KSS]Ѻ 9E9$R <)BB,U?4/"A :D|Ow^-MhDՒ?I?w^"@ P `tmM6 P |v`FB@> 0>Ȳ蹄xmڨ&>ݸ j|%q!r5_z˶usBv|}Eݝ=Ϸŭof w) ^ӡg];I5<.MQ?VJߋ՚w?5j#& |D΃Αq$2r+r0w]yd#Qv?Ge_봚nB#/IRY]oF)%7ZE8C,f_]M,R\w9}j+ RjY.RΖKMwɢn,`qm-k|vK=g{cOh?Rk_O;I)@/zzٴ Z)X)eq~qaϧ~Y|eJY^ߝD'kYGB ܏uSϏ`wzg)U+>]-?Zm;*pi+0\v&(0[AS>l"?H |jv^A#UPq,|A}aD؇WtGD{Á8k,.vȂE*D N!DyA^j`zU*a7W RI.+2IDn`n`sKOKODۋ ,|ɗ4oZ^jߧp(bi,e1NK4p1%bWwzwԊpN}T['^;‹ W k$[<ͽpbpFy  2=@@!2t8*6佪`wŪy)d-insaAo8mT?}h*:5jym]~?k_]vuZ-x %mS7:|{T4d9`"z}88ӫ}Zȋ|~8g*PX0tQ&27CK{-f3o[?ZoL'Y5i֏l/7]= xŹ@-,ıcɺ8$mɹ!V^,i__Kxm^!@) }\ $J@)#r'(*PмCݕrl=b?1?-PWb!`P DPp5(ojXlf4J 匧7?jiu- H2X-l{vg(kj v>ZA",vO?k񉭂5>i!w#h9KH P$y:=A]h!ꀨ;<_T3j@ v#?K'T%_O/8N=kY~;w Nw`Pt_'_GQv١*7;xRKř\.$9s}>[C`o;4ct(rPQVh_#8QL{&VIБ";BI#v@:MFD1; j3{+ КU @РAd*EsP{&q?vKt_SOOrZm\,z< _zG~_#e_رOӴOE~r sSf'X"HI=ޫx/++\ԲGzSH/=ҫPGz#fÆZ]O&+HK82ءAGG!I1WAcq5]Qd49>U00쮏,4y;B)\%'D/47,bjWB-KAI@?'& &< pNfk'B`Pc}=6ֆwɲjU1Ň2I>b(e1  t&W=H6BwL@KPLlm giC1:.ʀ 1BuA2؀H1(nNbq"V+l묔 #:_нza e/}:rBr<+{u=Xc`̌?j.=X}G:F\x{-pz},P]zt.^؜k]f}Ͽ;MK4űvDq$CIp޾|PycJT5z7eתR gN !~B5_gl}t6 h>0b2QVZ>uzoYZbew?E[N5,/DUo>F,iL@z0Jps32r:An$xg#;B *?}7QQ.NPo˹ &ޡ) =8[7;gr0eKg+EGz'? V~#I-#\ofCNf~,O'oaaJ6Koζ3*W\R$J])BJXH# S7dV)1)}s'BD螈"<~/b6 6oXt_Ljz(iΧ?)7d@>Úcs?f/MireAeNK6݌@rx=6loX~i3ߥyJ+NVwjRsjӺ$ c;ៃ(ȪT9Bp.*Mɓbqrvt/3c1ILqz=퇞CO1~4[gj3Gk).K̀Mf%)_Hzz==aFoV=(OO'z2Q =.b>8_fť/RϺX7f` g.{Ttnٟu;(Oa7 ~o?빟c(s*T3'%oܠj|* o_, q# P! KIOz6 ,ФV״Hpgњx?/>V%ez}wR[dqhCIWXQ8'X2a.#g{XiЮfXb04[uBiTju! 2^70d=a4nSm^>'  UfcU(ߧ827)2JH3d*d:!C)<)1jL &P@qp4#&^lsS A] ͣ|Z" '_ӊ=sr++k j>"[~"!ę!,z^ !c+Hҏ izr=vz8BI`Mr`M}^mr5as{i9;\F#1wrKNv97jll`>~м#%T8&y!`&(%޲%ILfź1Ԩ5 LZ uͩba&<-R8ͧ዆ON0|_*ӞuQo>.Q IQC(KP_tRN=qؾp(ahĽi(,]uYg^y^gNז [y= J;&"(q2t2G%dnϙQ; ԉ?9 xȆl.K(=#J (OlScYQgsKo;t͝*kqQү>RI3fö)(!D]I)~bɼU[8%1%R$-D%f(a&dar`8ur%L-m>Nuʂ!_EI|@{K{SPΪY?GUVJLЦP9# 4buJn^#J0{@CYT%LΩy@M5tB8T]Bź ^#8-2){/sgR%˾eix8I6nIE2)DTb} ὋdiV[,=h4D\1{jO*gX-yji*`+h3S?`NBIM8V\-;eSd$3iֺb3E0^B[_Qr,!{be”dI)4CnQ6BR}0MvEh)ũwpS[k:& ܩrDnKJzd6wS[aJgdig " lt[RXi`5p-B pIn9CڕtĐۂWJ6Mo ®Ue8ñi\3iSr.(,7^Em}:ʹ N:5[ZV0`L(Iyi0Q}T"u,d >Eq9h6m}nk=v$06)Am)Km:g2yIiNmd3ҕB!9:I8)ZQvlŻ9UI$ Uf1 E* inW J5jaz^UaP]CC 'jPkKZ<9gNT( &_LUߓ<+TaZ0=G@rؿPΎvF(зƐ>Ъc(!E6L*b#BP E#[$BǠ];\}@w9oٜf~c?Wa}4[oeyAOMY$?zϑi?dh#q>3(i s`nWz@dw3}@kU zSg- EXIggy}"/Üd,A" !:\ 5}sϠSO3X`ON͛St0fP5W%Qˡg:1{)*i1J$2 2FfO øF"3{JӾoqPF?B)V IlYM,qfT*a{$I$_s ;O( r/4oaQ f@> Y9<>(fM&?\?>+3W@{u=tW@{u##@8 =#,P)}p|.>\^&ӽf%X;Jbo!b4PkRqj^×.IS՜Zuege&C fN A28ւگ&2N,{X`%LtB TVt:0_PUs4tPW SD!k G@Jc""@ŶE'X-@.ؔ@V6 |nAtX]GLVxZ>t]zgY /Eyarпlwb_76Tb7&xJ4F54k3i:Fd ©lC¢EpQr40VBY\"GZ40=Cfy*?mu9u,OO}oBM(,V]/SbUN}+sIyHO!9eXVGV՘Bf5,yƜ} 7/dž=? ˏ! ;mYD)jTDh䤎%Qu,uR{ؔ*KN@yJX2Ł?8$a&Ÿ>izڇq:S9;yTil"(H@ӃA M2z@F!xz2=HA@Fc 8}JHyȗb-6[ggX7f`=pTz_ݼt^@_7 Stn+a߂Tr=~`,-g j\+T/BKAUFNPI,Hk4@Qx^8X(\R~ғ_&MʽC ̇j*6tZ6Ygڠ@Yދti{p>m9ID4LsT^G^:S>ҾRlk 1TT?M(tV(5;r.ij3਌݉-[*3^>gv}d#`@ " %71a`A9Kp.9'xPdgB0/Ӄ*u(ו#Z.]k^nG"Y Id›jLƞJ:"Y@Uuaї'N!a4ŨX%T70mB/`;<",6d6:3BđDAb cј("tIu!:!kN ђ8 cbӐy4-p"m^"с5DgD,7@HN#L%fw;֖΅0yKcKg/$Mt-Zd%N,F3 HLqSX\JJ =ҕM^/hI'^x-|%c Xhb)nJN|NC::K ^8KMP]Wt p w]Cp+( :# My--z55`Th/D;Fzh&F9Czlth=4Z34C-jQ(LFR\ zsK90hmxsFM—X&F3_1pG{٠i|[\4QnWX[A ^E$(!'`"fT*ftwǀ@G NHx7 Ahh0:Xs++a? o'=#Zc p%\n~PZ'b4cQ)C O $c$k5j. 6 #֒7a76 %2iC`[K96XH7hoio JNx[^c//ƑJL ;SD߰ ? )˪.媔l Hcԟ&>ߡF N1 (s8[3l/LB G8)FP4h % Uq]fHtTnEqaC% Ѱ2&ʕT>ٲ:9gC< Zd_*9kX: جd7 )FlyյAT07 DȌ Ty<_(B_7ry6RPO0ԩ':0ЗNQ:LVhI@ l!ē*]RH@T4~))@ 9|aLǓ Ґ5&hlaPEG9(_r=JۉU@+Y U9ܙ N)ߍ 2ph)YeV-&a~G5 2(&aLbHvRcFD$KG~} C(wvPi*E4ӑ^jtq2倎]~)t3Kt{f sl]yyHeaFL08б䐎cN65Hwuy9c<Kd#\R:J12ck*ë1; TN:ToWg)(;ć2Jrq.R ZU!VY#t6Н4΢ϭ^%L|*b~*lXGqϦeim}/siG{ CrAK7F~xNw=y6;8ؓ< xݝf0}֋kޝ#;uщ3M"cuu[Sgr+'a~ 7׷ןRڌ޳?p)긝?wSsnqϚn=/o7|mlז+*S;?e/Y|ɲvUXRaMb~;'_{'7..mߔNn=mgS>~??>|u.TeV.;wW:=c|]O?v\NEݛם_3i孓,mGot1{-}[̗<. >xʇCK}s{O=TGb뉗.ro?Ͻu[?ty˧]-ÿj/ܼ]7̷yc=s臨]NZ~5'+[&|'n5~༃ޅKyӓ^s/]uh( ǟ?ǧmy}]Y>vֵKfs/};893wμlbq;V^{1.<@κsnRo&D'|nUd,pmǾ=v޲i?/8Nk݆{>^Îox μq¯=J>#|~G⋙_N^ݰuB?_5e/Z:q͜poܵoY=jsNG^xᅗdqws9|k׮k_Po{xѧW ,;׼Z{u//^kv2Ǧ}Ϯ8p:@pg|Oϳk}}#8f;Zo~Gq{=rކ9Oj->gL'>sݲ T>0w5W_ye< {wvoI\vN~ޓ;oPU}}Kv{=OX{9 7>d}S\w>xou]+߼G-]?no-;f۶zW\zZx畳֟ug`ɭ{wl:tϣOZWѰt65e’ս/]0Zqo\yҮG7iӞշ[zG]3'lx\;μ Bk?v8q'l\k~3k?$KZ*_w}ں]8޼ 7_VL&lZa+\}_gwܺq[CK+ޝ0k=RUUsl:_~wcc^ngTlt]Y7oiسMˇ>rg_1-ٝ0 o} v+>o_2f>rwUwUm_8-'ٺcwk{~<)#Oeι%֫W~_߷~a?{4YG\prG\|ﯧ}[G>tLsź|?W>5ppo}xu‏|;AkV-:r72h~uK, 7=_CO٧m{oiguG{8=ޕCa(-FdfOaٲ003RR]Km*-Zn Nm(T-B/m?g0T 3;9[}<)˫^XUKhLeOh5+1wJMfjÿYvXÛ7_|WV\y1/眷sQ DV>=ʟȹnoL&rD7u$T&o͡g_S}d"Wߕ>iUT{ݯ}d$wS׷jk6ܜW'of#Wi6^Mg]yȒ4>KzeD9e'߾h^4c[xTO*GK>ޙZq0nqRu 3qrNvP^*΁dDlè!<puB-zrYniwC*b;)ˏa@MO{,:ZRFj,R|qZ]6JGGGr%8G^r)|R#C^R2O,dxc.XpmRSCSޠ^f(}ct~ XpcYR ]QHa]&=iDѭQG;,ߤqpY57V[Ql!^g>#iVK2(ۼRk:cT㚦O7.c-E;#g a5FqȆ&gQDG4OyQ0R=,Ak -L޾ hvjƥQ+6"h+6,ݻwo̰ϙr]ɨ, ӿ/*F6Bv҂I:K %-$o#6Ij>?xy׳.oT τ*Ig}[̢]zJB -lnXC.PtYJ$:ԤI7eٸRR`L9ؐ,1X&^UdXBruGo1-[:92v"E'<%aM'(y?:AjuOmG][8x}'Dy2Eo/XqZE*d p$ߒ4sX>V!h'!vBwfinA'gm;L&d@$sx';}htfگ“:YtHHSm]ߑ#Qmny =mFI qػNs!L;vɡ/%Wwlh$cL{0%aGӑ4#LE2 *M:;o!&Z9y[Ws$FnN׶h`mt;ԫgNZo#^ έfCY܌Aˇ68TL-]uzGΈ庅IMnDy=i _J{{"]}$~"f|bC|i ٷ݊VVNaby@8*ڳsKlNRX8'FaF&xkmf9RmrRtKϥ#SRv(ΑMd/\&YUAfp顊GզiZZ3{S0~jM1mHYK>Unnt2k SNo>%/޷<_zù,;Ë(zJuVأ0QtJᦘ++n)eXqE*oFy,1əU䍧1.j4&[NP@Mqi ./Z; w0 eXHUIII`ލ6 `tN;xTs[^섯?|kg-/۟(dfޔ/ XAanocy4%de9(4߫!fU.z#ygM9;p\i檠W^pa_+gس%jSFڛU\6ducQ(%'qQ\b<n܂p\pj7N&ѣm^RUi +\y~L%}'LZb@m3J+U_)&,tjmf{"FUnVBعqB= )yPB""j9'd4ۉILѠ']Zs:d1.R9?[NgfNM6YngFsXtQ8'N!#Mfe]'O+ynLLDJ[rJ uZQzfe,o]m{<+i7o;߿J1sRVSQSY'T3,ꨄ& Nsq.fU+Z,S"Ac}JĭoyYĥŻ}"֍%/lԍF-R_sIQ7F`$ck%ǸE}7Z*oCD)adON1m|_1|S[&=`J✜9ZBҖm0_s%~MgֈN:&I>)U[v!DŽ-0P\lIm[wr=yKd7EĐsw tWg0tL9cvn/\)tw."jw-r-\,aǜ5y 5ciN^1w\J<ϽI6VBU̻sJɆ"(BuvYxq9|,Ыi*L ~,/ڎr!45EěŃL*~r𠴻R_2 Z{ėJmt:5pfy“BjOL4{SgVLxك5# -?AFo߷Sn 44X-wo=z8h*:q-.67oY7lN?!{ ؠ⸨VrUܿ*V/>Llc\UuLl.Ɗ]p2ƟZ;߫/?'9< pJ3 ,hT4h9Pe/$-6kL@vSSJY;>O5:^UHTfK;qۼU⃪N(=J,ƍx~nn0v*W/SLao}N(&\[?zHDq1; ږoy=WoWcAkkj;(cNY~fj=V_sI!mb%nEwi(s4 rޜUR5qrǐe%Llµg$Uf&J{nvh%"|քD=Wqв49'&r䍓e QM)l;zhbtyRr2Ix Z"ɔ@DS#K1c;~߯8p~'ݤ?V<: ~c@t X#PUog;B'Czn?UU#KVU Q 0lTUR$"ذ^,eXЩHH*xJa( ]X x>4阥ĘeogdڙA= hyBd!EH K‘'Ԃ t9y HFu |V 1s*8 xJ&I \8G1諪_/5Bd UpP?H#1E׸BT H At 6 K 0 OJ< $ S B1vDqH 5SSideҒ̣"!T*JɃ֏ ΀t2a~ae'Ŋ2WTh)|_Vg "Yg2U}M8Hd!u1m[ObJqQÂܠCAךWgplO!h?ٲp(f=-%j,5$ZMSS cE"Yz'ƩpSA#jvWW 3 jv%a5QQBpIGԛw@'Xd];8VZ{t:, ORRD2X]a ] ㉥93ydLeA `@wH!tN:4.{r{&x%y(OEQe8׈.)测Jy]l]y[<=j|6'_>aа`+4.c[ !Mefxp~.;"V65upAbOnЪĞ\س/Ru 4+uD8:`f.ZlVj w\X.[Ɍ tDcP/ޕ˶.-v7WFZ]בDd7/'<-tnes'rv/! n?\x SaaxR.:ʙbLoa<ٻA:3Qw* ݕAun(svQ7n{E}]͜`Atd=.ÆD &sEq>iQC@/E29*Kz3mC ̤].Ob\DGit~qE DdW p%+F w|Ql37 $O-tp kh@|I `-۠y\tޒ];@d$OZFbhļ]+VضiǜO_`L?uu/ũ@?c;vaFaFaFCܶaFaFa;@A `!}۪  /!>6J >8_C| `ѲnzoqPT n}haD#d 6RdLV P~9x501z^*¾6sB$1K*6-s? -A($xfǁJ?eq:uZ;:|Pp${r9=wG%@Ț' 1R<_K^pc* *O`xM4jO]?n?_O(9 I@CٿV:/P 0CRÉ:˵tcB:ʃTBn߬}("& 4eQ80<{<DKXo1o1ngBgGg \?)~J8 #чk;cqh,<"[hH'<D2#󘁁jGW%aPF0w)YOǪI+,OZrٙ|y& yNsL?_éw_ߧ󿆺:I<q0 0@Cyg8F_ yLaAX|S?}w 0<Dqq%8m5l]ɬpu%xYn0H`Ɍ惃࠻"pu,& B~YSS apehk`xP8u8g@en`_ a70fzCv쿰g?D `es¯!w8 th`t_ _aA|B#)?W&SHCKpIoc`A?0 *9Pg.2˰3BS3?BՌ !J}a OǧڟϞ!L_ǾӶ0 0 OC5~%{I~,n6#x%0wn @0$nq`6aǁ@Ɓa_q>m,0 #|R/`~V5;Y'V'V>z 4;~Ekwqev6(&|Q-AaU ;{o00pgJasD)~1y. we r)3`_cZ?u:A`-seK|) o=\ *aPuA5Le }itsWf?@L$ j,gI'Ƌo]Ӣ% .b"mlju;i> tq*i qM}w?q9Y61^w v`9gqR;[y0?]* >h"fƢxaJC۽}{+;s;)GR*PF!`PǪc5?}!_\/Iܸ;0WbzM%3P@'<E;7}hI<q0 0yY4 HɪqGѸ\4ϞԻ>j?H}J6>`K2` 06L$s;~b ;I? >c?@#_Gn)1M!gPs0ĝ͖Z_DM?`n I Fژu $Iy$`i?@^&If%o'm G[*OfHe?{t10] L#b~_7|<&9 Sϝw_Cswjw en`g a70s"5ٟaw΃y03Qw>}}ڰa_(/2?"iAȗHZPI~mN#]VM )aA$Dudz  Ek}rah隱!vvv0=1SSEaaI֖s&B#CoÆ??" Dk th+h3]Hh PH~'&0BPh?h\S k#+}׏{>`ygggWmH[4a,(ĝyw2Mɘ%eUbe;7,c!|7)?=fk.ܰ'ԘiPeo٦b V8{CߩY>#3sڧQº5_Zgt|b4А2[ƌ*BPm.]ҺdPjql7osZ髹>>>^zWPMji~l\®j)<ϟ݉:G:ZZȚ|0M4X>5j/{I;ܛ{G#H_xy|GǐKji-=^|"}Oy:4zKkV第,KgviiiO}|}R׿,;!] \GE<m׈BbNA(|oHH$Z)b=EPx"~*T-xQjbdfs;U`w9{?o:-'[*_r_T>qW3g8/'ӃO3uv[ok*3ӆKΝ:)&ئvJ}m>ps_"2/R'-| |]4o^vEwI×z WL#P)t!Pk+·lx5yӾ}i*>ߒoϳY'{OszjfVQ|3?0ӟm^1z{Tp+??XJ۝e)+nw 6+f,z}w#vٍVU{.f__6x]ڔyU{|ػ€B̠PؐηdSF?s[gJMtIe/LG>6~pfΜiaWܟleUvig.H-ޡ;6~VVK T`>of.?tI}^O? .N`{N IJroOGP.Nڡ<<<D}'lO:.6lXEatGZZZ#giree)da+m EwJ{bZwvb+\j})3%[g}_vlc.woCw<5;F/?_x4C X߯r0?Ol2. Xhui]'~cfIWNzFZEY{꓋]{YEq4K+ ;k\7'8ՄVxxZhHHSicW-^wXս]-w[Y6;=%epqR#m(o8J;\:͛9eK[);25ۯ5Xu? ߤzӫ%>6bĈln}BZfao)jk3Q[Jz%6yt)KW3E&7'O14&dZ({j#Q7- i{|?19xA?0VIG3:w>(P_ֹѼ17`Zd7Me݂̚sg8,]h 9献lt&ݽlϳ su;ܘԐdz궪a.fmz'˞޵\.w@)#OmM0eO)(*`ݺr7s7+9xvv%DabƤ܁|6<4l0OM rvxHɋ!S_p{<[~7/ShNҗQկ>Хza2s#$y κXtKrʘTxōJVɡSO '$[~S@QS&0;9z20_qv\ [xj$&Ey"cɽ?Hj?'gH_UubP>/Rr'bG;18v`0ec V;| ؎s"|  ڻ Lݜ#qDُ#qDp"[¿[TJ82GkDn@S+Zs aT`.ndӇEōV?rBeBI >-O Pb%rn"` zQ-Sbbzf/\&#bCHe(_i$b% "^ptttt {$Dzd7r3 8Grup 8#AH|$P?G7H+xc@p ˌLxx8&HՃJykC %(iwv x\P'M|TZ@!O){^cP` U`v|-Ep/ȹ3EO`O7bP~E+}D e@X!z*@g O{dyG3@YO@p:+ ܆@}0R*l.ӟWwh@56 t;>PpLMHlRBdg*~]>mHLuGvvv#w;Tsfو+t k h~B9|ɶbm>_Sr%hR\qe/߅8 eZNOW .I/WW`0-̬`. z`6( l.S= vL-\I"H:t  ۏK24;\C+F)}jz[ T%-rZ}}<v"KS߉Hm,Nڞ:]렽\[ᩝS֦3U%+no Uۓc,CX1 x }6gÃnP S{@+bɋC t˼[?]ԡQݜb>ڡNA1HH)\f#( 23dyGC&PxW.!r.{yxLC 9Hȗǂ~D+ "OHrЉyo03#큙,P &)+lr ]D\^!7PtT@EBVF9\,eDŽ" F!Xr!AT#UJFNA#Mevgd]:y;%4Z!RjG':awOsN?~+l`D7Fi.bOQ!52TkfVCPNSV2X&CM#{4HVp_HQ1P! \PޑQ)>Q$8x#_z$J@7:/#0JwJH B ;rɣRRTArXn*$0!'A jBi´Fqޚ+i!/DVYP]%z*YiBYcPV'\a4AGm|[IUZH+53G()tt O=E~K6Ց=S-Y@MlѓOEɷPzhAJUNjhYW{--)gENH tV4 nE LV4FB EVty5P*SDVL>b|(xVΤfTdÈn@>yTd Z\pEۊв8kNF6~۬#X2e i`4ZI@0R-%?Yjޠci3O4w=* A#“`)~M N93rA& YŢ!@]*SmN4-pC>-(vWfSh v2"z IW(ʨ "$ʝSBvdž#q.S"O{EMGMQτb֡^Ww$HǢiic5S gP($H!W ۧg,3f·7*jLBZu`p;*ʭTREaJbS* Syu-oBS#0um*9Uᨆ&TUCNJNUȁ EP7Z /`ZzrmBʂS6֬9Z٨' i V,ȃP65NEqj?\)79um*qf5SS䲰EEk {% VZ;X6>W*Elb B㤛D s'QL_'O1x0g=LkvȬ{AC|%[g%l43أ҅8dXm\mU{Ar"!'ȁWZ{ђlNYڅ~s VZ*Xi4i ׭9 Ik!'xt5(ϝx(QPۇdobࣩ}Q$ {tϷ'm m|m,YȸxIP ɳ V'XMeNs;7ZVvyEHzyԺ"k|jW|Xd0Sɝ`l[1蜵ԫ_CzM!+~W+F$7ćNW=n(HZ?R+3 r%$<3uwjrnnO䚵o4]KǏH3_Ӣ4vǾ,bK/9(+YS≮k|FV s[Y9䏳M,qU~:<W`c_N {۞Ut& +&g!v=OxOvUg2]d%LlϚiּ ~)2횹<۷aɅ]= <CCc?岊P>Q_p ]40c*fmBLjP֮*mH&;Uw(NZԺe}LJԠj;MN!c*Gv*'+-I BL>kTH$~s)2;{>0@ bo5o!$ddW*TY{X (W괦pFtEG9xQ߻v<6NW祤7K1㽙f/O_X)R6ۅ` rYw?;Vnd@R5)D}c#djXX*b"O@@p5.n03jYsQK`]dCt Tz:Gv# 1Dޭ=ӵħJ4rT @I']f8dN~Q(a*r+M㳜J#&컏 P_;ޑ8?ZoGu@oc~#9f肒[thg9T=od4iMi?tY.xKNch9lc}s/,Ý.j&^~9RzFTIrl퍽{!aĕ:TWpPnYUx>7%r#3E<*eUgLFXLy!;!p̷("bVªih$ulb" OEci~iP BDNY8D >$=e䆬| AoнhpXh'ͱ;?3ble˰4vOO*zK{8%bD^:Sٳgo[fG3/I-Wy\Ch6Yk%pkOaHVB^&UFiYY,]Z|;}@~f^g2w^t>`fbuXK;K`6IT SM%CӲ]" e4&; Or0wBkvQ|E%`BjQQB5h7y~WV2N\g}XXXXsO.NE(@sdtuY!Qw&sE%& )3n{V%-(ԋup P1SRRR=FYi;-I/\[ޢM3w s9awcvI6 #MYQ<]^(ٰ[z.2JNPӶ3usmm#<ިHĄb.9gǂCJgk=P짉p[Z'KC2 wf{ӱz_둉7}0bCOv'vq83K+;._V#ѤH8hR< s ëm:svB(LAzR= s[+yTt_ҴzsSĸDom_GՂpihbXBjqr{ّ1#$GvjUOj{&%7߹g@B*jҭ@KaVQ.2zpcbS0=z~ 0D^JDi"_+ 6iF(1_I3Q}˲-Ey"ĻxřUAr{ t9|,Xe 2KÒYn:dϰB֋fģt-pu*vУ,,Z^MEI;aLm>XoPKBpc/w|OFj`Rwɽ[;OCs 9J{&= `Bs7)Kl|p);NÅ{7^"oWJ\,rxQۦr/u VU0^rż^<+ߕr^lsfeY6sewd 4逸Ϸ*丆 Ip4O1)X#sx-V9|sjjvwހJiF_+Aeڷ~wnjN O@dۖJa:= Dƿ$5R m ?Uko~ٽx+DNFMqBKܷi6fuNgYDcyЉ|+fbb)ieuEzD{g$A| u5 l%ݬlLg`b1AbH\ԕRLAg|~6lgF'\49w\b<_r;JKq_ڪPd1K|Gyg$wU@23l㔄x9p)!"5شМ >z7,2k 8aoJyGDuaB#b.ޡeқPQRc#QRԼ$hc"\GM+ͪ'"IyG h():m|_$r4=%G*@cud? dVS2964"ǘJR>S]@v3yy. oӅۇnVȖ6F]o^Qi8^'98' SڠeEc7',c/ ɚp=UqD *xW) ϩ:[AM28V +5\lh} ǀ+[ A`axqxU c CF툫oTY|DUXpNhwiiOcש<:H9z}:'R}k8HȢF[ړZԶW䍝ުM4es qgN>W/Mݩjf }qd,7!Iy7te? rvNJi)C(n`GY3#-1fAހ!3a XmcSe_YXyq^&+Qsb'_qvu ՟:ݖ4$N^N?'XB0Ba3$`yvq7A-OY2.;dO$w5,#zM>t!v;A8 ҽxtn;O-XDď,Mn}G_KCf, J>"t վSr,O ~2!oΏ BeZ ^Q"JnOe *@6p Xzr#%‹wW߿o>8=RAҬ7'gy_(=Px]hիc^GГӞ(M֮|ë]gG*OO- W >v6HWZ*S RW}8k 1:+4re)`2n3MzNZFZڍWj 8)l0=C+٪X<"J;[%xFf;;2H4Ŵ~2zPgJ[v`Gt(6 ezeIpCL%VʢrTdl:; #mNf2di^ޱy0}2=ŷ Э뱊p*!{_>V{&x恪C5;܋KKَS @ۭ˪;UU<)z60,e4%;RayBM㾝`kwKw?$1VUUUE+jlF"P9=b:KTjYEI߯⧋(r2ג{qD)Mkn&:x ;PSnBB2lV[gǘ;8hmm9ںKdp\#U~;ƤX|@z8-}L̴˫ٗLcs 2o# ٽАlPb? uƐ3wrQ,x[{J#z.{Q3YU}ӎ}-5Ɋncga1 RYƵ+w8/9WnEJblvվOOcͪN*#M! G&zg7Xg-T?%lɩW*RRMiw)exM}g ٓVG-=}JĊ[e׈ oZY{2}ֽB+IvZ7G-kG-1+&w5(VsXSHzq ^=NYew2"Q$BvyTE9)UbOdE<8AqV>2W>q q \=4䲲B;?R'G;3QKc\*C}W+&꾇]P.OOO?+>T&JlӨV1ndva>B!Ҍ +z;VO1щM>R=ogl3LYok\I]fmyʗs G;9čC&]W㻄|̀&NR8O>SVQhgDA@ig^lTI'IVvƊjGGJ!1sAɤ eX|ըق;H1+&R%xU(FG&w8,WzqҾSv<˨HgI\9} [P^~,}/l?xm? Э!?]5so1_ Cnп rGYp/ɿa(#H07 Q7꿋 7_a~! P/a~W7.[cxyTG55E0p16L.` 9p;{tm8jc+^@|/d/7'|(??~|N36 u@{ؗB YnwM{'.e$#j )j[  |d+l ]G- @/|nYo/|?v@hx_]'9"2odq jQhQ |Cfn43 ?i C([h˷dYu-P4Kn;42] PlmA^֜6 0Cn~O2 #%~r|>N$F?:aZX8v ʊ`cq[$t͊n!#[  naAYQee@$@n:]G@h=KuA7#90֙(j3;ڙW2F5 L0sr- Zp6qsL%m Gxy@ØzL&D|9dD`"@0 ]I(&_XбB>eئ~X/. Nf>Of(v[}k.pHtxG,6=Z^m/":y~G/1}7fI۷?Z47hקZVrI1%Ry=$ l@t@X3 G9֏LP Kל"@( #GMčVC 裱o 3蓅ˁUPZ&eKo0H0rc¶?C1IwM ff hQ6kfFah o,`{''{dÖ Ōg9v2pc@ ;sVNe\\0[{7#n_ݛ&*2nz=cr,_+9˺3 :|;wwvLU#7N<ȯ7&<|0;Nk $I[)P;x[sC1!;}vg!/` oݪ aO~Oq*Sƥaipǭ5QS }m?_`kB]ovWQ_% 17m|gnė?J?ٜpnycg[?Y#~/ `0 ?&뭻1;1;N2a_q G;AFaQ-2K0pxڎ؎DחI; 1c3061w)cØ0wMЦc;&"O{\o)&O~ݯxq|'KΟ!R?Jc|\G`h< _NǶ1rZ7@ˢ/EK>n#ǼzsP!`_ = j'ϋx\Ev~t%/'uEA2Le?IWoQ2p)\¢ukd@GxQb@n62C}Br`,t.+Cw6tS1󞋾+"{!QɳJ#.^۽`|e^axMMt%Yq4L'q©SiFOOLOWRV>-Ѳ_APɲG ~j~'/R߃}qtiDqHѵ幾Jk)[:|ʀ3yahh-eqivIՕ9JL?͌DL8*iII(} ڵԧ>{|WK;N# 1HF@rF ׁ'jlb7hǿ""hxTf+/?XKsvG2^ug65໔4762 㫼3R֤LGfLl`m繑J| ˸@n:CNcP=:nZ!c$Ҁ<"x/*н%=)9ٙ ޥy9 Cœ˼e7x:#ٯwۃ4ȦMiu4 6x}Xo\Vv5i4^2\1ZQgr2A%s@Yh}aGWٸSB0vt9s7WN0@A`iʽtSlx*b?GXaʇy[{}3ڪR U34vgGGGkz{K{S$X𰀴4sDInaȓMrís\C M6^`߷a^FĶq:VGtYW[Zy4ŕZOCS`&;pÒ҉N1On6=~`{'>.p[zCϸ5MrS5RM6>1.3J譶9"8'{ 3G0&5w*%gVwM&px3Ǖ,qq!UAq=>ZC/~~i:jr6:ߡ(_J^:Ң\XߧLԏC`k%F^+ *[:onuqO2ϳݐ_o=D<`b/%ex+AexH Ǥ 3=5D wa?f3<ԨsckOLaھ^2f"!.ED RH@Vt]Iwh$Fܩjt@ ZcvЩ3%ȭ8MY5ԘnwΓ+]!i W)X?O>ylX'Ay#%[fPTN/oF$(,,Ƹto7:$v4g=KG0=;n>ӻ1CYD!zb 5k+#i Xdp]~P3T ¤yVyի ՊQi[ⲱh׭ 퍮p~yzꏊQgy^gw+>Lz:'PFzuZ2QU&C./ze#4JKAÞ{MzE1r=|x:\Њڣ%=7J؋pq3bes=fLn_?5UXx] "MJ*L)%>qǵ }ӳԵn(ݻ+\]?83 0Ac'm*غs=lX4H w{<Ʊ٩e"%p}\7JgB"V{D6}Qfx$4clwm iϿϞҢ$+h\TȄ`CH?Ĥ;1#cGN1ʍϟi:#)Jzt‚zz!mFU:#V!&9r&1núqqqוJVY SL!z 6ڷ e]|w<ӽ|h3'3t{O3'066jO0ۣ= .U>q?:{ExŅV$!10su)!m<5E@AL'b&~(O+%Xhrj. iJĵd@tZw3}M@o> K%KG wf/o?Q3˪Xp_gMui|\weMs ѻg@ŷɔ.fM==o>͝Be{ QT: VT Y_Jp9"jQu4"n.>5:[VRեhh:}΀~m}.)Ҕhyh\$&r la`-V@ V܈ s*yG `PV^Zރ2mJӷ3~y's(w )8W͊*V!Zym\Эzg{S*L;͑g+ J ~5y m.#$#WzsfDLL_@sG1x%Ʌ}d̰Ed)=^5{][k`,qwhv>jdO&aZpUζ*:^8 l2ʯrNlyYo䅄b#.UJ,JS{(=N#SRGrh#M܊87>hpe }JY;&TCΏeNҮ&ܾz(`PIiɷ2SsF Gƫq轑~F1mr7{Zqz)%}uЪW1q:Kx*%9*6^Eo%գzظxyU*TOh _iE(ֆ%e#%A,N-Y94aMO_aeX=r?Ӊ5o7 Yӝ_Aΰcז}^wQ8Qzú]E]9[?W܏XN^_ޣ+2ppPZE/k;,w}swN:V߽G[jJ:MNog&Y|hH7LgԩGXC0FX޿+Tgx8X$"lq{Q8ɻ3^Uc4%quE{7 ,Η"rc"&]>-QcO"(@ƴ}7UtHѶ8NVMPM+ GN[{P*ijd$*lw?NJ4Т\Qj,Ʊ%]Ƈ%ۏ$ "Goe-qȦAf.vMhM;b(ۆř?ڰc1v瞁W͔ٞ˻BX˙ZySrөTiQy__Yi-ԯOEȧȿ iXNKG=`氊v0(nF:@EޏuBҞoC۷bP32ۜ^0{fxxXc0#Ԧ)tEѤii\co%5|93>qTfCWT<ӗ{NbDNQ6;4L&1A~W\V.r`Z%1J bө0?Zż}{[X͵}BBbh8.tVllljuRp;:Co+t`̴~Vp-PBw kR+ (}}% ս1:$!ga,4ZmX^8]"lneZ}JXdE[W|sss^&AeG>`.6#4 oV/:ɲZbHBa/C|h qggk#8RSa 3Ǝ褚T;>3Z7m®lbt 1įj34g?x 'hWmWYػe:ܰbCmD޸~8Ǐ9~mVjv+.६LMfec#gNc70jƹ}3%L6n&mBq!kAةMC Ǭ&4m!%{y޴3@56Q/Dutt\\nMJW1*]{m'p"S5 E6þc}ku=@t5Tnk&_ޅF*r½!ѻzY)ČB}yaLԫ}pD|bZꊰ4TwZ*&CDtbJF)]yDkW^yㄘP[w]2Vty Rt7 ZntG#{8C枵v1uѓwmyƶ=D//%Jk{$?FLz^WD픞gI^M;.,0,410KyxJP<m B}X*;c;kG|(k|p AG\]Laֵ{`UKw(&rk7{wOCCÄyY-Wⲫk\)f_߽#(C2MRz݋7uxeQx5vطzhe^QSZln>ڸrJZ^IY!8[\ LJMh@S.>0񤊳lװ>3DLVCɭI+1ûn$z 7ƺktS`|PPy-vxFӖ 6n-Q_)&o e5XJ[:J9^x11HnhxɟZKj?9uY>sJJJf-΃YIB*92U|d=zo<{y1[ 9[v2->i i\@WL@!osPW:;;J!`'| xH2ʌc.zRSS}i4q|܊xo[}ZRYuD!:1@WҼ6zvfÙN-~AWp+o̭}&g~hsO{F/\Ƿh?7%k}u~9w9w9w9w9Ǣ~Ɂ ?9)/"z_ "p_` _e WTPma]"HK_ =܂"hхr aN.KB|eT򣟐oaek{{s_S?aߵo..~#ο'ʝ?KWV言8 %ǡ(QA. !X_\F4[EsRN^#GR`%/$ny ~݆y/H2CZdc1G <āAl ~ YZ&IA>(ǮD'y惂g7- O}Qඊ)3[,8<ٙ[]fO2U]tY ;wߎYz߷T˜ZϷU;{l:xjc16L8 JPU&oIW!X('kZV9 +ġpD 7[) ܜ=v8{D`}&S(tQpbV"xte3uB@ -gOU3)$P3 cJR=X f zg/a0}p"h4u}s\-sY!JDz[ߘYŲ'_mYߋS+YX \^ YߎYz~E_DDe:'I?Oܓ ΅e'LTi5NGk"n" (rdMdV@EpQןHV~<geL>bd.@$>p75ǀGuwvuڜ#u T7!@wCg,v "ȹ~ ` J'--m}  JRV R1$ՖRS8 ܎rr^̟ " 6q(///T_J>[5+ 9+E0 P89Ck>xn?|P"@o PӔE|Nspm?}sL_"B , \r `3-g[ `_qT`3-g[3]#3.s=l9ol)đ?/X?O_QSp}QKK2l}:; D |LAx 55~>g2..wv[1- x޹X@V0Wټ/=/91sx]#rh<)jbL`C"\kg?Z\~Ypд[a0 1Pnc sgs$ְ h$pWƛa [J m ,QK , y߰b?$0A8/QN>s|BV)pYc;>UJ%o <|2loic +iD6xAd"٨RdCNUrH˩룠>0)d4  hLFCN]ϐy#28J 92R vYeRn(Fs=BRΆ;mdMΒuc'ZIYگh0 }Jn.&:gO| Du,(C:q`{tk8q #l61%5J "nMD,$! oYn I ȸ!  a(L&s)\WmODw-VvX @D dwH+q %ޛRtgV]wkɣ߯*)G#j9؈ʹtbGuwZYJ#ৄd? ُ#[=856AdId}j2O/s@0%tWb0iL N[NNJe~MwlsǶ64CӀaGzQVL=Ѐ 0`0`Andb2mk3[PwTOZ/ܴ}!3,ӎ~}:5~d: vuJg.;vY~y gL=uGon>}`3fQ4BadE?9t}> K~Hk-cj $jYz|q=j<.6 BRUO'M8re}<>[k U l }z;t6imoO\ڶ ?4[۞|@% QnݚSU'˝xPWEs| WAxtf^}Z5f;da!!HěaCF |Ov|[Gfw{ 5]|,oX~-\Wu%o%ZE4vIou~ߙbi_v? 2" 2 `" 2z D `c@p9@dS9ѬR|)>Pe/+1_|x;f/gL9y^lxijgFaf+39hszP(8 _>ǻHz<, =Kw8\Jd\}@r^0yhs/UɮH5.rZn=􏋯8ԚG߹qh* wyޖh+@-\/Y2ψ09asGB}y/+Y2]=˹xŲǟn>IF=U-X3\~,d| #R#__ʝHw|{4Hwkn>]g4`@$ F" /|XOBwCNbu&` mze>_uؾϴ@Mt:l_:%s=g͉jYYJ;82e90=b5I/3_2Bw-VQ^ $ኁfr& gj(UR,–jErZͲu;]my>}8BڇLЭE v;ff UB .CA:x{ 1VbY;SkzKg-v200``[-F/ =@z lW^u3@>|up]r҂˥+Ho!Wi.!)H?YН31$g0m 7ѶFG#⷟'o?.*6ő `0 `0 `0 `0 f@@