Package: simpleSingleCell Version: 1.33.0 Command: /Library/Frameworks/R.framework/Resources/bin/R CMD build --keep-empty-dirs --no-resave-data simpleSingleCell StartedAt: 2025-09-23 13:09:13 -0400 (Tue, 23 Sep 2025) EndedAt: 2025-09-23 13:09:46 -0400 (Tue, 23 Sep 2025) EllapsedTime: 33.0 seconds RetCode: 0 Status: OK PackageFile: simpleSingleCell_1.33.0.tar.gz PackageFileSize: 2.741 MiB