Package: liftOver Version: 1.33.1 Command: F:\biocbuild\bbs-3.22-bioc\R\bin\R.exe CMD INSTALL liftOver StartedAt: 2025-08-15 13:02:14 -0400 (Fri, 15 Aug 2025) EndedAt: 2025-08-15 13:02:49 -0400 (Fri, 15 Aug 2025) EllapsedTime: 34.1 seconds RetCode: 0 Status: OK