Package: liftOver Version: 1.33.1 Command: chmod a+r liftOver -R && F:\biocbuild\bbs-3.22-bioc\R\bin\R.exe CMD build --keep-empty-dirs --no-resave-data liftOver StartedAt: 2025-08-15 13:08:42 -0400 (Fri, 15 Aug 2025) EndedAt: 2025-08-15 13:09:39 -0400 (Fri, 15 Aug 2025) EllapsedTime: 57.0 seconds RetCode: 0 Status: OK PackageFile: liftOver_1.33.1.tar.gz PackageFileSize: 4.374 MiB