Package: timecoursedata Version: 1.20.0 Maintainer: Nelle Varoquaux MaintainerEmail: nelle.varoquaux at gmail.com git_url: https://git.bioconductor.org/packages/timecoursedata git_branch: RELEASE_3_22 git_last_commit: 73ba2a1 git_last_commit_date: 2025-10-29 10:02:47 -0500 (Wed, 29 Oct 2025)