Package: scanMiRData Version: 1.16.0 Command: /home/biocbuild/bbs-3.22-bioc/R/bin/R CMD check --install=check:scanMiRData.install-out.txt --library=/home/biocbuild/bbs-3.22-bioc/R/site-library --timings scanMiRData_1.16.0.tar.gz StartedAt: 2025-11-04 12:54:47 -0500 (Tue, 04 Nov 2025) EndedAt: 2025-11-04 12:56:38 -0500 (Tue, 04 Nov 2025) EllapsedTime: 111.8 seconds RetCode: 0 Status: OK CheckDir: scanMiRData.Rcheck Warnings: 0