Package: scanMiRData Version: 1.16.0 Command: /home/biocbuild/bbs-3.22-bioc/R/bin/R CMD build --keep-empty-dirs --no-resave-data scanMiRData StartedAt: 2025-11-04 11:41:21 -0500 (Tue, 04 Nov 2025) EndedAt: 2025-11-04 11:41:49 -0500 (Tue, 04 Nov 2025) EllapsedTime: 28.4 seconds RetCode: 0 Status: OK PackageFile: scanMiRData_1.16.0.tar.gz PackageFileSize: 16.14 MiB