Package: rRDPData Version: 1.30.0 Command: /home/biocbuild/bbs-3.22-bioc/R/bin/R CMD INSTALL rRDPData StartedAt: 2025-11-06 10:56:32 -0500 (Thu, 06 Nov 2025) EndedAt: 2025-11-06 10:56:42 -0500 (Thu, 06 Nov 2025) EllapsedTime: 9.9 seconds RetCode: 0 Status: OK