Package: rRDPData Version: 1.30.0 Command: /home/biocbuild/bbs-3.22-bioc/R/bin/R CMD check --install=check:rRDPData.install-out.txt --library=/home/biocbuild/bbs-3.22-bioc/R/site-library --timings rRDPData_1.30.0.tar.gz StartedAt: 2025-11-06 12:56:55 -0500 (Thu, 06 Nov 2025) EndedAt: 2025-11-06 12:58:05 -0500 (Thu, 06 Nov 2025) EllapsedTime: 70.3 seconds RetCode: 0 Status: OK CheckDir: rRDPData.Rcheck Warnings: 0