Package: rRDPData Version: 1.30.0 Maintainer: Michael Hahsler MaintainerEmail: mhahsler at lyle.smu.edu git_url: https://git.bioconductor.org/packages/rRDPData git_branch: RELEASE_3_22 git_last_commit: e66bd54 git_last_commit_date: 2025-10-29 09:55:46 -0500 (Wed, 29 Oct 2025)